BEGIN:VCALENDAR
VERSION:2.0
PRODID:-//Cronache di ordinario razzismo - ECPv6.15.7//NONSGML v1.0//EN
CALSCALE:GREGORIAN
METHOD:PUBLISH
X-WR-CALNAME:Cronache di ordinario razzismo
X-ORIGINAL-URL:https://www.cronachediordinariorazzismo.org
X-WR-CALDESC:Eventi per Cronache di ordinario razzismo
REFRESH-INTERVAL;VALUE=DURATION:PT1H
X-Robots-Tag:noindex
X-PUBLISHED-TTL:PT1H
BEGIN:VTIMEZONE
TZID:Europe/Rome
BEGIN:DAYLIGHT
TZOFFSETFROM:+0100
TZOFFSETTO:+0200
TZNAME:CEST
DTSTART:20180325T010000
END:DAYLIGHT
BEGIN:STANDARD
TZOFFSETFROM:+0200
TZOFFSETTO:+0100
TZNAME:CET
DTSTART:20181028T010000
END:STANDARD
BEGIN:DAYLIGHT
TZOFFSETFROM:+0100
TZOFFSETTO:+0200
TZNAME:CEST
DTSTART:20190331T010000
END:DAYLIGHT
BEGIN:STANDARD
TZOFFSETFROM:+0200
TZOFFSETTO:+0100
TZNAME:CET
DTSTART:20191027T010000
END:STANDARD
BEGIN:DAYLIGHT
TZOFFSETFROM:+0100
TZOFFSETTO:+0200
TZNAME:CEST
DTSTART:20200329T010000
END:DAYLIGHT
BEGIN:STANDARD
TZOFFSETFROM:+0200
TZOFFSETTO:+0100
TZNAME:CET
DTSTART:20201025T010000
END:STANDARD
END:VTIMEZONE
BEGIN:VEVENT
DTSTART;TZID=Europe/Rome:20191008T130000
DTEND;TZID=Europe/Rome:20191008T180000
DTSTAMP:20260422T021035
CREATED:20190923T132700Z
LAST-MODIFIED:20190923T132700Z
UID:64547-1570539600-1570557600@www.cronachediordinariorazzismo.org
SUMMARY:La salute mentale della popolazione migrante
DESCRIPTION:L’ 8 ottobre 2019\, dalle 13.45 alle 18.00\, presso la Sala conferenze “Anedda” Assistenza Pubblica\, in Via Gorizia\, 2 a Parma\, si terrà un corso organizzato dal Servizio Sanitario Regionale dell’Emilia Romagna. Il corso intende offrire\, agli operatori sanitari e dell’accoglienza\, strumenti e conoscenze utili a rispondere ai bisogni di salute dei migranti\, promuovendo un approccio integrato dei servizi ed una presa in carico di tipo multidisciplinare e multidimensionale\, nello specifico in favore dell’utenza con disagio mentale. L’evento formativo si inserisce nell’ambito delle competenze e attività del CISS (Coordinamento Interdisciplinare Socio-Sanitario)\, anche finalizzate alla individuazione e gestione dei percorsi di cura ed assistenza rivolti ai soggetti richiedenti asilo e titolari di protezione internazionale in situazioni di vulnerabilità.\nNella seconda parte dell’incontro formativo\, tutti gli operatori della Salute mentale che hanno esperienze in questo settore sono invitati a intervenire con i loro contributi. \nLe popolazioni migranti sono portatrici di peculiari esperienze ed aspettative di salute ed assistenza e necessitano di una particolare attenzione\, oltre che di mirate modalità operative\, a garanzia di un corretto accesso alle cure e della continuità delle stesse.
URL:https://www.cronachediordinariorazzismo.org/appuntamento/la-salute-mentale-della-popolazione-migrante/
LOCATION:Sala conferenze Anedda\, Parma
ATTACH;FMTTYPE=image/jpeg:https://www.cronachediordinariorazzismo.org/wp-content/uploads/08ott_migranti.jpg
END:VEVENT
END:VCALENDAR