BEGIN:VCALENDAR
VERSION:2.0
PRODID:-//Cronache di ordinario razzismo - ECPv6.15.7//NONSGML v1.0//EN
CALSCALE:GREGORIAN
METHOD:PUBLISH
X-WR-CALNAME:Cronache di ordinario razzismo
X-ORIGINAL-URL:https://www.cronachediordinariorazzismo.org
X-WR-CALDESC:Eventi per Cronache di ordinario razzismo
REFRESH-INTERVAL;VALUE=DURATION:PT1H
X-Robots-Tag:noindex
X-PUBLISHED-TTL:PT1H
BEGIN:VTIMEZONE
TZID:Europe/Rome
BEGIN:DAYLIGHT
TZOFFSETFROM:+0100
TZOFFSETTO:+0200
TZNAME:CEST
DTSTART:20180325T010000
END:DAYLIGHT
BEGIN:STANDARD
TZOFFSETFROM:+0200
TZOFFSETTO:+0100
TZNAME:CET
DTSTART:20181028T010000
END:STANDARD
BEGIN:DAYLIGHT
TZOFFSETFROM:+0100
TZOFFSETTO:+0200
TZNAME:CEST
DTSTART:20190331T010000
END:DAYLIGHT
BEGIN:STANDARD
TZOFFSETFROM:+0200
TZOFFSETTO:+0100
TZNAME:CET
DTSTART:20191027T010000
END:STANDARD
BEGIN:DAYLIGHT
TZOFFSETFROM:+0100
TZOFFSETTO:+0200
TZNAME:CEST
DTSTART:20200329T010000
END:DAYLIGHT
BEGIN:STANDARD
TZOFFSETFROM:+0200
TZOFFSETTO:+0100
TZNAME:CET
DTSTART:20201025T010000
END:STANDARD
END:VTIMEZONE
BEGIN:VEVENT
DTSTART;TZID=Europe/Rome:20191115T000000
DTEND;TZID=Europe/Rome:20191116T000000
DTSTAMP:20260422T034113
CREATED:20191106T110534Z
LAST-MODIFIED:20191106T110534Z
UID:65173-1573776000-1573862400@www.cronachediordinariorazzismo.org
SUMMARY:Persone Migranti e LGBTI+: diritti umani\, vulnerabilità e intersezionalità
DESCRIPTION:Si terrà a Trieste\, i prossimi venerdì 15 (pomeriggio) e sabato 16 novembre (mattina)\, il Convegno Nazionale dell’Associazione Avvocatura per i diritti LGBTI – Rete Lenford. Dal titolo “Persone Migranti e LGBTI+: Diritti Umani\, Vulnerabilità e Intersezionalità”\, il convegno è organizzato con il supporto di CILD (Coalizione italiana libertà e diritti civili).\nLe recenti innovazioni normative in materia di sicurezza e per la pretesa salvaguardia dei confini nazionali sono motivo di preoccupazione per chiunque si batta per la tutela delle persone migranti. Quelle norme hanno rimesso in discussione la tutela dei diritti umani e reso meno certa la protezione internazionale e il diritto di asilo. Non si fa fatica a immaginare che\, in tale contesto\, la condizione delle persone migranti LGBTI+ sia divenuta ancora più fragile. Uno degli obiettivi del convegno è rilanciare uno sguardo intersezionale  che aiuterà a introdurre nozioni quali omonazionalismo\, e omonormatività. La protezione internazionale per le persone migranti LGBTI+ rappresenta\, infatti\, un esempio concreto di come un’analisi delle questioni legate all’orientamento sessuale e all’identità di genere non possa prescindere dalle costruzioni sociali di razza\, classe e genere.Il convegno sarà articolato in tre sezioni\, dedicate a un approfondimento teorico di tipo intersezionale\, post coloniale e femminista\, e vedrà la partecipazione diretta di persone migranti.\nInoltre\, a conclusione dei lavori\, il sabato mattina si terrà una tavola rotonda che vedrà protagoniste alcune delle realtà associative impegnate a livello nazionale sul tema delle migrazioni. Sarà un’occasione per confrontare le esperienze di ciascuna associazione e formulare proposte sul procedimento dell’accoglienza e sulla fase pre-giudiziale\, nonché sulle possibili modifiche dell’attuale legislazione.Evento accreditato per n. 6 credito formativi per avvocati \n\nIl programma dei lavori
URL:https://www.cronachediordinariorazzismo.org/appuntamento/persone-migranti-e-lgbti-diritti-umani-vulnerabilita-e-intersezionalita/
LOCATION:Trieste
ATTACH;FMTTYPE=image/jpeg:https://www.cronachediordinariorazzismo.org/wp-content/uploads/lgbti.jpg
END:VEVENT
END:VCALENDAR