BEGIN:VCALENDAR
VERSION:2.0
PRODID:-//Cronache di ordinario razzismo - ECPv6.15.7//NONSGML v1.0//EN
CALSCALE:GREGORIAN
METHOD:PUBLISH
X-WR-CALNAME:Cronache di ordinario razzismo
X-ORIGINAL-URL:https://www.cronachediordinariorazzismo.org
X-WR-CALDESC:Eventi per Cronache di ordinario razzismo
REFRESH-INTERVAL;VALUE=DURATION:PT1H
X-Robots-Tag:noindex
X-PUBLISHED-TTL:PT1H
BEGIN:VTIMEZONE
TZID:Europe/Rome
BEGIN:DAYLIGHT
TZOFFSETFROM:+0100
TZOFFSETTO:+0200
TZNAME:CEST
DTSTART:20180325T010000
END:DAYLIGHT
BEGIN:STANDARD
TZOFFSETFROM:+0200
TZOFFSETTO:+0100
TZNAME:CET
DTSTART:20181028T010000
END:STANDARD
BEGIN:DAYLIGHT
TZOFFSETFROM:+0100
TZOFFSETTO:+0200
TZNAME:CEST
DTSTART:20190331T010000
END:DAYLIGHT
BEGIN:STANDARD
TZOFFSETFROM:+0200
TZOFFSETTO:+0100
TZNAME:CET
DTSTART:20191027T010000
END:STANDARD
BEGIN:DAYLIGHT
TZOFFSETFROM:+0100
TZOFFSETTO:+0200
TZNAME:CEST
DTSTART:20200329T010000
END:DAYLIGHT
BEGIN:STANDARD
TZOFFSETFROM:+0200
TZOFFSETTO:+0100
TZNAME:CET
DTSTART:20201025T010000
END:STANDARD
END:VTIMEZONE
BEGIN:VEVENT
DTSTART;TZID=Europe/Rome:20190619T193000
DTEND;TZID=Europe/Rome:20190619T200000
DTSTAMP:20260419T235911
CREATED:20190614T140503Z
LAST-MODIFIED:20190614T140503Z
UID:63032-1560972600-1560974400@www.cronachediordinariorazzismo.org
SUMMARY:Oltre la frontiera. Cosa succede lungo la rotta del Mediterraneo
DESCRIPTION:Cosa sta succedendo nel Mediterraneo? E in Libia? Come vivono gli immigrati in Italia dopo il decreto sicurezza? Ne parleranno a Be Pop! il 20 giugno a Parco Nemorense alle 19.30 con Annalisa Camilli (Internazionale)\, Francesca Mannocchi (L’Espresso)\, Diego Bianchi (Propaganda Live). E con Valerio Mastandrea che leggerà alcuni brani tratti dal libro “La frontiera” di Alessandro Leogrande\, a cui l’incontro è dedicato. \nAlle 21.30: Vedute notturne: proiezioni fotografiche al parco a cura di Maysa Moroni (Internazionale). Fotografie di César Dezfuli\, Giulio Piscitelli\, Valeria Scrilatti\, Through our eyes\, Patrick Willocq e Francesco Zizola.  \nTutti gli incontri sono con ingresso libero. Il Caffè Nemorense rimarrà aperto per l’intera rassegna con una ricca offerta di bar\, cocktail bar\, gastronomia\, gelati e aperitivi.
URL:https://www.cronachediordinariorazzismo.org/appuntamento/oltre-la-frontiera-cosa-succede-lungo-la-rotta-del-mediterraneo/
LOCATION:Parco Nemorense\, Roma
ATTACH;FMTTYPE=image/jpeg:https://www.cronachediordinariorazzismo.org/wp-content/uploads/62547283_376505296312238_5279716474208911360_o.jpg
END:VEVENT
END:VCALENDAR