BEGIN:VCALENDAR
VERSION:2.0
PRODID:-//Cronache di ordinario razzismo - ECPv6.15.7//NONSGML v1.0//EN
CALSCALE:GREGORIAN
METHOD:PUBLISH
X-ORIGINAL-URL:https://www.cronachediordinariorazzismo.org
X-WR-CALDESC:Eventi per Cronache di ordinario razzismo
REFRESH-INTERVAL;VALUE=DURATION:PT1H
X-Robots-Tag:noindex
X-PUBLISHED-TTL:PT1H
BEGIN:VTIMEZONE
TZID:Europe/Rome
BEGIN:DAYLIGHT
TZOFFSETFROM:+0100
TZOFFSETTO:+0200
TZNAME:CEST
DTSTART:20180325T010000
END:DAYLIGHT
BEGIN:STANDARD
TZOFFSETFROM:+0200
TZOFFSETTO:+0100
TZNAME:CET
DTSTART:20181028T010000
END:STANDARD
BEGIN:DAYLIGHT
TZOFFSETFROM:+0100
TZOFFSETTO:+0200
TZNAME:CEST
DTSTART:20190331T010000
END:DAYLIGHT
BEGIN:STANDARD
TZOFFSETFROM:+0200
TZOFFSETTO:+0100
TZNAME:CET
DTSTART:20191027T010000
END:STANDARD
BEGIN:DAYLIGHT
TZOFFSETFROM:+0100
TZOFFSETTO:+0200
TZNAME:CEST
DTSTART:20200329T010000
END:DAYLIGHT
BEGIN:STANDARD
TZOFFSETFROM:+0200
TZOFFSETTO:+0100
TZNAME:CET
DTSTART:20201025T010000
END:STANDARD
BEGIN:DAYLIGHT
TZOFFSETFROM:+0100
TZOFFSETTO:+0200
TZNAME:CEST
DTSTART:20210328T010000
END:DAYLIGHT
BEGIN:STANDARD
TZOFFSETFROM:+0200
TZOFFSETTO:+0100
TZNAME:CET
DTSTART:20211031T010000
END:STANDARD
BEGIN:DAYLIGHT
TZOFFSETFROM:+0100
TZOFFSETTO:+0200
TZNAME:CEST
DTSTART:20220327T010000
END:DAYLIGHT
BEGIN:STANDARD
TZOFFSETFROM:+0200
TZOFFSETTO:+0100
TZNAME:CET
DTSTART:20221030T010000
END:STANDARD
BEGIN:DAYLIGHT
TZOFFSETFROM:+0100
TZOFFSETTO:+0200
TZNAME:CEST
DTSTART:20230326T010000
END:DAYLIGHT
BEGIN:STANDARD
TZOFFSETFROM:+0200
TZOFFSETTO:+0100
TZNAME:CET
DTSTART:20231029T010000
END:STANDARD
BEGIN:DAYLIGHT
TZOFFSETFROM:+0100
TZOFFSETTO:+0200
TZNAME:CEST
DTSTART:20240331T010000
END:DAYLIGHT
BEGIN:STANDARD
TZOFFSETFROM:+0200
TZOFFSETTO:+0100
TZNAME:CET
DTSTART:20241027T010000
END:STANDARD
BEGIN:DAYLIGHT
TZOFFSETFROM:+0100
TZOFFSETTO:+0200
TZNAME:CEST
DTSTART:20250330T010000
END:DAYLIGHT
BEGIN:STANDARD
TZOFFSETFROM:+0200
TZOFFSETTO:+0100
TZNAME:CET
DTSTART:20251026T010000
END:STANDARD
END:VTIMEZONE
BEGIN:VEVENT
DTSTART;TZID=Europe/Rome:20240619T163000
DTEND;TZID=Europe/Rome:20240619T183000
DTSTAMP:20260423T145045
CREATED:20240603T125215Z
LAST-MODIFIED:20240603T130222Z
UID:79834-1718814600-1718821800@www.cronachediordinariorazzismo.org
SUMMARY:Osservatorio sulle Migrazioni a Roma e nel Lazio Diciannovesimo rapporto
DESCRIPTION:Roma\, 19 giugno 2024\, ore 16.30\nSala della Protomoteca\nPiazza del Campidoglio \nOgni partecipante riceverà gratuitamente\nuna copia del rapporto fino ad esaurimento scorte \nPer tutta la durata del convegno\, il rapporto integrale e la scheda di sintesi\nsaranno scaricabili gratuitamente dal sito\nwww.dossierimmigrazione.it \nPer informazioni:\nCentro Studi e Ricerche IDOS\, idos@dossierimmigrazione.it\nUfficio stampa\, comunicazione@dossierimmigrazione.it\, 333.30339362024 \n 
URL:https://www.cronachediordinariorazzismo.org/appuntamento/osservatorio-sulle-migrazioni-a-roma-e-nel-lazio-diciannovesimo-rapporto/
LOCATION:pin Sala della Protomoteca in Campidoglio\, Roma
END:VEVENT
BEGIN:VEVENT
DTSTART;TZID=Europe/Rome:20230228T160000
DTEND;TZID=Europe/Rome:20230228T183000
DTSTAMP:20260423T145045
CREATED:20230207T112340Z
LAST-MODIFIED:20230207T115322Z
UID:76766-1677600000-1677609000@www.cronachediordinariorazzismo.org
SUMMARY:Le migrazioni femminili in Italia
DESCRIPTION:Istituto di Studi Politici “S. Pio V” e Centro Studi e Ricerche IDOSii\ninvitano alla presentazione del volume \nLE MIGRAZIONI FEMMINILI IN ITALIA\nPercorsi di affermazione oltre le vulnerabilità \nRoma\, 28 febbraio 2023\, ore 16.00\nAuditorium Via Rieti\, via Rieti 11 (Piazza Fiume) \n\nIl programma è disponibile qui: https://www.dossierimmigrazione.it/wp-content/uploads/2023/02/Programma_Le-migrazioni-femminili-in-Italia.pdf \nA ciascun partecipante sarà distribuita copia gratuita del volume
URL:https://www.cronachediordinariorazzismo.org/appuntamento/76766/
LOCATION:Auditorium via Rieti\, Via Rieti\, 11\, Roma
ATTACH;FMTTYPE=image/png:https://www.cronachediordinariorazzismo.org/wp-content/uploads/sito-migrazioni-femminili-1080x675-1.png
END:VEVENT
BEGIN:VEVENT
DTSTART;TZID=Europe/Rome:20200221T200000
DTEND;TZID=Europe/Rome:20200221T230000
DTSTAMP:20260423T145045
CREATED:20200218T140828Z
LAST-MODIFIED:20200218T140828Z
UID:66543-1582315200-1582326000@www.cronachediordinariorazzismo.org
SUMMARY:I numeri dell’immigrazione
DESCRIPTION:Venerdì 21 febbraio\, alle ore 20.45\, a Este (Padova) nella Sala delle Colonne del Chiostro di S.Maria delle Consolazioni. I migranti in Italia diminuiscono. Da almeno sei anni\, la popolazione straniera non è in espansione. E’ questo solo uno dei tantissimi dati contenuti nel “Dossier statistico immigrazione 2019” – giunto alla sua 29esima edizione – dal centro studi e ricerche Idos in partenariato con il Centro studi e rivista Confronti. Ne parleranno durante questo appuntamento Gianfranco Bonesso\, del Centro Studi e Ricerche IDOS\, e Duccio Facchini\, direttore di Altreconomia e autore di “Alla Deriva”.
URL:https://www.cronachediordinariorazzismo.org/appuntamento/i-numeri-dellimmigrazione/
LOCATION:Sala delle Colonne del Chiostro di S.Maria delle Consolazioni\, Este
ATTACH;FMTTYPE=image/png:https://www.cronachediordinariorazzismo.org/wp-content/uploads/Schermata-2019-10-24-alle-17.46.50-1-1024x622.png
END:VEVENT
BEGIN:VEVENT
DTSTART;TZID=Europe/Rome:20191026T093000
DTEND;TZID=Europe/Rome:20191026T173000
DTSTAMP:20260423T145046
CREATED:20191023T071813Z
LAST-MODIFIED:20191023T071813Z
UID:64931-1572082200-1572111000@www.cronachediordinariorazzismo.org
SUMMARY:Imprenditori migranti ricchezza di un'economia meticcia
DESCRIPTION:Sabato 26 ottobre\, presso la Pontifical University of St. Thomas Aquinas – Angelicum\, Largo Angelicum\, 1\, a Roma\, dalle ore 9.30 alle ore 17.30\, il Convegno annuale del Programma STRONG\, Imprenditori migranti ricchezza di un’economia meticcia. Qui di seguito il programma. \n9:30 – Accoglienza e registrazioni\n10:00 – L’imprenditoria immigrata in Italia\, IDOS\n10:30 – Ricerca SECMER: Il contributo socio-economico degli\nimprenditori migranti a Roma. éCO e studenti partecipanti\n12:00 – Tavola rotonda: L’imprenditoria immigrata può essere\nstrumento di inclusione socio-economica?\n13:00 – Consegna diplomi del Corso Professionale “Management delle Organizzazioni del Terzo Settore e delle Imprese Sociali” \nConoscere il programma STRONG\nper studenti con background migratorio \n14:30 – Laboratori interattivi su offerta didattica\, ricerca\,\norientamento e cittadinanza attiva a cura dei partner\n17:30 – Fine dei lavori \nPer tutto l’evento: stand degli enti partner nel chiostro
URL:https://www.cronachediordinariorazzismo.org/appuntamento/imprenditori-migranti-ricchezza-di-uneconomia-meticcia/
LOCATION:Pontifical University of St. Thomas Aquinas – Angelicum\, Roma
ATTACH;FMTTYPE=image/jpeg:https://www.cronachediordinariorazzismo.org/wp-content/uploads/72147354_409908893004275_1081984836903632896_o.jpg
END:VEVENT
BEGIN:VEVENT
DTSTART;TZID=Europe/Rome:20191024T100000
DTEND;TZID=Europe/Rome:20191024T133000
DTSTAMP:20260423T145046
CREATED:20191007T113520Z
LAST-MODIFIED:20191007T113520Z
UID:64771-1571911200-1571923800@www.cronachediordinariorazzismo.org
SUMMARY:Dossier Statistico Immigrazione 2019
DESCRIPTION:Il Dossier Statistico Immigrazione\, giunto alla sua 29ª edizione\, è il rapporto socio-statistico che vanta la più lunga serie ininterrotta di pubblicazioni annuali sul fenomeno migratorio in Italia\, anche grazie a strutture ed enti sostenitori che – di volta in volta – hanno creduto e credono nella capacità di elevare\, sul tema\, il grado di conoscenza e di consapevolezza di un pubblico sempre più vasto\, al di là dei convincimenti politici\, religiosi e culturali\, attraverso un’analisi quanto più rigorosa e ragionata dei dati. La convinzione di fondo è che la lezione dei numeri\, sostenuta da un approccio onesto e non pregiudizievole\, sia effettivamente in grado di acuire e\, semmai\, di correggere il nostro sguardo sulla realtà\, con l’effetto di modificare – rendendolo umanamente più maturo – anche il nostro modo di vivere e di relazionarci al mondo\, agli altri e a noi stessi. La cifra del Dossier\, e insieme la chiave della sua “trasversalità”\, è il pluralismo di cui si sostanzia. Innanzitutto degli autori: partecipano alla sua redazione oltre un centinaio di studiosi e ricercatori\, con competenze e retaggi culturali differenti\, ognuno portatore di un punto di vista diverso che equivale a una specifica prospettiva sul fenomeno\, in una coralità di approcci che fanno la ricchezza interpretativa e contenutistica del volume. In secondo luogo delle fonti: la ricerca si basa su una vasta e diversificata serie di dati raccolti\, e opportunamente correlati\, sia da archivi amministrativi sia da ricerche sul campo e indagini qualitative\, in modo che\, senza ricorrere a criteri interpretativi esterni\, gli inevitabili limiti conoscitivi di ciascuna fonte siano il più possibile compensati dalle informazioni delle altre. \nIl Dossier sarà presentato in contemporanea in tutte le Regioni e le Province Autonome. \nIl volume\, corredato da una scheda di sintesi\, verrà distribuito ai partecipanti fino a esaurimento copie. \nPer i giornalisti è stata predisposta apposita documentazione. \nPer informazioni:\nCentro Studi e Ricerche IDOS: tel. 06.66514345/502\, idos@dossierimmigrazione.it; www.dossierimmigrazione.it; facebook.com/dossierimmigrazione\nCentro Studi CONFRONTI: tel. 06.4820503\, info@confronti.net; www.confronti.net; facebook.com/ConfrontiCNT\nUfficio stampa: cell. 380.9023947
URL:https://www.cronachediordinariorazzismo.org/appuntamento/dossier-statistico-immigrazione-2019/
LOCATION:Nuovo Teatro Orione\, Roma
ATTACH;FMTTYPE=image/png:https://www.cronachediordinariorazzismo.org/wp-content/uploads/image001-1.png
END:VEVENT
BEGIN:VEVENT
DTSTART;TZID=Europe/Rome:20190613T160000
DTEND;TZID=Europe/Rome:20190613T190000
DTSTAMP:20260423T145046
CREATED:20190528T110248Z
LAST-MODIFIED:20190528T110248Z
UID:62652-1560441600-1560452400@www.cronachediordinariorazzismo.org
SUMMARY:Osservatorio Romano sulle Migrazioni
DESCRIPTION:L’Istituto di Studi Politici “S. Pio V” e il Centro Studi e Ricerche IDOS invitano alla presentazione del Quattordicesimo Rapporto Osservatorio Romano sulle Migrazioni\, a Roma\, il 13 giugno\, alle ore 16.00\, presso l”Auditorium di Via Rieti\, 13. In occasione della presentazione il volume sarà distribuito gratuitamente a tutti i presenti. \n\n\n\nPer i giornalisti saranno predisposti materiali di sintesi. \n\n\n\nPer informazioni: \n\n\n\nTel.: 06.66514345; 502; Ufficio stampa: 380.9023247 \n\n\n\nEmail: idos@dossierimmigrazione.it \n\n\n\nwww.dossierimmigrazione.it
URL:https://www.cronachediordinariorazzismo.org/appuntamento/osservatorio-romano-sulle-migrazioni/
LOCATION:Auditorium\, Via Rieti\, 13.\, Roma
ATTACH;FMTTYPE=image/jpeg:https://www.cronachediordinariorazzismo.org/wp-content/uploads/cop-osservatorio-romano-sulle-migrazioni-ok.jpg
END:VEVENT
BEGIN:VEVENT
DTSTART;TZID=Europe/Rome:20190523T150000
DTEND;TZID=Europe/Rome:20190523T180000
DTSTAMP:20260423T145046
CREATED:20190515T131805Z
LAST-MODIFIED:20190515T131805Z
UID:62343-1558623600-1558634400@www.cronachediordinariorazzismo.org
SUMMARY:La Tutela del minore straniero nel contesto nazionale ed europeo
DESCRIPTION:Il CREG\, Centro di Ricerche Economiche e Giuridiche dell’Università di Roma “Tor Vergata”\, in collaborazione con il Master MEDIM (Master in Economia Diritto ed Intercultura delle Migrazioni) in occasione della Festa dell’Unione Europea\, con la partecipazione del Centro Studi e Ricerche IDOS\, offre la possibilità di approfondire alcuni temi riguardanti l’immigrazione. In particolare\, il 23 maggio 2019\, ore 15\,00 -18\,00\, presso il Dipartimento di Economia\, Via Columbia 2\, Aula TL\, Edificio Didattica\, piano terra\, dell’Università degli Studi di Roma “Tor Vergata”\, si terrà il seminario “La Tutela del minore straniero nel contesto nazionale ed europeo”. L’evento nasce a seguito della partecipazione alla prima conferenza sulla tutela dei minori stranieri non accompagnati della prima delegazione Italiana (composta da tutor volontari dei minori stranieri non accompagnati (avvocati\, docenti universitari\, operatori sociali ed esperti della materia) a Bruxelles dei tutori volontari dei minori stranieri non accompagnati (MSNA)\, su invito del Vice Presidente del Parlamento Europeo italiano. A tal fine in occasione del mese dell’Europa il CREG – Università degli Studi di Roma “Tor Vergata” ha deciso di approfondire\, maggiormente le problematiche sottese alla tutela dell’infanzia e dell’adolescenza a livello nazionale ed europeo. \nClicca qui per scaricare il programma 
URL:https://www.cronachediordinariorazzismo.org/appuntamento/la-tutela-del-minore-straniero-nel-contesto-nazionale-ed-europeo/
LOCATION:Università degli Studi di Roma “Tor Vergata”\, Roma\, Italia
ATTACH;FMTTYPE=image/jpeg:https://www.cronachediordinariorazzismo.org/wp-content/uploads/unaccompanied-minor-asylum-seekers.jpg
END:VEVENT
END:VCALENDAR