BEGIN:VCALENDAR
VERSION:2.0
PRODID:-//Cronache di ordinario razzismo - ECPv6.15.7//NONSGML v1.0//EN
CALSCALE:GREGORIAN
METHOD:PUBLISH
X-WR-CALNAME:Cronache di ordinario razzismo
X-ORIGINAL-URL:https://www.cronachediordinariorazzismo.org
X-WR-CALDESC:Eventi per Cronache di ordinario razzismo
REFRESH-INTERVAL;VALUE=DURATION:PT1H
X-Robots-Tag:noindex
X-PUBLISHED-TTL:PT1H
BEGIN:VTIMEZONE
TZID:Europe/Rome
BEGIN:DAYLIGHT
TZOFFSETFROM:+0100
TZOFFSETTO:+0200
TZNAME:CEST
DTSTART:20220327T010000
END:DAYLIGHT
BEGIN:STANDARD
TZOFFSETFROM:+0200
TZOFFSETTO:+0100
TZNAME:CET
DTSTART:20221030T010000
END:STANDARD
BEGIN:DAYLIGHT
TZOFFSETFROM:+0100
TZOFFSETTO:+0200
TZNAME:CEST
DTSTART:20230326T010000
END:DAYLIGHT
BEGIN:STANDARD
TZOFFSETFROM:+0200
TZOFFSETTO:+0100
TZNAME:CET
DTSTART:20231029T010000
END:STANDARD
BEGIN:DAYLIGHT
TZOFFSETFROM:+0100
TZOFFSETTO:+0200
TZNAME:CEST
DTSTART:20240331T010000
END:DAYLIGHT
BEGIN:STANDARD
TZOFFSETFROM:+0200
TZOFFSETTO:+0100
TZNAME:CET
DTSTART:20241027T010000
END:STANDARD
BEGIN:DAYLIGHT
TZOFFSETFROM:+0100
TZOFFSETTO:+0200
TZNAME:CEST
DTSTART:20250330T010000
END:DAYLIGHT
BEGIN:STANDARD
TZOFFSETFROM:+0200
TZOFFSETTO:+0100
TZNAME:CET
DTSTART:20251026T010000
END:STANDARD
BEGIN:DAYLIGHT
TZOFFSETFROM:+0100
TZOFFSETTO:+0200
TZNAME:CEST
DTSTART:20260329T010000
END:DAYLIGHT
BEGIN:STANDARD
TZOFFSETFROM:+0200
TZOFFSETTO:+0100
TZNAME:CET
DTSTART:20261025T010000
END:STANDARD
END:VTIMEZONE
BEGIN:VEVENT
DTSTART;TZID=Europe/Rome:20250627T183000
DTEND;TZID=Europe/Rome:20250627T213000
DTSTAMP:20260421T072919
CREATED:20250624T125844Z
LAST-MODIFIED:20250624T125844Z
UID:82014-1751049000-1751059800@www.cronachediordinariorazzismo.org
SUMMARY:Il razzismo che si fa istituzione
DESCRIPTION:Venerdì prossimo\, 27 giugno\, dalle ore 18:00 saremo a Piazza Nuccitelli\, al Pigneto\, per il dibattito “Il razzismo che si fa istituzione”\, sull’urgenza dell’abolizione dei Centri di Permanenza per il Rimpatrio. \nInsieme a @yairaiha_onlus e @zazienelmetro_bar \nA seguire cena benefit da Zazie nel Metrò. Parte del ricavato sarà devoluto all’associazione Yairaiha e alla campagna per supportare il viaggio di Marco Cavallo nei CPR. \nQuesto evento fa parte della campagna in viaggio con Marco Cavallo\, simbolo della rottura dei muri manicomiali\, per la chiusura dei CPR e l’abolizione della detenzione amministrativa.
URL:https://www.cronachediordinariorazzismo.org/appuntamento/il-razzismo-che-si-fa-istituzione/
LOCATION:Piazza Nuccitelli\, Piazza Nuccitelli\, Roma
ATTACH;FMTTYPE=image/jpeg:https://www.cronachediordinariorazzismo.org/wp-content/uploads/WhatsApp-Image-2025-06-24-at-11.41.14.jpeg
END:VEVENT
BEGIN:VEVENT
DTSTART;TZID=Europe/Rome:20240411T173000
DTEND;TZID=Europe/Rome:20240411T193000
DTSTAMP:20260421T072919
CREATED:20240408T122806Z
LAST-MODIFIED:20240408T123708Z
UID:79676-1712856600-1712863800@www.cronachediordinariorazzismo.org
SUMMARY:Avevano tutte una gran voglia di parlare Donne afghane\, pakistane\, nigeriane\, ivoriane raccontano
DESCRIPTION:GIOVEDÌ 11 APRILE ALLE ORE 17:30\nVIA DELLA DOGANA VECCHIA 5 ROMA\nLa Fondazione Basso e il Centro per la Riforma dello Stato\ninvitano alla proiezione del documentario\n\nAvevano tutte una gran voglia di parlare\nDonne afghane\, pakistane\, nigeriane\, ivoriane raccontano\nprodotto dal progetto\nDa vittime a testimoni.\nUn Tribunale delle donne per i diritti delle donne in migrazione\n\nPartecipano\nIsabella Peretti – coordinatrice del progetto\nFranco Ippolito e Simona Fraudatario – Fondazione Basso\nMaria Luisa Boccia e Simone Furzi – Centro per la Riforma dello Stato\nL’iniziativa sarà visibile sul canale Youtube della Fondazione Basso:\nhttps://www.youtube.com/@fondazionebassoonlus
URL:https://www.cronachediordinariorazzismo.org/appuntamento/avevano-tutte-una-gran-voglia-di-parlare-donne-afghane-pakistane-nigeriane-ivoriane-raccontano/
LOCATION:Fondazione Lelio e Lisli Basso\, Via della Dogana Vecchia\, 5\, Roma
ATTACH;FMTTYPE=image/png:https://www.cronachediordinariorazzismo.org/wp-content/uploads/proiezione.png
END:VEVENT
BEGIN:VEVENT
DTSTART;TZID=Europe/Rome:20230908T180000
DTEND;TZID=Europe/Rome:20230908T180000
DTSTAMP:20260421T072919
CREATED:20230905T093739Z
LAST-MODIFIED:20230905T094409Z
UID:78302-1694196000-1694196000@www.cronachediordinariorazzismo.org
SUMMARY:SORELLƏ NON SEI SOLƏ - Presidio 8 Settembre Piazza Cavour
DESCRIPTION:8 settembre ore 18 – piazza Cavour\, di fronte alla Corte di Cassazione \nLo scorso 31 agosto ci siamo riunitɜ in centinaia in assemblea\, dopo un’estate che ci ha lasciato furiosɜ. Un’estate iniziata con la narrazione tossica del femminicidio di Giulia Tramontano e conclusa con il linciaggio mediatico e social attorno agli stupri di Palermo e Caivano. Una pornografia del dolore che accende i riflettori solo su alcuni casi-simbolo\, mentre rimangono sotto-rappresentati i transcidi\, le aggressioni e gli omicidi ai danni delle sex worker\, e i suicidi di persone trans che si susseguono in un silenzio assordante. Una mediatizzazione forzata che colpevolizza le persone abusate e spesso anche i loro affetti\, non ne rispetta la privacy e veicola l’idea che la violenza sia un problema individuale dovuto a qualche singolo e a cattive famiglie\, un’emergenza da raccontare con fare voyeuristico per qualche settimana. \nLa violenza patriarcale è invece una questione strutturale che irradia ogni sfera della nostra quotidianità e che influisce lungo tutto l’arco della nostra vita. Per questo abbiamo deciso di scendere di nuovo in piazza insieme alle sorellɜ in Sicilia e in tutta Italia. \nVenerdì 8 settembre saremo di fronte la Corte di Cassazione\, tribunale di ultima istanza del sistema giudiziario del nostro Paese\, che dovrebbe assicurare l’uniforme interpretazione e applicazione del diritto\, ma che è di fatto il simbolo di una giustizia patriarcale e che quest’estate ha firmato alcune delle sentenze più scellerate degli ultimi anni. \nIl Tribunale di Roma ha assolto un bidello accusato di violenza sessuale per aver molestato una studente perché ha ritenuto che al fatto oggettivo non potesse essere associato l’elemento soggettivo\, ossia la volontà di molestare.\nSimilmente ha assolto un dirigente di un museo denunciato da una dipendente che a suo dire avrebbe “rivisitato incosciamente” i suoi comportamenti molesti.\nE ancora\, il Tribunale di Firenze ha assolto due giovani uomini accusati di stupro di gruppo stabilendo una “errata percezione del consenso”. \nE quante sono le donne che denunciano o provano a denunciare uomini violenti ma che non vengono prese sul serio dalle forze dell’ordine? L’ultima è Marielle Marino\, uccisa a colpi di pistola per strada dall’ex marito che aveva denunciato. E questo elenco potrebbe essere lunghissimo.\nQuesto venerdì andremo di fronte alla Cassazione per denunciare la vergognosa vittimizzazione secondaria che spesso nasce proprio nelle aule dei tribunali e nelle questure\, ma saremo in quella piazza soprattutto perché la violenza patriarcale non si combatte costruendo l’ennesima narrazione legata a una finta emergenza\, per approvare l’ennesimo decreto con pene ancora più severe o paventando la castrazione chimica\, alimentando così un sistema che crea sempre più violenza. La violenza si decostruisce\, al contrario\, agendo in via preventiva\, pianificando programmi di educazione sessuo-affettiva con esperte nei programmi scolastici\, nei luoghi di lavoro\, negli spazi di comunità e di aggregazione. Programmi che devono essere svolti da personale formato nelle associazioni femministe e LGBTQIA+ e che educhino al consenso per combattere la cultura dello stupro nella quale siamo immersɜ.
URL:https://www.cronachediordinariorazzismo.org/appuntamento/sorell%c6%8f-non-sei-sol%c6%8f-presidio-8-settembre-piazza-cavour/
LOCATION:Corte Suprema Cassazione\, Piazza Cavour\, Roma
ATTACH;FMTTYPE=image/png:https://www.cronachediordinariorazzismo.org/wp-content/uploads/nudm8set23.png
END:VEVENT
BEGIN:VEVENT
DTSTART;TZID=Europe/Rome:20230508T110000
DTEND;TZID=Europe/Rome:20230508T130000
DTSTAMP:20260421T072919
CREATED:20230427T085922Z
LAST-MODIFIED:20230427T085922Z
UID:77686-1683543600-1683550800@www.cronachediordinariorazzismo.org
SUMMARY:DISCORSI FEMMINISTI: Un approccio di genere e interculturale alla comunicazione
DESCRIPTION:Ciclo di Seminari: Progetto AICS “Effetto farfalla – cambiamo le parole per cambiare il mondo” \nNel sesto incontro del progetto Effetto farfalla\, Valentina Fanelli e Serena Fiorletta mettono in luce la tendenza nei media a perpetuare una cultura che alimenta la violenza di genere e propongono una comunicazione che provi a invertire questa tendenza. \nIntroduce e modera Elena Giacomelli\, Università di Bologna \nVenerdì 8 Maggio 2023 alle ore 11.00 \nnell’Aula 4 di Palazzo Hercolani\, Strada Maggiore 45\, Bologna. \nPossibilità di seguire la diretta facebook dalla pagina “Rete nazionale per il contrasto ai fenomeni d’odio”. \nPer maggiori info: elena.giacomelli4@unibo.it
URL:https://www.cronachediordinariorazzismo.org/appuntamento/discorsi-femministi-un-approccio-di-genere-e-interculturale-alla-comunicazione/
LOCATION:Aula 4 – Palazzo Hercolani\, Strada Maggiore\, 45\, Bologna\, Italia
ATTACH;FMTTYPE=image/jpeg:https://www.cronachediordinariorazzismo.org/wp-content/uploads/0508-aidos.jpg
END:VEVENT
BEGIN:VEVENT
DTSTART;TZID=Europe/Rome:20230411T190000
DTEND;TZID=Europe/Rome:20230411T210000
DTSTAMP:20260421T072919
CREATED:20230403T083415Z
LAST-MODIFIED:20230403T083415Z
UID:77431-1681239600-1681246800@www.cronachediordinariorazzismo.org
SUMMARY:Presentazione libro "Piccolo Manuale antirazzista e femminista" di Djamila Ribeiro
DESCRIPTION:In occasione del lancio della #DesignWeek2023\, FestivalDiverCity ha l‘onore di ospitare una delle date del Tour italiano della scrittrice Djamila Ribeiro. \nLa serata organizzata in collaborazione con la casa editrice Capovolte\, Associazione Nazionale Ex Deportati nei Campi nazisti e il progetto Champs\, sarà l‘occasione per presentare il libro “Piccolo Manuale antirazzista e femminista” pubblicato in Italia da Capovolte nel 2022. \nNata a Santos\, in Brasile\, nel 1980\, Djamila Ribeiro è laureata in Filosofia Politica all’Università Federale di S. Paulo è nota in Brasile per il suo attivismo digitale. Giornalista e scrittrice\, attualmente scrive per il giornale Folha de S. Paulo. La sua presenza attiva nelle reti sociali si concentra su temi quali il razzismo in Brasile\, la condizione delle donne nere e le disuguaglianze sociali. Nel 2016 è stata nominata segretaria dei Diritti Umani e Cittadinanza per la Città di S. Paulo (Brasile) e dal 2022 è membro dell’Academia Paulista di Lettere (Brasile). \nÈ autrice di diversi titoli di successo tra cui “Il luogo della Parola” (in Italia tradotto da Capovolte)\, “Quem tem medo do feminismo negro?”\, “Cartas para minha avó”\, ma soprattutto il “Piccolo manuale antirazzista e femminista” (tradotto da Capovolte nel 2022)\, che è stato il libro più venduto in Brasile nel 2020\, adottato nei programmi scolastici delle scuole brasiliane. È un percorso di dieci lezioni brevi per comprendere le origini del razzismo e combatterlo. \nIl razzismo\, sostiene la filosofa brasiliana\, non è solo l’atto volontario o meno di un individuo\, ma una dimensione strutturale consolidata e radicata nella nostra società\, che crea disuguaglianze\, oppressione\, negazione di diritti. Riconoscerne le radici e l’impatto può essere sconvolgente e paralizzante\, ma la pratica antirazzista è più che mai urgente ed è una battaglia che riguarda tutti e tutte.\nFestival Divercity vi aspetta l’11 aprile alle ore 19 presso la Casa della Memoria a Milano in Via Federico Confalonieri\, 14. \nPer registrarsi cliccare QUI.
URL:https://www.cronachediordinariorazzismo.org/appuntamento/presentazione-libro-piccolo-manuale-antirazzista-e-femminista-di-djamila-ribeiro/
LOCATION:Casa della Memoria\, Via Federico Confalonieri\, 14\, Milano
ATTACH;FMTTYPE=image/jpeg:https://www.cronachediordinariorazzismo.org/wp-content/uploads/339244816_1193343601569981_7112704435476207666_n.jpg
END:VEVENT
END:VCALENDAR