BEGIN:VCALENDAR
VERSION:2.0
PRODID:-//Cronache di ordinario razzismo - ECPv6.15.7//NONSGML v1.0//EN
CALSCALE:GREGORIAN
METHOD:PUBLISH
X-ORIGINAL-URL:https://www.cronachediordinariorazzismo.org
X-WR-CALDESC:Eventi per Cronache di ordinario razzismo
REFRESH-INTERVAL;VALUE=DURATION:PT1H
X-Robots-Tag:noindex
X-PUBLISHED-TTL:PT1H
BEGIN:VTIMEZONE
TZID:Europe/Rome
BEGIN:DAYLIGHT
TZOFFSETFROM:+0100
TZOFFSETTO:+0200
TZNAME:CEST
DTSTART:20240331T010000
END:DAYLIGHT
BEGIN:STANDARD
TZOFFSETFROM:+0200
TZOFFSETTO:+0100
TZNAME:CET
DTSTART:20241027T010000
END:STANDARD
BEGIN:DAYLIGHT
TZOFFSETFROM:+0100
TZOFFSETTO:+0200
TZNAME:CEST
DTSTART:20250330T010000
END:DAYLIGHT
BEGIN:STANDARD
TZOFFSETFROM:+0200
TZOFFSETTO:+0100
TZNAME:CET
DTSTART:20251026T010000
END:STANDARD
BEGIN:DAYLIGHT
TZOFFSETFROM:+0100
TZOFFSETTO:+0200
TZNAME:CEST
DTSTART:20260329T010000
END:DAYLIGHT
BEGIN:STANDARD
TZOFFSETFROM:+0200
TZOFFSETTO:+0100
TZNAME:CET
DTSTART:20261025T010000
END:STANDARD
END:VTIMEZONE
BEGIN:VEVENT
DTSTART;TZID=Europe/Rome:20250306T180000
DTEND;TZID=Europe/Rome:20250306T203000
DTSTAMP:20260424T165820
CREATED:20250303T132539Z
LAST-MODIFIED:20250303T132539Z
UID:81301-1741284000-1741293000@www.cronachediordinariorazzismo.org
SUMMARY:Omofobia e razzismo\, una o due brutte storie?
DESCRIPTION:Giovedì 6 Marzo | h 18.00Bologna Piazza Ravegnana\n\nStorie di disagio e di resistenza umana\, tra genere\, sessualità e razzializzazione \nLo scrittore Saif ur Rehman Raja (Hijra\, Fandango)\,  Porpora Marcasciano\, sociologa\, scrittrice e attivista candidata al Premio Nobel per la Pace 2025 (Tra le rose e le viole. La storia e le storie di transessuali e travestiti\, Edizioni Alegre)\, Siid Negash\, consigliere comunale di Bologna e Mauro Muscio\, editore\,  libraio e attivista LGBTIQ ne parlano con la giornalista Alessandra Arini.
URL:https://www.cronachediordinariorazzismo.org/appuntamento/omofobia-e-razzismo-una-o-due-brutte-storie/
LOCATION:Feltrinelli\, Piazza Ravegnana\, Bologna
END:VEVENT
BEGIN:VEVENT
DTSTART;TZID=Europe/Rome:20250308T180000
DTEND;TZID=Europe/Rome:20250308T190000
DTSTAMP:20260424T165820
CREATED:20250303T132739Z
LAST-MODIFIED:20250303T132739Z
UID:81304-1741456800-1741460400@www.cronachediordinariorazzismo.org
SUMMARY:Vignette\, parole e musica contro il razzismo
DESCRIPTION:Sabato 8 marzo | h 18.00 Messina Feltrinelli Via Ghibellina 32\n\nI fumettisti Lelio Bonaccorso (coautore insieme a Saghar Khaleghpour di La mia seconda generazione\, Feltrinelli)\, Michela De Domenico (Nel ventre dell’orca\, Mesogea)\, Giuliana La Malfa (La seconda mezzanotte. Il maestro\, Feltrinelli)\, Carmelo Chillé e Fabio Franchi (I wanna live like common people\, Panini Comics)  raccontano\, attraverso una emozionante staffetta di live drawings\, il loro impegno contro ogni forma di discriminazione. In questo viaggio\, gli spettatori sono accompagnati dalla musica al piano di Giovanni Renzo e da letture sul tema di Francesco Coglitore\, Associazione Il Teatro a domicilio e Alessia Di Fiore\, attrice. In collaborazione con Emergency e Officina del Sole.
URL:https://www.cronachediordinariorazzismo.org/appuntamento/vignette-parole-e-musica-contro-il-razzismo/
LOCATION:Messina Feltrinelli\, Via Ghibellina 32\, Messina
END:VEVENT
END:VCALENDAR