BEGIN:VCALENDAR
VERSION:2.0
PRODID:-//Cronache di ordinario razzismo - ECPv6.15.7//NONSGML v1.0//EN
CALSCALE:GREGORIAN
METHOD:PUBLISH
X-ORIGINAL-URL:https://www.cronachediordinariorazzismo.org
X-WR-CALDESC:Eventi per Cronache di ordinario razzismo
REFRESH-INTERVAL;VALUE=DURATION:PT1H
X-Robots-Tag:noindex
X-PUBLISHED-TTL:PT1H
BEGIN:VTIMEZONE
TZID:Europe/Rome
BEGIN:DAYLIGHT
TZOFFSETFROM:+0100
TZOFFSETTO:+0200
TZNAME:CEST
DTSTART:20220327T010000
END:DAYLIGHT
BEGIN:STANDARD
TZOFFSETFROM:+0200
TZOFFSETTO:+0100
TZNAME:CET
DTSTART:20221030T010000
END:STANDARD
BEGIN:DAYLIGHT
TZOFFSETFROM:+0100
TZOFFSETTO:+0200
TZNAME:CEST
DTSTART:20230326T010000
END:DAYLIGHT
BEGIN:STANDARD
TZOFFSETFROM:+0200
TZOFFSETTO:+0100
TZNAME:CET
DTSTART:20231029T010000
END:STANDARD
BEGIN:DAYLIGHT
TZOFFSETFROM:+0100
TZOFFSETTO:+0200
TZNAME:CEST
DTSTART:20240331T010000
END:DAYLIGHT
BEGIN:STANDARD
TZOFFSETFROM:+0200
TZOFFSETTO:+0100
TZNAME:CET
DTSTART:20241027T010000
END:STANDARD
BEGIN:DAYLIGHT
TZOFFSETFROM:+0100
TZOFFSETTO:+0200
TZNAME:CEST
DTSTART:20250330T010000
END:DAYLIGHT
BEGIN:STANDARD
TZOFFSETFROM:+0200
TZOFFSETTO:+0100
TZNAME:CET
DTSTART:20251026T010000
END:STANDARD
BEGIN:DAYLIGHT
TZOFFSETFROM:+0100
TZOFFSETTO:+0200
TZNAME:CEST
DTSTART:20260329T010000
END:DAYLIGHT
BEGIN:STANDARD
TZOFFSETFROM:+0200
TZOFFSETTO:+0100
TZNAME:CET
DTSTART:20261025T010000
END:STANDARD
END:VTIMEZONE
BEGIN:VEVENT
DTSTART;TZID=Europe/Rome:20251018T110000
DTEND;TZID=Europe/Rome:20251018T230000
DTSTAMP:20260421T151505
CREATED:20250910T131057Z
LAST-MODIFIED:20250910T131057Z
UID:82573-1760785200-1760828400@www.cronachediordinariorazzismo.org
SUMMARY:SCONFINATI FEST! 2a Edizione
DESCRIPTION:Sabato 18 ottobre 2025\nSCONFINATI FEST! 2a edizione\ndalle 11:00 alle 23:00 – Ingresso libero\, senza prenotazione – presso mosso via Angelo Mosso 3\, Milano \nCon Stefano Nazzi\, Francesca Crescentini -Tegamini\, Luca Misculin\, Massimo Cirri & Sara Zambotti\, Valeria Verdolini\, Nadeesha Uyangoda\, Ronke Oluwadare\, Eugenio Losco\, Nicoletta Dentico\, Saghar Khaleghpour e Francesca Spinelli. \nIncontri inediti e inattesi capaci di generare sconfinamenti di pratica e di pensiero.\nUna giornata per lasciare spazio alla libertà\, individuale e collettiva\, di essere e muoversi liberamente. \nIn mostra anche Security Barriers A–Z di Bani Abidi (MoMA\, New York). \nTutto il programma su Naga.it
URL:https://www.cronachediordinariorazzismo.org/appuntamento/sconfinati-fest-2a-edizione/
LOCATION:Mosso Milano\, Via Angelo Mosso\, 3\, Milano
ATTACH;FMTTYPE=image/png:https://www.cronachediordinariorazzismo.org/wp-content/uploads/SconfinatiFest2025_coverSito-1536x928-1.png
END:VEVENT
BEGIN:VEVENT
DTSTART;TZID=Europe/Rome:20250710T193000
DTEND;TZID=Europe/Rome:20250710T233000
DTSTAMP:20260421T151505
CREATED:20250707T135701Z
LAST-MODIFIED:20250707T135701Z
UID:82060-1752175800-1752190200@www.cronachediordinariorazzismo.org
SUMMARY:Io capitan@. Il vero crimine è il confine
DESCRIPTION:@seasters.coop\, cooperativa di vela transfemminista e popolare\, sbarca con @f.lotta_ al Forte Prenestino a Roma per presentare la mobilitazione per la libertà di movimento e contro il regime dei confini. \n📣 10 luglio\, dalle 19.30 al Forte Prenestino\, via Federico Delpino\, Centocelle\, Roma \nTavola rotonda con: \nTatiana Montella – Clinica legale immigrazione Roma3\nStefania N’Kombo Josè Teresa – Stop CPR Roma \nA seguire proiezione dalle 21.30 del film “Io capitano”
URL:https://www.cronachediordinariorazzismo.org/appuntamento/io-capitan-il-vero-crimine-e-il-confine/
LOCATION:Forte Prenestino\, Via Federico Delpino 187\, Roma
ATTACH;FMTTYPE=image/jpeg:https://www.cronachediordinariorazzismo.org/wp-content/uploads/WhatsApp-Image-2025-07-07-at-15.32.44.jpeg
END:VEVENT
BEGIN:VEVENT
DTSTART;TZID=Europe/Rome:20231103T173000
DTEND;TZID=Europe/Rome:20231103T203000
DTSTAMP:20260421T151506
CREATED:20231031T114903Z
LAST-MODIFIED:20231031T114957Z
UID:78676-1699032600-1699043400@www.cronachediordinariorazzismo.org
SUMMARY:Per un abolizionismo dei confini: geneaologie\, prospettive e strategie di lotta
DESCRIPTION:Quando saranno obsoleti i confini?\nVenerdì 3 novembre dialogheremo di prospettive abolizioniste e di nuove e antiche lotte per la destrutturazione dei dispositivi di razzializzazione e subordinazione a partire dal libro di Martina Tazzioli “Border abolitionism. Migrants’ containment and the genealogies of struggles and rescue”.\nCon l’autrice ci saranno Barbara Pinelli\, Stefania N’Kombo José Teresa\, Enrica Rigo\, la Clinica Legale di Roma 3\, Lucha y Siesta\, Mediterranea Saving Humans\, le Donne del Muro Alto ed Esc Infomigrante.\nA seguire\, reading a cura di Donne del Muro Alto
URL:https://www.cronachediordinariorazzismo.org/appuntamento/per-un-abolizionismo-dei-confini-geneaologie-prospettive-e-strategie-di-lotta/
LOCATION:Lucha y Siesta\, Via Lucio Sestio\, 12\, Roma
ATTACH;FMTTYPE=image/jpeg:https://www.cronachediordinariorazzismo.org/wp-content/uploads/395998806_641933351452206_4035253020382770205_n.jpg
END:VEVENT
BEGIN:VEVENT
DTSTART;TZID=Europe/Rome:20230513T150000
DTEND;TZID=Europe/Rome:20230513T170000
DTSTAMP:20260421T151506
CREATED:20230509T083435Z
LAST-MODIFIED:20230509T083435Z
UID:77736-1683990000-1683997200@www.cronachediordinariorazzismo.org
SUMMARY:Marcia contro i muri e per l’accoglienza
DESCRIPTION:Sabir organizza una marcia contro i muri nel confine fra Slovenia e Italia\, partendo alle 15.00 da Castello di Socerb – Socerb 7\, 6275 Črni Kal\, Slovenia per arrivare alle 16.30 a Piazza centrale San Dorligo della Valle. \nGli organizzatori metteranno a disposizione dei transfer gratuiti da DOLINA Občinski športni center – Centro Sportivo Comunale Silvano Klabjan – Dolina 462 al Castello di Socerb dalle 14.00 \nCiascuno potrà raggiungere Dolina autonomamente con autobus di linea dalla stazione centrale di Trieste: \n\nLinea 40: orari\nLinea 41: orari\n\nPer facilitare l’organizzazione dei transfer segnala la tua partecipazione compilando il form: https://forms.gle/VfdF992JDaEa5CMf7 \nLeggi l’appello completo QUI.
URL:https://www.cronachediordinariorazzismo.org/appuntamento/marcia-contro-i-muri-e-per-laccoglienza/
LOCATION:Castello di Socerb\, Socerb 7\, Črni Kal\, Slovenia
ATTACH;FMTTYPE=image/jpeg:https://www.cronachediordinariorazzismo.org/wp-content/uploads/marcia-1536x804-1.jpeg
END:VEVENT
END:VCALENDAR