BEGIN:VCALENDAR
VERSION:2.0
PRODID:-//Cronache di ordinario razzismo - ECPv6.15.7//NONSGML v1.0//EN
CALSCALE:GREGORIAN
METHOD:PUBLISH
X-WR-CALNAME:Cronache di ordinario razzismo
X-ORIGINAL-URL:https://www.cronachediordinariorazzismo.org
X-WR-CALDESC:Eventi per Cronache di ordinario razzismo
REFRESH-INTERVAL;VALUE=DURATION:PT1H
X-Robots-Tag:noindex
X-PUBLISHED-TTL:PT1H
BEGIN:VTIMEZONE
TZID:Europe/Rome
BEGIN:DAYLIGHT
TZOFFSETFROM:+0100
TZOFFSETTO:+0200
TZNAME:CEST
DTSTART:20220327T010000
END:DAYLIGHT
BEGIN:STANDARD
TZOFFSETFROM:+0200
TZOFFSETTO:+0100
TZNAME:CET
DTSTART:20221030T010000
END:STANDARD
BEGIN:DAYLIGHT
TZOFFSETFROM:+0100
TZOFFSETTO:+0200
TZNAME:CEST
DTSTART:20230326T010000
END:DAYLIGHT
BEGIN:STANDARD
TZOFFSETFROM:+0200
TZOFFSETTO:+0100
TZNAME:CET
DTSTART:20231029T010000
END:STANDARD
BEGIN:DAYLIGHT
TZOFFSETFROM:+0100
TZOFFSETTO:+0200
TZNAME:CEST
DTSTART:20240331T010000
END:DAYLIGHT
BEGIN:STANDARD
TZOFFSETFROM:+0200
TZOFFSETTO:+0100
TZNAME:CET
DTSTART:20241027T010000
END:STANDARD
END:VTIMEZONE
BEGIN:VEVENT
DTSTART;TZID=Europe/Rome:20230301T180000
DTEND;TZID=Europe/Rome:20230301T200000
DTSTAMP:20260422T054603
CREATED:20230301T095118Z
LAST-MODIFIED:20230301T100613Z
UID:77023-1677693600-1677700800@www.cronachediordinariorazzismo.org
SUMMARY:#SmashTheBorders - Per la libertà di movimento
DESCRIPTION:All’alba del 26 febbraio a Cutro\, in Calabria\, si è consumata l’ennesima strage di fronte alle coste italiane\, che ha causato la morte accertata di oltre 60 persone e decine di dispersi.\nA ucciderli non è stato il mare o le condizioni meteo avverse\, ma le politiche italiane ed europee sulle migrazioni\, che militarizzano ed esternalizzano le frontiere.\nLe persone decedute e disperse nella strage si aggiungono alle migliaia di morti sulle rotte delle migrazioni\, stragi sulle quali non possiamo e non intendiamo tacere.\nIl primo marzo saremo in piazza Esquilino a Roma\, contro queste politiche di morte dell’Italia e dell’Europa\, per aprire canali di ingresso sicuri e regolari e per la libertà di movimento di tutti e tutte.\nL’assemblea che si è tenuta il 27 febbraio\, partecipata da moltissim3 student3\, realtà antirazziste\, civil fleet e movimenti ecologisti e transfemministi rilancia un percorso a partire del presidio del 1° marzo che attraverserà le piazze di lotta delle prossime settimane\, dal 3 marzo dei Fridays For Future alla mobilitazione dell’8 marzo di Non Una Di Meno passando per la manifestazione antifascista promossa dagli studenti di Firenze.\nAbbiamo scelto il primo marzo perché è una giornata simbolica della lotta dei migranti\, per liberare le migrazioni dalla propaganda restituendogli dignità di scelta e diritto di fuga.\n\nCi vediamo il 1° marzo 2023 ore 18 a Piazza dell’Esquilino\, Roma
URL:https://www.cronachediordinariorazzismo.org/appuntamento/smashtheborders-per-la-liberta-di-movimento/
LOCATION:Piazza dell’Esquilino
ATTACH;FMTTYPE=image/jpeg:https://www.cronachediordinariorazzismo.org/wp-content/uploads/331549280_1362451294299579_8257946023876919261_n.jpg
END:VEVENT
BEGIN:VEVENT
DTSTART;TZID=Europe/Rome:20230311T150000
DTEND;TZID=Europe/Rome:20230311T200000
DTSTAMP:20260422T054603
CREATED:20230306T174643Z
LAST-MODIFIED:20230306T175234Z
UID:77174-1678546800-1678564800@www.cronachediordinariorazzismo.org
SUMMARY:Verità e Giustizia per le vittime della strage di Cutro - Manifestazione Nazionale
DESCRIPTION:MEDITERRANEA aderisce alla manifestazione nazionale dell’11 marzo indetta dalle realtà sociali calabresi: “Verità e Giustizia per le vittime della strage di Cutro” \nMEDITERRANEA Saving Humans aderisce alla manifestazione indetta dalle realtà sociali calabresi – alla quale si stanno associando moltissime associazioni locali e nazionali – a Crotone per sabato 11 marzo per chiedere “Verità e Giustizia per le vittime della strage di Cutro”\, per chiedere alla magistratura di fare chiarezza fino in fondo per trovare i responsabili di questa strage e per chiedere le dimissioni dei ministri Piantedosi e Salvini. \nVerranno organizzati pullman da tutta Italia: trasformiamo dolore e rabbia in azione! \nContatta per partecipare\nhttps://forms.gle/cD1391iuqeo2rqcU9 \n 
URL:https://www.cronachediordinariorazzismo.org/appuntamento/verita-e-giustizia-per-le-vittime-della-strage-di-cutro-manifestazione-nazionale/
LOCATION:Crotone\, Crotone
ATTACH;FMTTYPE=image/png:https://www.cronachediordinariorazzismo.org/wp-content/uploads/manifestazione.png
END:VEVENT
BEGIN:VEVENT
DTSTART;TZID=Europe/Rome:20230313T150000
DTEND;TZID=Europe/Rome:20230313T190000
DTSTAMP:20260422T054603
CREATED:20230301T101401Z
LAST-MODIFIED:20230301T101401Z
UID:77022-1678719600-1678734000@www.cronachediordinariorazzismo.org
SUMMARY:AMNESTY INTERNATIONAL E L'ATTIVITA' DELLA TASK FORCE DI HATE SPEECH
DESCRIPTION:Ciclo di seminari: Progetto AICS “Effetto farfalla – cambiare le parole per cambiare il mondo” \nSecondo incontro del progetto Effetto Farfalla con Alessandro Montesi e Dora Farina i quali presenteranno Amnesty International nel contrasto all’hate speech online e le attività della Task Force Hate Speech. \nIntroduce e modera Elena Giacomelli\, Università di Bologna. \n  \nLunedì 13 Marzo 2023 alle ore 15.00 nell’Aula 4 di Palazzo Hercolani\, Strada Maggiore 45\, Bologna. \nPossibilità di seguire la diretta facebook dalla pagina “Rete nazionale per il contrasto ai fenomeni d’odio”. \n 
URL:https://www.cronachediordinariorazzismo.org/appuntamento/amnesty-international-e-lattivita-della-task-force-di-hate-speech/
LOCATION:Aula 4 – Palazzo Hercolani\, Strada Maggiore\, 45\, Bologna\, Italia
ATTACH;FMTTYPE=image/jpeg:https://www.cronachediordinariorazzismo.org/wp-content/uploads/0313-amnesty.jpg
END:VEVENT
BEGIN:VEVENT
DTSTART;TZID=Europe/Rome:20230314T150000
DTEND;TZID=Europe/Rome:20230314T173000
DTSTAMP:20260422T054603
CREATED:20230303T093628Z
LAST-MODIFIED:20230303T093628Z
UID:77156-1678806000-1678815000@www.cronachediordinariorazzismo.org
SUMMARY:Razzismo e Antirazzismo in Italia\, percorsi fra passato\, memoria e presente
DESCRIPTION:L’Università di Macerata in collaborazione con l’Università di Roma Tre\, i relativi dipartimenti di Studi Umanistici e il patrocinio del CUG Unimc organizzano un ciclo di Seminari per l’annualità accademica 2022/20223 sul tema antirazzismo. Gli incontri si terranno tutti presso l’Università degli Studi di Roma Tre\, Dipartimento di Studi Umanistici in in Via Ostienze 234\, Roma. \n  \nMartedì 14 Marzo alle ore 15.00 presso la Sala del Consiglio di dipartimento  si terrà un seminario tenuto da Marcello Maneri dal titolo Le idee di razza in ottica comparativa. \nIntroduce Natascia Mattucci\, presidente CUG e Prorettrice Unimc al Welfare e all’Uguaglianza di genere. \nPer ulteriori informazioni visita il sito del Dipartimento di Studi Umanistici dell’Università degli studi di Roma Tre
URL:https://www.cronachediordinariorazzismo.org/appuntamento/razzismo-e-antirazzismo-in-italia-percorsi-fra-passato-memoria-e-presente/
LOCATION:Dipartimento studi umanistici Roma Tre\, via Ostiense 234\, Roma\, Italia
ATTACH;FMTTYPE=image/jpeg:https://www.cronachediordinariorazzismo.org/wp-content/uploads/pub_crop_thumb_Immagine_88552d93-d1c1-415c-ba42-a2ffa1be5acd.jpg
END:VEVENT
BEGIN:VEVENT
DTSTART;TZID=Europe/Rome:20230318T140000
DTEND;TZID=Europe/Rome:20230318T160000
DTSTAMP:20260422T054603
CREATED:20230314T123723Z
LAST-MODIFIED:20230314T123723Z
UID:77237-1679148000-1679155200@www.cronachediordinariorazzismo.org
SUMMARY:MEDIA REPRESENTATION OF BLACK WOMEN
DESCRIPTION:Sorelle Afroitaliane ha il piacere di invitarvi ad una relazione sulla rappresentazione delle donne nere nei media. \nLa nostra relatrice ospite è Stefania Okereke\, una giornalista e produttrice multimediale italo-nigeriana della BBC di Londra. Una delle principali emittenti di servizio pubblico al mondo. \nAttualmente sta producendo numerosi notiziari\, attualità e programmi per la BBC Africa e lavora per la radio\, il digitale e la TV. I suoi lavori precedenti includono BBC Panorama\, documentari BBC 2 e 3\, programmi Radio 4 e in prima serata Live\, The One Show. Ha lavorato anche su ITV X factor\, Channel 4 e Sky. \nStefania è laureata con lode presso la Westminster University di Londra e si è laureata in Scienze Umane al Liceo Anguissola di Cremona. Ha vinto un BBC Ariel Unsung Hero Award nel 2020 ed è stata selezionata per il programma BBC Diversity Progression 2021. \nÈ appassionata di documentari\, storie guidate dai personaggi e fotografia e vuole continuare a utilizzare la sua esperienza personale e il giornalismo per produrre contenuti di alta qualità e coprire storie sottorappresentate che spesso sono un’agenda off-news. \nUnisciti a noi per questo straordinario e stimolante evento dalle 14:00 alle 16:00 su – \nZoom: \nID riunione – 791 1687 4824 \nCodice di accesso – Q89HzG
URL:https://www.cronachediordinariorazzismo.org/appuntamento/media-representation-of-black-women/
LOCATION:Virtuale Via Zoom
ATTACH;FMTTYPE=image/jpeg:https://www.cronachediordinariorazzismo.org/wp-content/uploads/326768322_858903805335357_3147323167795335118_n.jpg
END:VEVENT
BEGIN:VEVENT
DTSTART;TZID=Europe/Rome:20230318T170000
DTEND;TZID=Europe/Rome:20230318T210000
DTSTAMP:20260422T054603
CREATED:20230314T122343Z
LAST-MODIFIED:20230314T122440Z
UID:77233-1679158800-1679173200@www.cronachediordinariorazzismo.org
SUMMARY:Fermare la strage. Subito!
DESCRIPTION:La STRAGE DI CUTRO non è stato un incidente imprevedibile\, ma la conseguenza inevitabile delle politiche di chiusura ed esternalizzazione delle frontiere perpetrate dall’Europa. Quelle persone\, adulti e bambini\, si potevano e si dovevano salvare!\nI governi europei dichiarano di voler impedire le partenze\, ma non si impegnano per la realizzazione di canali legali di fuga: pertanto obbligano chi fugge da guerre\, persecuzioni\, cambiamenti climatici e povertà a rivolgersi ai trafficanti.\nA CUTRO e in tutta Italia CHIEDIAMO un’indagine seria che faccia chiarezza su quanto è successo davanti le coste calabresi\, sulla catena di comando e sulle responsabilità.\nMa – come da anni facciamo – CHIEDIAMO anche una complessiva e radicale revisione delle politiche migratorie e del regime confinario dell’Unione Europea.\nCHIEDIAMO quindi\, alle Istituzioni europee e a quelle degli Stati membri\, in particolare al Governo e al Parlamento italiani:\n•\nl’attivazione di un sistema europeo e/o nazionale\, coordinato ed efficace\, di ricerca e soccorso nel Mediterraneo;\n•\nl’eliminazione delle asimmetrie nel diritto alla libertà di movimento delle persone\, attraverso la predisposizione di vie di accesso legali all’Europa;\n•\nl’istituzione di corridoi umanitari sicuri\, strutturati\, capillari e stabili;\n•\nl’attivazione dei visti umanitari previsti dal Regolamento Europeo dei Visti;\n•\nl’interruzione immediata delle violenze e violazioni/crimini di Stato che hanno luogo lungo i confini d’Europa\, dalla rotta balcanica\, al Mar Egeo\, al Mediterraneo Centrale\, fino alle enclaves di Ceuta e Melilla e alle rotte via mare verso la Spagna;\n•\nlo smantellamento degli accordi di collaborazione con Paesi terzi (ad esempio la Libia\, la Tunisia\, la Turchia o il Marocco) finalizzati a favorire il rimpatrio forzato (respingimento);\nRingraziamo la popolazione locale che si è attivata con vera solidarietà nell’accoglienza delle persone sopravvissute. Deploriamo\, invece\, il trattamento riservato loro dalle Istituzioni: gli alloggi indecorosi\, le precarie procedure di riconoscimento\, il mancato rispetto del volere delle famiglie riguardo la sepoltura dei loro cari. E la decisione ipocrita e inopportuna di tenere il Consiglio dei ministri sul luogo della strage\, per proporre poi misure solamente repressive e totalmente inadeguate ad affrontare il fenomeno della migrazione verso il nostro Paese e l’Europa.\nUna politica migratoria alternativa a quella di esclusione\, chiusura ed esternalizzazione delle frontiere è possibile ma richiede coraggio morale e un’impostazione genuinamente democratica basata sui diritti dei popoli\, che deve essere accompagnata da una nuova economia e da una visione cooperativistica che anteponga il benessere delle persone e del pianeta al profitto di pochi.\nCORTEO A PALERMO\nSABATO 18/03\nCONCENTRAMENTO DAVANTI AL PORTO H17:00\nCORTEO VIA CRISPI > PIAZZA XIII VITTIME > VIA CAVOUR\nARRIVO A PIAZZA VERDI\, SIT-IN E FLASH MOB
URL:https://www.cronachediordinariorazzismo.org/appuntamento/fermare-la-strage-subito/
LOCATION:Palermo\, via Ponte di Mare 43/47\, Palermo
ATTACH;FMTTYPE=image/jpeg:https://www.cronachediordinariorazzismo.org/wp-content/uploads/331700766_1255838371681249_4829478141936364927_n.jpg
END:VEVENT
BEGIN:VEVENT
DTSTART;TZID=Europe/Rome:20230320T150000
DTEND;TZID=Europe/Rome:20230320T190000
DTSTAMP:20260422T054603
CREATED:20230301T102520Z
LAST-MODIFIED:20230301T102520Z
UID:77043-1679324400-1679338800@www.cronachediordinariorazzismo.org
SUMMARY:I Social Media come spazio di narrazione personale e identitaria delle nuove generazioni di italiane
DESCRIPTION:Ciclo di Seminari: Progetto AICS “Effetto farfalla – cambiamo le parole per cambiare il mondo” \nTerzo incontro del progetto Effetto Farfalla con Simohamed Kaabour e Ali Tanveer i quali racconteranno i social media come spazio di autonarrazione per le nuove generazioni italiane. \nIntroduce e modera Elena Giacomelli\, Università di Bologna \nLunedì 20 Marzo 2023 alle ore 15.00 nell’Aula 4 di Palazzo Hercolani\, Strada Maggiore 45\, Bologna. \nPossibilità di seguire la diretta facebook dalla pagina “Rete nazionale per il contrasto ai fenomeni d’odio”. \nPer maggiori info: elena.giacomelli4@unibo.it
URL:https://www.cronachediordinariorazzismo.org/appuntamento/i-social-media-come-spazio-di-narrazione-personale-e-identitaria-delle-nuove-generazioni-di-italiane/
LOCATION:Aula 4 – Palazzo Hercolani\, Strada Maggiore\, 45\, Bologna\, Italia
ATTACH;FMTTYPE=image/jpeg:https://www.cronachediordinariorazzismo.org/wp-content/uploads/0320-conngi.jpg
END:VEVENT
BEGIN:VEVENT
DTSTART;TZID=Europe/Rome:20230321T150000
DTEND;TZID=Europe/Rome:20230321T173000
DTSTAMP:20260422T054603
CREATED:20230303T094054Z
LAST-MODIFIED:20230303T094054Z
UID:77159-1679410800-1679419800@www.cronachediordinariorazzismo.org
SUMMARY:Razzismo e Antirazzismo in Italia\, percorsi fra passato\, memoria e presente
DESCRIPTION:L’Università di Macerata in collaborazione con l’Università di Roma Tre\, i relativi dipartimenti di Studi Umanistici e il patrocinio del CUG Unimc organizzano un ciclo di Seminari per l’annualità accademica 2022/20223 sul tema antirazzismo. Gli incontri si terranno tutti presso l’Università degli Studi di Roma Tre\, Dipartimento di Studi Umanistici in in Via Ostienze 234\, Roma. \n  \nMartedì 21 marzo\, ore 15.00-­‐17.30 Aula Professori\, ex Presidenza. \nGaia DELPINO e Rosa Anna DI LELLA Collezione coloniale. Processi di risignificazione al Museo delle Civiltà \nPer ulteriori informazioni visita il sito del Dipartimento di Studi Umanistici dell’Università degli studi di Roma Tre
URL:https://www.cronachediordinariorazzismo.org/appuntamento/razzismo-e-antirazzismo-in-italia-percorsi-fra-passato-memoria-e-presente-2/
LOCATION:Dipartimento studi umanistici Roma Tre\, via Ostiense 234\, Roma\, Italia
ATTACH;FMTTYPE=image/jpeg:https://www.cronachediordinariorazzismo.org/wp-content/uploads/pub_crop_thumb_Immagine_88552d93-d1c1-415c-ba42-a2ffa1be5acd.jpg
END:VEVENT
BEGIN:VEVENT
DTSTART;TZID=Europe/Rome:20230321T170000
DTEND;TZID=Europe/Rome:20230321T200000
DTSTAMP:20260422T054603
CREATED:20230317T114206Z
LAST-MODIFIED:20230317T114206Z
UID:77274-1679418000-1679428800@www.cronachediordinariorazzismo.org
SUMMARY:Presentazione Primo rapporto Osservatorio SPAD e Piano per una città antirazzista e interculturale
DESCRIPTION:Programma dell’evento\nPRIMA SESSIONE – Presentazione del primo rapporto dell’Osservatorio SPAD\n– Emily Marion Clancy\, Vicesindaca Comune di Bologna\, Saluti istituzionali e introduzione\n– Davide Costantino\, COSPE Onlus\, Verso un Osservatorio cittadino sul tema delle discriminazioni\, metodologia ed analisi dei dati raccolti\n– Lucia Fresa\, Comune di Bologna\, Sfide e prospettive di sviluppo dello SPAD\nModera: Marta Meloni\, Africa e Mediterraneo\nProiezione del video “Un anno di SPAD”\, a cura di COSPE onlus e Africa e Mediterraneo\nSECONDA SESSIONE – Tavola Rotonda- Per una città antirazzista e interculturale: un percorso condiviso tra istituzioni e società civile verso l’attuazione del Piano d’Azione Locale del Comune di Bologna\nInterventi di:\n– Alessandra Tattini e Beatrice Collina\, Ufficio Nuove cittadinanze\, cooperazione e diritti umani\n– Piergiorgio Nassisi\, Polizia Locale\n– Antonio Ciccarone\, Biblioteche di pubblica lettura\n– Michelle Rivera\, Status Equo APS e Sonrisas Andinas APS\n– Anthony Chima\, Hayat onlus\nModera: Marina Pirazzi\, Eos Extrafondente Open Source\nConsiderazioni conclusive:\nRita Monticelli\, Consigliera delegata ai diritti umani e dialogo interreligioso e interculturale del Comune di Bologna
URL:https://www.cronachediordinariorazzismo.org/appuntamento/presentazione-primo-rapporto-osservatorio-spad-e-piano-per-una-citta-antirazzista-e-interculturale/
LOCATION:Centro Interculturale Zonarelli\, Via G. A. Sacco\, 14\, Bologna\, Italia
ATTACH;FMTTYPE=image/jpeg:https://www.cronachediordinariorazzismo.org/wp-content/uploads/336189576_648322627301101_7863695654966235616_n.jpg
END:VEVENT
BEGIN:VEVENT
DTSTART;TZID=Europe/Rome:20230322T190000
DTEND;TZID=Europe/Rome:20230322T210000
DTSTAMP:20260422T054603
CREATED:20230320T103645Z
LAST-MODIFIED:20230320T103645Z
UID:77365-1679511600-1679518800@www.cronachediordinariorazzismo.org
SUMMARY:The fight against racism and the extreme right in Europe
DESCRIPTION:Per la Settimana d’azione europea contro il razzismo\, ecco l’iniziativa di Aufstehen gegen Rassismus – Stand Up To Racism (Germania)\, che sta organizzando il terzo evento online del 2023:\nTra i relatori ospiti ci sono:\n– Laura Fernández\, attivista spagnola per i diritti umani che da anni si batte per i diritti dei rifugiati alle frontiere meridionali della Spagna\,\n– David Karvala di Barcellona\, attivo nell’alleanza Unitat Contra el Feixisme i el Racisme – UCFR – Unità contro il fascismo e il razzismo – e nella campagna internazionale Mondo contro il razzismo e il fascismo\n– Petros Konstantinou dalla Grecia\, portavoce dell’alleanza greca antirazzista e antifascista KEERFA Keerfa Salonikis.\nVerranno condivise le loro esperienze di resistenza contro il\nregime disumano dei confini.\nPer maggiori informazioni su iscrizioni o altro scrivere a info@aufstehen-gegen-rassismus.de\, entro e non oltre mercoledì 22 marzo alle ore 16.00. \n 
URL:https://www.cronachediordinariorazzismo.org/appuntamento/the-fight-against-racism-and-the-extreme-right-in-europe/
LOCATION:evento online
ATTACH;FMTTYPE=image/png:https://www.cronachediordinariorazzismo.org/wp-content/uploads/Catturaunited.png
END:VEVENT
BEGIN:VEVENT
DTSTART;TZID=Europe/Rome:20230324T160000
DTEND;TZID=Europe/Rome:20230324T190000
DTSTAMP:20260422T054603
CREATED:20230323T093734Z
LAST-MODIFIED:20230323T093734Z
UID:77408-1679673600-1679684400@www.cronachediordinariorazzismo.org
SUMMARY:Memoriae. Il senso di un luogo
DESCRIPTION:In occasione della Giornata mondiale per l’eliminazione delle discriminazioni razziali che si celebra il 21 marzo\, anche quest’anno UNAR promuove la “Settimana di azione contro il razzismo.” Nel corso della settimana Amref Italia sarà promotrice di quattro incontri nell’ambito del progetto Get Under My Skin! (Torino\, Verona\, Firenze e Reggio Emilia) dedicati alla diffusione di un’informazione corretta e accurata dell’Africa e degli afrodiscendenti per contrastare razzismo anti -nero e afrofobia. \nIl progetto\, in partenariato con l’Associazione Le Réseau\, mira a divulgare in modo innovativo informazioni corrette sul razzismo sistemico per eliminare forme di afrofobia e razzismo anti-nero. \nProtagonista sarà la rete AFAR\, Afro-descendant Fighting Against Racism\, giovani professionisti preparati sulla decostruzione di bias razzisti e sulla ricerca di pratiche non discriminatorie. Get Under My Skin! moltiplica spazi pubblici di confronto per aumentare la consapevolezza rispetto ad afrofobia e razzismo anti-nero attraverso il coinvolgimento diretto delle persone intitolate ad avere voce. \nA Torino\, Verona\, Napoli e Reggio Emilia\, quattro eventi organizzati da Amref con Le Réseau nell’ambito delle attività della XIX Settimana di azione contro il razzismo promossa da UNAR – Ufficio Nazionale Antidiscriminazioni Razziali. Get Under My Skin! un progetto per diffondere un’informazione corretta e accurata dell’Africa e degli Afrodiscendenti e contrastare razzismo sistemico e afrofobia. \nNAPOLI  24 marzo 2023\, ore 16.00 – Officine Gomitoli (Piazza Enrico de Nicola\, 46) \n“Memoriae. Il senso di un luogo” In collaborazione con Officine Gomitoli – Dedalus
URL:https://www.cronachediordinariorazzismo.org/appuntamento/memoriae-il-senso-di-un-luogo/
LOCATION:Officine Gomitoli\, Piazza Enrico De Nicola\, 46\, Napoli
ATTACH;FMTTYPE=image/jpeg:https://www.cronachediordinariorazzismo.org/wp-content/uploads/WhatsApp-Image-2023-03-23-at-11.25.09-3.jpeg
END:VEVENT
BEGIN:VEVENT
DTSTART;TZID=Europe/Rome:20230324T190000
DTEND;TZID=Europe/Rome:20230324T210000
DTSTAMP:20260422T054603
CREATED:20230323T094416Z
LAST-MODIFIED:20230323T094531Z
UID:77414-1679684400-1679691600@www.cronachediordinariorazzismo.org
SUMMARY:Stand up Comedy di John Modupe
DESCRIPTION:In occasione della Giornata mondiale per l’eliminazione delle discriminazioni razziali che si celebra il 21 marzo\, anche quest’anno UNAR promuove la “Settimana di azione contro il razzismo.” Nel corso della settimana Amref Italia sarà promotrice di quattro incontri nell’ambito del progetto Get Under My Skin! (Torino\, Verona\, Firenze e Reggio Emilia) dedicati alla diffusione di un’informazione corretta e accurata dell’Africa e degli afrodiscendenti per contrastare razzismo anti -nero e afrofobia. \nIl progetto\, in partenariato con l’Associazione Le Réseau\, mira a divulgare in modo innovativo informazioni corrette sul razzismo sistemico per eliminare forme di afrofobia e razzismo anti-nero. \nProtagonista sarà la rete AFAR\, Afro-descendant Fighting Against Racism\, giovani professionisti preparati sulla decostruzione di bias razzisti e sulla ricerca di pratiche non discriminatorie. Get Under My Skin! moltiplica spazi pubblici di confronto per aumentare la consapevolezza rispetto ad afrofobia e razzismo anti-nero attraverso il coinvolgimento diretto delle persone intitolate ad avere voce. \nA Torino\, Verona\, Napoli e Reggio Emilia\, quattro eventi organizzati da Amref con Le Réseau nell’ambito delle attività della XIX Settimana di azione contro il razzismo promossa da UNAR – Ufficio Nazionale Antidiscriminazioni Razziali. Get Under My Skin! un progetto per diffondere un’informazione corretta e accurata dell’Africa e degli Afrodiscendenti e contrastare razzismo sistemico e afrofobia. \nTORINO 24 marzo 2023\, ore 19 – Checchi Point – Casa del Quartiere di Aurora Via Antonio Cecchi 17 \n“Stand up Comedy di John Modupe” In collaborazione con In Mente Itaca
URL:https://www.cronachediordinariorazzismo.org/appuntamento/77414/
LOCATION:Casa del Quartiere di Aurora\, Via Antonio Cecchi 17\, Torino
ATTACH;FMTTYPE=image/jpeg:https://www.cronachediordinariorazzismo.org/wp-content/uploads/WhatsApp-Image-2023-03-23-at-11.25.09-2.jpeg
END:VEVENT
BEGIN:VEVENT
DTSTART;TZID=Europe/Rome:20230324T203000
DTEND;TZID=Europe/Rome:20230324T220000
DTSTAMP:20260422T054603
CREATED:20230323T093200Z
LAST-MODIFIED:20230323T093200Z
UID:77400-1679689800-1679695200@www.cronachediordinariorazzismo.org
SUMMARY:“Cineforum – Essere Afroitaliani ieri e oggi
DESCRIPTION:n occasione della Giornata mondiale per l’eliminazione delle discriminazioni razziali che si celebra il 21 marzo\, anche quest’anno UNAR promuove la “Settimana di azione contro il razzismo.” Nel corso della settimana Amref Italia sarà promotrice di quattro incontri nell’ambito del progetto Get Under My Skin! (Torino\, Verona\, Firenze e Reggio Emilia) dedicati alla diffusione di un’informazione corretta e accurata dell’Africa e degli afrodiscendenti per contrastare razzismo anti -nero e afrofobia. \nIl progetto\, in partenariato con l’Associazione Le Réseau\, mira a divulgare in modo innovativo informazioni corrette sul razzismo sistemico per eliminare forme di afrofobia e razzismo anti-nero. \nProtagonista sarà la rete AFAR\, Afro-descendant Fighting Against Racism\, giovani professionisti preparati sulla decostruzione di bias razzisti e sulla ricerca di pratiche non discriminatorie. Get Under My Skin! moltiplica spazi pubblici di confronto per aumentare la consapevolezza rispetto ad afrofobia e razzismo anti-nero attraverso il coinvolgimento diretto delle persone intitolate ad avere voce. \nA Torino\, Verona\, Napoli e Reggio Emilia\, quattro eventi organizzati da Amref con Le Réseau nell’ambito delle attività della XIX Settimana di azione contro il razzismo promossa da UNAR – Ufficio Nazionale Antidiscriminazioni Razziali. Get Under My Skin! un progetto per diffondere un’informazione corretta e accurata dell’Africa e degli Afrodiscendenti e contrastare razzismo sistemico e afrofobia. \n  \nVERONA 24 marzo 2023\, ore 20.30 – Fucina Culturale Machiavelli (Via Madonna del Terraglio\, 10) \n“Cineforum – Essere Afroitaliani ieri e oggi” In collaborazione con Afro-veronesi
URL:https://www.cronachediordinariorazzismo.org/appuntamento/cineforum-essere-afroitaliani-ieri-e-oggi/
LOCATION:Fucina Culturale Machiavelli\, Via Madonna del Terraglio\,10\, Verona
ATTACH;FMTTYPE=image/jpeg:https://www.cronachediordinariorazzismo.org/wp-content/uploads/WhatsApp-Image-2023-03-23-at-11.25.09-1.jpeg
END:VEVENT
BEGIN:VEVENT
DTSTART;TZID=Europe/Rome:20230325T110000
DTEND;TZID=Europe/Rome:20230325T133000
DTSTAMP:20260422T054603
CREATED:20230323T094215Z
LAST-MODIFIED:20230323T094215Z
UID:77411-1679742000-1679751000@www.cronachediordinariorazzismo.org
SUMMARY:Rappresentanza politica degli Afrodiscendenti
DESCRIPTION:In occasione della Giornata mondiale per l’eliminazione delle discriminazioni razziali che si celebra il 21 marzo\, anche quest’anno UNAR promuove la “Settimana di azione contro il razzismo.” Nel corso della settimana Amref Italia sarà promotrice di quattro incontri nell’ambito del progetto Get Under My Skin! (Torino\, Verona\, Firenze e Reggio Emilia) dedicati alla diffusione di un’informazione corretta e accurata dell’Africa e degli afrodiscendenti per contrastare razzismo anti -nero e afrofobia. \nIl progetto\, in partenariato con l’Associazione Le Réseau\, mira a divulgare in modo innovativo informazioni corrette sul razzismo sistemico per eliminare forme di afrofobia e razzismo anti-nero. \nProtagonista sarà la rete AFAR\, Afro-descendant Fighting Against Racism\, giovani professionisti preparati sulla decostruzione di bias razzisti e sulla ricerca di pratiche non discriminatorie. Get Under My Skin! moltiplica spazi pubblici di confronto per aumentare la consapevolezza rispetto ad afrofobia e razzismo anti-nero attraverso il coinvolgimento diretto delle persone intitolate ad avere voce. \nA Torino\, Verona\, Napoli e Reggio Emilia\, quattro eventi organizzati da Amref con Le Réseau nell’ambito delle attività della XIX Settimana di azione contro il razzismo promossa da UNAR – Ufficio Nazionale Antidiscriminazioni Razziali. Get Under My Skin! un progetto per diffondere un’informazione corretta e accurata dell’Africa e degli Afrodiscendenti e contrastare razzismo sistemico e afrofobia. \nREGGIO EMILIA  25 marzo 2023\, ore 11 – Centro Sociale Stranieri (Via Don Luigi Sturzo\, 1) \n“Rappresentanza politica degli Afrodiscendenti” In collaborazione con Mondo Insieme 
URL:https://www.cronachediordinariorazzismo.org/appuntamento/rappresentanza-politica-degli-afrodiscendenti/
LOCATION:Centro Sociale Stranieri\, Via Don Luigi Sturzo\, 1\, Reggio Emilia
END:VEVENT
BEGIN:VEVENT
DTSTART;TZID=Europe/Rome:20230331T183000
DTEND;TZID=Europe/Rome:20230331T203000
DTSTAMP:20260422T054603
CREATED:20230327T210343Z
LAST-MODIFIED:20230327T210343Z
UID:77425-1680287400-1680294600@www.cronachediordinariorazzismo.org
SUMMARY:TRAUMA COLONIALE
DESCRIPTION:Venerdì 31 Marzo alle 18.30\, la libreria Antigone ospiterà presentazione del libro di Karima Nazali “Trauma Coloniale. Indagine psicopolitica della colonialità in Algeria”. \nInterverranno Malek Bahri\, Farida Nemiri e Enrico Gullo. \n  \n 
URL:https://www.cronachediordinariorazzismo.org/appuntamento/trauma-coloniale/
LOCATION:Libreria Antigone\, Via Piceni\, 1\, Roma
ATTACH;FMTTYPE=image/jpeg:https://www.cronachediordinariorazzismo.org/wp-content/uploads/WhatsApp-Image-2023-03-27-at-23.00.43.jpeg
END:VEVENT
END:VCALENDAR