BEGIN:VCALENDAR
VERSION:2.0
PRODID:-//Cronache di ordinario razzismo - ECPv6.15.7//NONSGML v1.0//EN
CALSCALE:GREGORIAN
METHOD:PUBLISH
X-WR-CALNAME:Cronache di ordinario razzismo
X-ORIGINAL-URL:https://www.cronachediordinariorazzismo.org
X-WR-CALDESC:Eventi per Cronache di ordinario razzismo
REFRESH-INTERVAL;VALUE=DURATION:PT1H
X-Robots-Tag:noindex
X-PUBLISHED-TTL:PT1H
BEGIN:VTIMEZONE
TZID:Europe/Rome
BEGIN:DAYLIGHT
TZOFFSETFROM:+0100
TZOFFSETTO:+0200
TZNAME:CEST
DTSTART:20220327T010000
END:DAYLIGHT
BEGIN:STANDARD
TZOFFSETFROM:+0200
TZOFFSETTO:+0100
TZNAME:CET
DTSTART:20221030T010000
END:STANDARD
BEGIN:DAYLIGHT
TZOFFSETFROM:+0100
TZOFFSETTO:+0200
TZNAME:CEST
DTSTART:20230326T010000
END:DAYLIGHT
BEGIN:STANDARD
TZOFFSETFROM:+0200
TZOFFSETTO:+0100
TZNAME:CET
DTSTART:20231029T010000
END:STANDARD
BEGIN:DAYLIGHT
TZOFFSETFROM:+0100
TZOFFSETTO:+0200
TZNAME:CEST
DTSTART:20240331T010000
END:DAYLIGHT
BEGIN:STANDARD
TZOFFSETFROM:+0200
TZOFFSETTO:+0100
TZNAME:CET
DTSTART:20241027T010000
END:STANDARD
END:VTIMEZONE
BEGIN:VEVENT
DTSTART;TZID=Europe/Rome:20230309T180000
DTEND;TZID=Europe/Rome:20230309T200000
DTSTAMP:20260423T045149
CREATED:20230309T100121Z
LAST-MODIFIED:20230309T100121Z
UID:77193-1678384800-1678392000@www.cronachediordinariorazzismo.org
SUMMARY:Tuttə a Crotone. Siamo tuttə coinvoltə
DESCRIPTION:SIAMO PER SEMPRE COINVOLT*\nGiovedì ore 18.00 a Casetta Rossa con Mediterranea Savings Humans\nAssemblea Pubblica verso la manifestazione nazionale di Sabato 11 a Steccato Di Cutro\n“Verità e giustizia per le vittime della strage di Steccato di Cutro”\nIl 26 febbraio si è consumata l’ennesima strage di migranti alle porte di casa nostra\, almeno 70 corpi sono stati recuperati e molti ancora giacciono in quel cimitero d’acqua che ormai è diventato il Mar Mediterraneo.\nUn nuovo 3 ottobre\, di nuovo una strage evitabile. Una strage di stato perché tante sono le incongruenze emerse dalla spiegazioni ufficiali\, agghiaccianti le dichiarazioni del ministro degli Interni. Sappiamo che ad uccidere uomini donne e bambini non è stato il mare\, ma le politiche italiane ed europee che militarizzano le frontiere\, criminalizzano il soccorso\, stringono accordi coi macellai libici e fomentano una politica di odio e criminalizzazione nei confronti di chi scappa da guerre\, fame e siccità o che semplicemente si muove per realizzare una vita degna.\nNon possiamo permettere di consegnare nuovamente quello che è successo al silenzio\, trasformiamo rabbia e dolore in azione.\nTutt* a Steccato di Cutro a reclamare verità e giustizia. Abbattiamo i confini\, libertà di movimento per tutti e tutte!
URL:https://www.cronachediordinariorazzismo.org/appuntamento/tutt%c9%99-a-crotone-siamo-tutt%c9%99-coinvolt%c9%99/
LOCATION:Casetta Rossa spa\, Via Giovanni Battista Magnaghi\, 14\,\, Roma\, 00154
ATTACH;FMTTYPE=image/jpeg:https://www.cronachediordinariorazzismo.org/wp-content/uploads/330395145_648606633479398_4269718684862658706_n.jpg
END:VEVENT
END:VCALENDAR