BEGIN:VCALENDAR
VERSION:2.0
PRODID:-//Cronache di ordinario razzismo - ECPv6.15.7//NONSGML v1.0//EN
CALSCALE:GREGORIAN
METHOD:PUBLISH
X-ORIGINAL-URL:https://www.cronachediordinariorazzismo.org
X-WR-CALDESC:Eventi per Cronache di ordinario razzismo
REFRESH-INTERVAL;VALUE=DURATION:PT1H
X-Robots-Tag:noindex
X-PUBLISHED-TTL:PT1H
BEGIN:VTIMEZONE
TZID:Europe/Rome
BEGIN:DAYLIGHT
TZOFFSETFROM:+0100
TZOFFSETTO:+0200
TZNAME:CEST
DTSTART:20220327T010000
END:DAYLIGHT
BEGIN:STANDARD
TZOFFSETFROM:+0200
TZOFFSETTO:+0100
TZNAME:CET
DTSTART:20221030T010000
END:STANDARD
BEGIN:DAYLIGHT
TZOFFSETFROM:+0100
TZOFFSETTO:+0200
TZNAME:CEST
DTSTART:20230326T010000
END:DAYLIGHT
BEGIN:STANDARD
TZOFFSETFROM:+0200
TZOFFSETTO:+0100
TZNAME:CET
DTSTART:20231029T010000
END:STANDARD
BEGIN:DAYLIGHT
TZOFFSETFROM:+0100
TZOFFSETTO:+0200
TZNAME:CEST
DTSTART:20240331T010000
END:DAYLIGHT
BEGIN:STANDARD
TZOFFSETFROM:+0200
TZOFFSETTO:+0100
TZNAME:CET
DTSTART:20241027T010000
END:STANDARD
END:VTIMEZONE
BEGIN:VEVENT
DTSTART;TZID=Europe/Rome:20231204T163000
DTEND;TZID=Europe/Rome:20231204T193000
DTSTAMP:20260422T130946
CREATED:20231130T134613Z
LAST-MODIFIED:20231130T134613Z
UID:78919-1701707400-1701718200@www.cronachediordinariorazzismo.org
SUMMARY:Processi penali e Diritti Umani tra Italia e Argentina
DESCRIPTION:Lunedì 4 dicembre presso l’Università Roma Tre\, nel Dipartimento di Scienze Politiche\, si terrà il convegno “Processi penali e Diritti umani tra Italia e Argentina”. \nDi seguito il programma dell’evento: \nSaluti istituzionali\nEmilia Fiandra\, Direttrice del Dipartimento di Scienze Poliiche\, Università Roma Tre\nRoberto Carlés\, Ambasciatore d’Argentina in Italia\nAmedeo Ciaccheri\, Presidente del Municipio Roma VIII\nAntonio D’Alessandri\, Delegato al coordinamento delle attività di Terza Missione\, Dipartimento di Scienze Politiche \nIntervengono \nLaura Fotia\, Docente di Storia dell’America Latina\nArturo Salerni\, avvocato difensore dei familiari dei desaparecidos argentini\nMarta Lucisano\, avvocata difensora dei familiari dei desaparecidos argentini\nLuca Ventrella\, Avvocato dello Stato nel processo Condor\nJorge Ithurburu\, Presidente di 24marzo.it Onlus \nh.16.30\, presso Sala Lauree di Scienze Politiche\, via Gabriello Chiabrera 199. 
URL:https://www.cronachediordinariorazzismo.org/appuntamento/processi-penali-e-diritti-umani-tra-italia-e-argentina/
LOCATION:Sala Lauree di Scienze Politiche\, via Gabriello Chiabrera 199\, Roma
ATTACH;FMTTYPE=image/jpeg:https://www.cronachediordinariorazzismo.org/wp-content/uploads/406045313_768657948637532_167284993334194228_n.jpg
END:VEVENT
BEGIN:VEVENT
DTSTART;TZID=Europe/Rome:20231207T100000
DTEND;TZID=Europe/Rome:20231207T110000
DTSTAMP:20260422T130946
CREATED:20231206T104909Z
LAST-MODIFIED:20231206T104909Z
UID:78955-1701943200-1701946800@www.cronachediordinariorazzismo.org
SUMMARY:Corellino d’oro alla città di Milano? No grazie! Chiudiamo il CPR di via Corelli
DESCRIPTION:Flash mob giovedì 7 dicembre h 10 davanti al teatro Dal Verme dove si tiene la premiazione degli Ambrogini d’oro per chiedere la chiusura del CPR\n\n \n\nIl 7 dicembre la rete Mai più lager – No ai CPR assegna il “Corellino d’oro” alla città dove ha sede il lager di Stato che in questi giorni tutta Italia ha imparato a conoscere.\n\n \n\nIl Corellino verrà consegnato simbolicamente in un flash mob davanti al teatro Dal Verme alle ore 10.00\, in contemporanea con la premiazione degli Ambrogini d’Oro con la speranza che sia la prima e l’ultima volta. Il CPR di via Corelli deve essere chiuso per sempre\, così come tutti gli altri in Italia e quelli che si vorrebbero aprire in Albania.\n\n \n\nNon esistono lager dal volto umano\, perciò rigettiamo l’idea del commissariamento\, che non produrrebbe altro che nuova violenza di Stato. Il 1° dicembre la perquisizione compiuta dalla Guardia di Finanza nel CPR di via Corelli ha reso manifesto l’orrore che si nasconde tra le sue mura: violenze\, maltrattamenti\, mancato rispetto di qualunque diritto essenziale. Tutto quello che la Rete negli anni ha denunciato con ostinazione.\n\n \n\nIstituzioni\, politici\, grandi media sembravano alleati nell’impedire che si facesse luce su quanto accadeva nel segreto del lager; non solo ogni tentativo di entrare nel CPR e di ottenere documentazione sul suo funzionamento ha richiesto estenuanti battaglie legali\, ma manifestazioni e denunce pubbliche cadevano nel silenzio.\n\n \n\nOggi è divenuto finalmente chiaro il perché di tanto accanimento nel difendere il mistero\, e non si potrà mai più dire “Io non sapevo”.\n\n \n\nChiudere il CPR di Milano\, chiudere tutti i CPR\, mai più lager né in Italia né in Libia né altrove: per questo vi chiamiamo a manifestare il 7 dicembre alle ore 10.00 davanti al Teatro dal Verme in via San Giovanni Sul Muro 2.\n\n \n\nRete Mai Più Lager – No ai CPR\n\n \n\n \n\n \n\nImage by Falkenpost from Pixabay
URL:https://www.cronachediordinariorazzismo.org/appuntamento/corellino-doro-alla-citta-di-milano-no-grazie-chiudiamo-il-cpr-di-via-corelli/
LOCATION:Teatro Dal Verme\, Via S. Giovanni Sul Muro\, 2\, Milano
ATTACH;FMTTYPE=image/jpeg:https://www.cronachediordinariorazzismo.org/wp-content/uploads/jail-1652896_1280.jpg
END:VEVENT
BEGIN:VEVENT
DTSTART;TZID=Europe/Rome:20231215T093000
DTEND;TZID=Europe/Rome:20231215T103000
DTSTAMP:20260422T130946
CREATED:20231214T130345Z
LAST-MODIFIED:20231214T130345Z
UID:79053-1702632600-1702636200@www.cronachediordinariorazzismo.org
SUMMARY:L'attività per la chiusura dei CPR non si ferma - Conferenza stampa Mai più Lager - No ai CPR\, venerdì 15/12 h 9.45 davanti al Palazzo di Giustizia di Milano
DESCRIPTION:La rete Mai più lager – No ai CPR organizza venerdì 15 dicembre alle 9.45 una conferenza stampa davanti al Tribunale di Milano\, dove si terrà l’udienza che deciderà del commissariamento del Centro di Permanenza per il Rimpatrio di via Corelli a seguito della nota inchiesta sulla sua mala gestione.\n \nCi auguriamo che l’indagine condotta dalla Procura della Repubblica sui gravi abusi rilevati\, nata anche grazie alle nostre denunce di questi anni\, arrivi ad accertarne le responsabilità a tutti i livelli\, inclusi quelli più alti\, anche della Prefettura che quel gestore ha scelto e prorogato.\n\nDopo il sequestro della società Martinina\, che accogliamo con soddisfazione\, ci aspettiamo che la misura richiesta venga accordata ma riteniamo necessario ribadire che tutti i CPR d’Italia\, a partire da quello di Milano\, vadano definitivamente chiusi. Chiusura\, non certo delocalizzazione in altri paesi\, dove sarebbe pressoché impossibile continuare a vigilare su quanto avviene al loro interno.\n\nNon si tratta del più o meno corretto adempimento di un contratto di appalto: vi è un problema strutturale di compatibilità della detenzione amministrativa con il rispetto dei diritti e della stessa dignità umana delle persone. Non esiste un modo corretto di commettere un’ingiustizia.\n\nSe l’inchiesta ha potuto portare alla luce il trattamento ai limiti della tortura psicofisica riservato ai cosiddetti “ospiti”\, ciò è stato possibile perché nel 2021 il Tribunale di Milano ha riconosciuto ai trattenuti il diritto all’utilizzo del telefono cellulare.\n \nQuesto non sarebbe stato tuttavia sufficiente se all’altro capo di quel telefono non ci fossero state attiviste e attivisti che si sono fatti carico dei compiti di monitoraggio e denuncia che in un paese civile dovrebbero spettare alle Istituzioni.\n \nSe a Milano\, dove le persone trattenute potevano comunicare con la società civile all’esterno\, le condizioni del centro erano quelle che ormai sono sotto gli occhi di chiunque\, che cosa può succedere nel resto d’Italia\, negli altri CPR dove non è possibile provare la sistematicità delle violazioni con foto e video\, dove la discrezionalità\, il buio\, l’opacità non trovano ostacoli?\n\nI CPR rispettosi dei diritti e della dignità non esistono: i CPR vanno chiusi. Su questo tracciato proseguiremo la nostra strada\, come e più di prima.\n\nAppuntamento venerdì 15 dicembre alle ore 9.45 davanti al Tribunale.\n \nContatti: noaicpr@gmail.com – 3471468792
URL:https://www.cronachediordinariorazzismo.org/appuntamento/lattivita-per-la-chiusura-dei-cpr-non-si-ferma-conferenza-stampa-mai-piu-lager-no-ai-cpr-venerdi-15-12-h-9-45-davanti-al-palazzo-di-giustizia-di-milano/
LOCATION:Palazzo di Giustizia\, Via Freguglia\, 1\, Milano
END:VEVENT
BEGIN:VEVENT
DTSTART;TZID=Europe/Rome:20231215T190000
DTEND;TZID=Europe/Rome:20231215T203000
DTSTAMP:20260422T130946
CREATED:20231207T113704Z
LAST-MODIFIED:20231207T113704Z
UID:78981-1702666800-1702672200@www.cronachediordinariorazzismo.org
SUMMARY:DA PYLOS ALL’ACCORDO ITALIA-ALBANIAUN ANNO DI EROSIONE DEI DIRITTI DI MIGRANTI E RIFUGIATI
DESCRIPTION:Alle 3 del mattino del 14 giugno 2023 il peschereccio Adriana affonda al largo di Pylos\, in Grecia. Le persone disperse sono 750 stando alle testimonianze dei sopravvissuti. A distanza di sei mesi dal naufragio\, Amnesty International presenta i risultati di un’inchiesta condotta insieme a Human Rights Watch\, con cui chiede conto delle violazioni dei diritti umani avvenute e dà voce alle richieste di coloro che sono stati maggiormente colpiti da questo e altri naufragi\, sostenendoli nella loro ricerca di verità e giustizia.\nLa strage verificatasi nelle acque greche purtroppo non è un caso isolato. Raggiungere l’Europa continua a essere un rischio per chi si sposta da conflitti\, violazioni\, instabilità politica ed economica. Nonostante il numero dei contesti di crisi sia in costante aumento e\, con esso\, le persone in movimento nel mondo\, l’Europa e i paesi membri non stanno adottando un approccio che tuteli i diritti\, al contrario. L’Unione europea (UE) insiste su politiche emergenziali\, esternalizzazione dei confini\, pratiche di respingimento\, criminalizzazione della solidarietà e della migrazione. L’Italia è allineata a questo approccio escludente e nel corso di quest’anno ha continuato a fare passi indietro\, dall’erosione del diritto alla protezione al protagonismo nelle interazioni con il presidente tunisino finalizzate all’accordo con l’Ue\, dall’annuncio del patto con l’Albania a numerosi altri decreti. \nDurante l’incontro verranno presentati i risultati dell’inchiesta sul naufragio di Pylos\, analizzandoli all’interno del più ampio contesto europeo e guardando nello specifico al panorama italiano. Intervengono:Anneliese Baldaccini\, responsabile Relazioni istituzionali di Amnesty International Italia;Mohamed Dihani\, difensore dei diritti umani e attivista per i diritti del popolo saharawi;Emran Haidari\, referente Comunità afghana Trieste e mediatore culturale. \nModera:\nSerena Chiodo\, migration campaigner Amnesty International Italia. \n  \nPer partecipare è necessaria la prenotazione iscrivendosi al form. I posti sono limitati. \n  \nPer partecipare iscriviti qui
URL:https://www.cronachediordinariorazzismo.org/appuntamento/da-pylos-allaccordo-italia-albaniaun-anno-di-erosione-dei-diritti-di-migranti-e-rifugiati/
LOCATION:Sparwasser\, Via del Pigneto 215\, Roma
END:VEVENT
BEGIN:VEVENT
DTSTART;TZID=Europe/Rome:20231216T140000
DTEND;TZID=Europe/Rome:20231216T160000
DTSTAMP:20260422T130946
CREATED:20231214T112556Z
LAST-MODIFIED:20231214T112556Z
UID:79030-1702735200-1702742400@www.cronachediordinariorazzismo.org
SUMMARY:Sit-in per dire NO al protocollo d'intesa Italia-Albania
DESCRIPTION:Amic3\, abbiamo indetto\, con la collaborazione e l’adesione di un numero molto partecipato di sigle dell’associazionismo e del terzo settore fiorentino\, un sit-in con interventi al microfono che si terrà Sabato 16 Dicembre\, a partire dalle ore 14:00\, nella Piazza cittadina di Santa Maria Novella per dire No al Protocollo d’Intesa Italia – Albania. \nAl momento\, la manifestazione pubblica contro il Protocollo di intesa tra Italia e Albania è sostenuta\, per adesione e coordinamento\, da: COSPE\, Mediterranea Firenze\, Oxfam Italia\, MEDU – Medici per i Diritti umani\, I participate\, ARCI Firenze\, Asiri ODV\, Progetto Arcobaleno\, Comunità delle Piagge\, UDU\, Casa Simonetta\, EUI Researchers’ Union\, Nosotras Onlus\, Associazione dei Gambiani in Toscana\, Amnesty Giovani\, Amnesty Firenze\, Forum per cambiare l’ordine delle cose ed il documento continua ad essere aperto ad ulteriori adesioni.\n.\n.\nAl termine del sit-in\, chi vorrà potrà unirsi al Corteo in solidarietà del popolo palestinese in partenza alle ore 16:00 dalla Piazza Santa Maria Novella\, coordinato dalla Rete Firenze per la Palestina al fine di chiedere l’immediato cessate il fuoco\, la fine del massacro in corso e la protezione dei civili in tutta la Palestina nel rispetto del diritto internazionale.
URL:https://www.cronachediordinariorazzismo.org/appuntamento/sit-in-per-dire-no-al-protocollo-dintesa-italia-albania/
LOCATION:Piazza Santa Maria Novella\, Piazza Santa Maria Novella\, Firenze
ATTACH;FMTTYPE=image/jpeg:https://www.cronachediordinariorazzismo.org/wp-content/uploads/Immagine-WhatsApp-2023-12-14-ore-11.44.16_4a326e20.jpg
END:VEVENT
BEGIN:VEVENT
DTSTART;TZID=Europe/Rome:20231220T120000
DTEND;TZID=Europe/Rome:20231220T170000
DTSTAMP:20260422T130946
CREATED:20231213T123324Z
LAST-MODIFIED:20231213T123324Z
UID:79010-1703073600-1703091600@www.cronachediordinariorazzismo.org
SUMMARY:La lotteria dell’ingresso per lavoro in Italia: i veri numeri del decreto flussi
DESCRIPTION:Mercoledì 20 dicembre alle ore 12.00 presso la sala “Caduti di Nassirya” di Palazzo Madama a Roma presenteremo il nostro dossier sul #DecretoFlussi: un’analisi dettagliata dell’impatto degli interventi normativi in materia di ingressi per lavoro per evidenziare i limiti di un sistema rigido e inefficace. \nPer partecipare all’evento è necessario accreditarsi scrivendo a: info@erostraniero.it \nℹ️—–ℹ️—–ℹ️—–ℹ️—–ℹ️ \nEro straniero è una campagna promossa da @abuondiritto @actionaiditalia @asgi_italy Federazione Chiese Evangeliche Italiane (Fcei)\, @oxfamitalia @arcinazionale @cnca.nazionale @cilditalia Fondazione Casa della carità “Angelo Abriani”\, @radicali.it \, con il sostegno di decine di altre organizzazioni.
URL:https://www.cronachediordinariorazzismo.org/appuntamento/la-lotteria-dellingresso-per-lavoro-in-italia-i-veri-numeri-del-decreto-flussi/
LOCATION:Palazzo Madama\, Piazza Madama\, Roma
ATTACH;FMTTYPE=image/png:https://www.cronachediordinariorazzismo.org/wp-content/uploads/erostraniero.png
END:VEVENT
END:VCALENDAR