BEGIN:VCALENDAR
VERSION:2.0
PRODID:-//Cronache di ordinario razzismo - ECPv6.15.7//NONSGML v1.0//EN
CALSCALE:GREGORIAN
METHOD:PUBLISH
X-WR-CALNAME:Cronache di ordinario razzismo
X-ORIGINAL-URL:https://www.cronachediordinariorazzismo.org
X-WR-CALDESC:Eventi per Cronache di ordinario razzismo
REFRESH-INTERVAL;VALUE=DURATION:PT1H
X-Robots-Tag:noindex
X-PUBLISHED-TTL:PT1H
BEGIN:VTIMEZONE
TZID:Europe/Rome
BEGIN:DAYLIGHT
TZOFFSETFROM:+0100
TZOFFSETTO:+0200
TZNAME:CEST
DTSTART:20190331T010000
END:DAYLIGHT
BEGIN:STANDARD
TZOFFSETFROM:+0200
TZOFFSETTO:+0100
TZNAME:CET
DTSTART:20191027T010000
END:STANDARD
BEGIN:DAYLIGHT
TZOFFSETFROM:+0100
TZOFFSETTO:+0200
TZNAME:CEST
DTSTART:20200329T010000
END:DAYLIGHT
BEGIN:STANDARD
TZOFFSETFROM:+0200
TZOFFSETTO:+0100
TZNAME:CET
DTSTART:20201025T010000
END:STANDARD
BEGIN:DAYLIGHT
TZOFFSETFROM:+0100
TZOFFSETTO:+0200
TZNAME:CEST
DTSTART:20210328T010000
END:DAYLIGHT
BEGIN:STANDARD
TZOFFSETFROM:+0200
TZOFFSETTO:+0100
TZNAME:CET
DTSTART:20211031T010000
END:STANDARD
END:VTIMEZONE
BEGIN:VEVENT
DTSTART;TZID=Europe/Rome:20200331T080000
DTEND;TZID=Europe/Rome:20200409T170000
DTSTAMP:20260425T171611
CREATED:20200331T143151Z
LAST-MODIFIED:20200331T143731Z
UID:67097-1585641600-1586451600@www.cronachediordinariorazzismo.org
SUMMARY:Alimenta la solidarietà. Dona una spesa con il cuore
DESCRIPTION:In questi giorni di crisi\, troppe persone non riescono ad acquistare beni di prima necessità. Famiglie con figli piccoli\, anziani\, senzatetto\, disabili\, disoccupati\, cassa integrati\, liberi professionisti\, migranti pagano il prezzo più alto. Tutti possiamo aiutare a sostenerli. ARCS e altre associazioni locali lo stanno già facendo portano la spesa a domicilio. Inoltre\, 1 euro per ciascuna donazione sosterrà la distribuzione di generi alimentari del nostro partner Basmeh & Zeitooneh in Libano. \nPuoi scegliere cosa donare cliccando qui.
URL:https://www.cronachediordinariorazzismo.org/appuntamento/alimenta-la-solidarieta-dona-una-spesa-con-il-cuore/
LOCATION:Roma\, Roma
ATTACH;FMTTYPE=image/png:https://www.cronachediordinariorazzismo.org/wp-content/uploads/alimenta_solidarieta.png
END:VEVENT
END:VCALENDAR