BEGIN:VCALENDAR
VERSION:2.0
PRODID:-//Cronache di ordinario razzismo - ECPv6.15.7//NONSGML v1.0//EN
CALSCALE:GREGORIAN
METHOD:PUBLISH
X-WR-CALNAME:Cronache di ordinario razzismo
X-ORIGINAL-URL:https://www.cronachediordinariorazzismo.org
X-WR-CALDESC:Eventi per Cronache di ordinario razzismo
REFRESH-INTERVAL;VALUE=DURATION:PT1H
X-Robots-Tag:noindex
X-PUBLISHED-TTL:PT1H
BEGIN:VTIMEZONE
TZID:Europe/Rome
BEGIN:DAYLIGHT
TZOFFSETFROM:+0100
TZOFFSETTO:+0200
TZNAME:CEST
DTSTART:20250330T010000
END:DAYLIGHT
BEGIN:STANDARD
TZOFFSETFROM:+0200
TZOFFSETTO:+0100
TZNAME:CET
DTSTART:20251026T010000
END:STANDARD
BEGIN:DAYLIGHT
TZOFFSETFROM:+0100
TZOFFSETTO:+0200
TZNAME:CEST
DTSTART:20260329T010000
END:DAYLIGHT
BEGIN:STANDARD
TZOFFSETFROM:+0200
TZOFFSETTO:+0100
TZNAME:CET
DTSTART:20261025T010000
END:STANDARD
BEGIN:DAYLIGHT
TZOFFSETFROM:+0100
TZOFFSETTO:+0200
TZNAME:CEST
DTSTART:20270328T010000
END:DAYLIGHT
BEGIN:STANDARD
TZOFFSETFROM:+0200
TZOFFSETTO:+0100
TZNAME:CET
DTSTART:20271031T010000
END:STANDARD
END:VTIMEZONE
BEGIN:VEVENT
DTSTART;TZID=Europe/Rome:20260407T180000
DTEND;TZID=Europe/Rome:20260407T190000
DTSTAMP:20260425T154943
CREATED:20260403T122051Z
LAST-MODIFIED:20260403T122051Z
UID:84252-1775584800-1775588400@www.cronachediordinariorazzismo.org
SUMMARY:Diritto d'asilo: la class action contro i ritardi delle questure
DESCRIPTION:Con due sentenze che potrebbero segnare un punto di svolta anche nel resto del Paese\, il TAR Veneto ha accolto le class action delle associazioni. \nIl TAR ha affermato che carenza di personale e risorse non possono giustificare una limitazione dei diritti fondamentali dellз cittadinз straniere. \nTali diritti meritano un’organizzazione stabile che ne garantisca il rispetto in tempi di legge. \nI ricorsi collettivi contro le Questure di Venezia e Vicenza\, accusate di ritardi sistematici nell’accesso alla procedura di protezione internazionale\, sono stati presentati da ASGI\, EMERGENCY\, Lungo la Rotta Balcanica e CADUS contro la Questura di Venezia e da ASGI e CADUS contro la Questura di Vicenza\, con il sostegno di Casa di Amadou\, OXFAM ITALIA e Spazi Circolari. \nMartedì 7 aprile alle 18 in diretta su YouTube raccontiamo come si è sviluppata la class action e quali potrebbero essere le conseguenze. \nIl link nelle storie!
URL:https://www.cronachediordinariorazzismo.org/appuntamento/diritto-dasilo-la-class-action-contro-i-ritardi-delle-questure/
LOCATION:evento online
ATTACH;FMTTYPE=image/png:https://www.cronachediordinariorazzismo.org/wp-content/uploads/Immagine-2026-04-03-141823.png
END:VEVENT
BEGIN:VEVENT
DTSTART;TZID=Europe/Rome:20260409T110000
DTEND;TZID=Europe/Rome:20260409T130000
DTSTAMP:20260425T154943
CREATED:20260403T124402Z
LAST-MODIFIED:20260403T124402Z
UID:84257-1775732400-1775739600@www.cronachediordinariorazzismo.org
SUMMARY:IL GIARDINO ZERAI DERES E LA MEMORIA DE-COLONIALE NELLA CITTÀ DI ROMA
DESCRIPTION:Giovedì 9 aprile dalle 11 alle 13 presso il Dipartimento di Studi Umanisitici di Roma Tre\, in aula A\, si terrà l’ incontro IL GIARDINO ZERAI DERES E LA MEMORIA DE-COLONIALE NELLA CITTÀ DI ROMA\, con Cecilia Babolin dell’Associazione Tezeta organizzato in collaborazione con la Rete Yekatit 12-19 febbraio. \nL’incontro affronterà il tema della memoria del passato coloniale italiano\, la sua iscrizione negli spazi urbani e le connessioni con le attuali forme di razzismo. Durante l’incontro verrà presentato il podcast “Echi da ዶግዓሊ/Dogali. Tessere memorie\, intrecciare storie” nato con l’obiettivo di ri-scrivere e ri-significare in chiave antirazzista e anticoloniale le eredità del colonialismo italiano. \nA questo link trovate maggiori informazioni e l’accesso al podcast \nhttps://www.attitudesbologna.com/progetto?divId=dogali \nL’incontro è parte dell’insegnamento di Antropologia culturale tenuto da Valeria Ribeiro Corossacz ed è aperto a tutte le persone interessate
URL:https://www.cronachediordinariorazzismo.org/appuntamento/il-giardino-zerai-deres-e-la-memoria-de-coloniale-nella-citta-di-roma/
LOCATION:Dipartimento studi umanistici Roma Tre\, via Ostiense 234\, Roma\, Italia
ATTACH;FMTTYPE=image/jpeg:https://www.cronachediordinariorazzismo.org/wp-content/uploads/LocandinaGiardinoZeraiDeres_page-0001.jpg
END:VEVENT
BEGIN:VEVENT
DTSTART;TZID=Europe/Rome:20260410T183000
DTEND;TZID=Europe/Rome:20260410T223000
DTSTAMP:20260425T154943
CREATED:20260402T132415Z
LAST-MODIFIED:20260402T132415Z
UID:84205-1775845800-1775860200@www.cronachediordinariorazzismo.org
SUMMARY:La contestazione transnazionale del Patto europeo sulle migrazioni
DESCRIPTION:THIS PACT KILLS!\nL’evento inaugurale del ciclo sul nuovo Patto europeo su migrazione e asilo❗ \n10 aprile\, ore 18:30 — La contestazione transnazionale del Patto europeo sulle migrazioni.\nNe parliamo con: \nIlaria Salis (Parlamento Europeo)\nLaura Marmorale (Mediterranea Saving Humans)\nMaurizio Veglio (ASGI)\nStefano Bleggi (Melting Pot)\nOmid Firouzi Tabar (Università Ca’ Foscari) \nA seguire\, a Stria si balla con il dj set di @30carte.soundsystem e @ozi_xoxo! \nIl nuovo Patto europeo su migrazione e asilo rafforza un sistema di controllo\, selezione\, detenzione e rimpatrio ai danni delle persone migranti.\nPer questo abbiamo organizzato un ciclo di formazione gratuito: uno spazio per condividere gli aspetti cruciali di questa svolta normativa e approfondirne le implicazioni giuridiche\, sociali e politiche.\nCrediamo che conoscere i contenuti del Patto sia una condizione fondamentale per rafforzare una rete plurale capace di opporsi alle violazioni dei diritti e dei principi di giustizia\, uguaglianza e libertà che esso comporta. \n️ Gli altri appuntamenti:\n22 aprile — Introduzione al Patto europeo + Regolamento Screening/Eurodac\n29 aprile — Regolamento Procedure e Paesi “sicuri”\n6 maggio — Direttiva accoglienza\, MSNA e vulnerabilità\n13 maggio — Regolamento rimpatri
URL:https://www.cronachediordinariorazzismo.org/appuntamento/la-contestazione-transnazionale-del-patto-europeo-sulle-migrazioni/
LOCATION:Spazio Stria\, Piazza Gasparotto\, 4\, Padova
ATTACH;FMTTYPE=image/png:https://www.cronachediordinariorazzismo.org/wp-content/uploads/Immagine-2026-04-02-152130.png
END:VEVENT
BEGIN:VEVENT
DTSTART;TZID=Europe/Rome:20260416T143000
DTEND;TZID=Europe/Rome:20260416T163000
DTSTAMP:20260425T154943
CREATED:20260414T135008Z
LAST-MODIFIED:20260414T135008Z
UID:84305-1776349800-1776357000@www.cronachediordinariorazzismo.org
SUMMARY:Contrasto ai respingimenti illegittimi: strategie legali e alleanze con la società civile
DESCRIPTION:Il 16 Aprile alle ore 14.30 su Zoom\, ASGI presenta la “Guida pratica sul contenzioso strategico avverso i respingimenti nel Mediterraneo e per il diritto d’ingresso”\, redatta con il sostegno della Fondazione Heinrich-Böll. \nIl respingimento è uno degli strumenti cardine delle attuali politiche migratorie europee. Attraverso le politiche di esternalizzazione e i meccanismi di delega dei respingimenti\, negli ultimi quindici anni si sono sviluppate pratiche volte a bloccare le persone in movimento e a trasferirne altrove la responsabilità\, aggirando le garanzie poste a tutela dei diritti fondamentali. \nLa Guida raccoglie le esperienze di contenzioso sviluppate nel corso degli ultimi anni\, cercando di mettere a fuoco punti di forza e criticità e di raccontare l’evoluzione giurisprudenziale in materia. \nLa presentazione sarà un’occasione di confronto tra le organizzazioni della società civile per facilitare la moltiplicazione di questo genere di contenzioso ed elaborare ulteriori strategie. \nPer partecipare è necessario iscriversi compilando il MODULO \nLa guida è scaricabile QUI
URL:https://www.cronachediordinariorazzismo.org/appuntamento/contrasto-ai-respingimenti-illegittimi-strategie-legali-e-alleanze-con-la-societa-civile/
LOCATION:evento online
ATTACH;FMTTYPE=image/jpeg:https://www.cronachediordinariorazzismo.org/wp-content/uploads/Locandine-ASGI-20252-768x545-1.jpg
END:VEVENT
BEGIN:VEVENT
DTSTART;TZID=Europe/Rome:20260417T143000
DTEND;TZID=Europe/Rome:20260417T170000
DTSTAMP:20260425T154943
CREATED:20260403T103219Z
LAST-MODIFIED:20260403T103219Z
UID:84233-1776436200-1776445200@www.cronachediordinariorazzismo.org
SUMMARY:Filiere Globali\, corpi locali.
DESCRIPTION:Filiere Globali\, corpi locali.\n17 aprile 2026\nIn presenza a Milano – La Schighera – Via Candiani n. 131\nonline su piattaforma zoom. \nUn laboratorio di analisi critica delle narrazioni dominanti sui fenomeni della tratta e dello sfruttamento lavorativo e delle cosiddette migrazioni per motivi di lavoro\, con particolare attenzione alle categorie giuridiche che si rivelano sempre più inadeguate a descrivere questi fenomeni con l’effetto di escludere chi invece dovrebbero includere. \nUn confronto tra discipline\, professioni e pratiche con l’obiettivo di costruire una lettura condivisa di fenomeni che attraversano le filiere produttive globali\, in cui si intrecciano economia legale e illegale\, i movimenti migratori\, sempre più oggetto di criminalizzazione\, le comunità e i dispositivi di “protezione”\, spesso colpevoli di replicare le stesse logiche di controllo che dichiarano di combattere. \nL’evento è gratuito ed aperto alla partecipazione di chiunque sia interessato. \nPer iscriversi è necessario compilare il form disponibile al link in bio o sui siti web delle di Le Carbet e di ASGI.
URL:https://www.cronachediordinariorazzismo.org/appuntamento/filiere-globali-corpi-locali/
LOCATION:La Schighera\, Via Candiani\,131\, Milano
ATTACH;FMTTYPE=image/png:https://www.cronachediordinariorazzismo.org/wp-content/uploads/Immagine-2026-04-03-122700.png
END:VEVENT
BEGIN:VEVENT
DTSTART;TZID=Europe/Rome:20260418T140000
DTEND;TZID=Europe/Rome:20260418T170000
DTSTAMP:20260425T154943
CREATED:20260409T132525Z
LAST-MODIFIED:20260409T132525Z
UID:84270-1776520800-1776531600@www.cronachediordinariorazzismo.org
SUMMARY:MILANO È MIGRANTE! - Manifestazione
DESCRIPTION:MILANO È MIGRANTE!\nSIAMO TUTT3 ANTIRAZZIST3\n\n\nSabato 18 Aprile H14 – L.go Cairoli\n\n\nMilano è casa di molti popoli: qui si parlano cento lingue\, si condividono culture\, cucine\, musiche\, storie.\nMilano è questo\, o non è.\n\n\nDi fronte a questa realtà\, le destre propongono la “remigrazione”: un nome nuovo per politiche vecchie fatte di espulsioni e deportazioni\, che trasformano vite in numeri e confini in strumenti di violenza.\n\n\nDicono di voler difendere le donne? Ma i femminicidi e le aggressioni avvengono soprattutto in casa\, dentro relazioni di potere e disuguaglianza\, non nelle narrazioni razziste che indicano nell’uomo straniero l’aggressore\, alimentano paura e divisione senza accennare ad attaccare realmente il sistema patriarcale.\n\n\nQuello che da cui vogliono distrarci è il modello che ci viene imposto: precarietà\, impoverimento\, guerra\, devastazione ambientale\, smantellamento della sanità pubblica e del diritto alla casa.\n\n\nNon accettiamo di restare in silenzio davanti a chi usa la paura per governare\, a chi specula sui territori e sulle vite\, a chi costruisce consenso sull’esclusione.\n\n\nSabato scendiamo in piazza perché la paura deve cambiare lato.\n\n\nRifiutiamo repressione e politiche securitarie.\nDifendiamo chi ogni giorno vive e tiene in piedi questa città: studentə\, lavoratorə\, vicinə\, insegnanti\, personale sanitario\, artistə\, commercianti.\n\n\nGiù le mani dai popoli di Milano.\n\n\nIl 18 aprile sarà una giornata di mobilitazioni diffuse: diverse piazze con un unico obiettivo\, circondare la lega\, impediamo al virus del razzismo di spargersi in città! \nMaggiori informazioni anche sui momenti di mobilitazione precedenti:\nhttps://www.facebook.com/NoaiCPR?checkpoint_src=any
URL:https://www.cronachediordinariorazzismo.org/appuntamento/milano-e-migrante-manifestazione/
LOCATION:Largo Cairoli\, Largo Cairoli\, Milano
ATTACH;FMTTYPE=image/jpeg:https://www.cronachediordinariorazzismo.org/wp-content/uploads/669418106_1384166813741274_5360694422511148885_n.jpg
END:VEVENT
BEGIN:VEVENT
DTSTART;TZID=Europe/Rome:20260423T180000
DTEND;TZID=Europe/Rome:20260423T210000
DTSTAMP:20260425T154943
CREATED:20260422T105141Z
LAST-MODIFIED:20260422T105141Z
UID:84391-1776967200-1776978000@www.cronachediordinariorazzismo.org
SUMMARY:Blocchiamo il Dl Sicurezza! - Presidio
DESCRIPTION:Sfiduciamo il governo Meloni\nDiciamo ancora una volta NO \nBlocchiamo il Dl Sicurezza! \nGiovedì 23 aprile Piazza Capranica\nStaffetta\nOre 18.00 presidio\nOre 20.30 fiaccolata \n…il 25 aprile quest’anno inizio prima! \nCon l’ennesima forzatura istituzionale il Governo si appresta ad approvare il secondo Dl Sicurezza. \nDopo la vittoria del NO al referendum\, torniamo a dire NO al Governo Meloni e al suo disegno liberticida e autoritario \nLa destra che non ha fatto nulla per sanità\, salari\, scuola\, casa continua a sfornare provvedimenti legislativi solo per criminalizzare la povertà e le persone migranti\, colpire il dissenso e il conflitto sociale\, inventare nuovi reati. \nScendiamo in piazza per un NO al Dl Sicurezza e contro il governo complice della furia bellicista di Donald Trump e del genocidio in Palestina\, mentre ci prepariamo ad accompagnare da terra il viaggio della Flotilla rivolta verso Gaza. \nQuest’anno il 25 aprile inizia prima\, per una primavera di lotta!
URL:https://www.cronachediordinariorazzismo.org/appuntamento/blocchiamo-il-dl-sicurezza-presidio/
LOCATION:Piazza Capranica\, Piazza Capranica\, Roma
ATTACH;FMTTYPE=image/jpeg:https://www.cronachediordinariorazzismo.org/wp-content/uploads/WhatsApp-Image-2026-04-22-at-12.43.08.jpeg
END:VEVENT
BEGIN:VEVENT
DTSTART;TZID=Europe/Rome:20260423T190000
DTEND;TZID=Europe/Rome:20260423T223000
DTSTAMP:20260425T154943
CREATED:20260415T152520Z
LAST-MODIFIED:20260415T152520Z
UID:84317-1776970800-1776983400@www.cronachediordinariorazzismo.org
SUMMARY:Nessun confine\, solo orizzonti
DESCRIPTION:23 Aprile ore 19:00\nPianeta Sonoro\, Via Casilina 196/A\nIn occasione del 25 aprile diffuso vogliamo proporre un momento di informazione e confronto orizzontale sulle nuove normative europee in materia di immigrazione e sulla loro relazione con le leggi sicurezza.\nIn un’epoca in cui razzismo e repressione sembrano parole d’ordine delle politiche nazionali ed internazionali\, vogliamo incontrarci per costruire e dare voce a lotte attuali e percorsi possibili di opposizione a leggi che stravolgono territori e diritti fondamentali in nome della sicurezza\, rendendo “provenienza” e “condizione economica” ragioni per l’esclusione\, elementi di discriminazione per mancanza di “merito”.\nLo faremo anche a partire dal documentario “Nessun Confine Solo Orizzonti” dedicato alla figura di JoJo\, Josef Yemane Tewelde\, attivista romano\, italiano senza cittadinanza. Il documentario (30′) introdurrà il dibattito a partire dalla figura di un partigiano dei nostri tempi\, protagonista dei percorsi per la libertà di movimento e la chiusura dei CPR\, con la sua grande capacità di unire persone\, ispirare e animare mobilitazioni e lotte con creatività e allegria.\nIniziativa del programma di avvicinamento al 25 Aprile “Giorni di Liberazione”\, promosso da Quell@ del 25 Aprile al Pigneto che ringraziamo.
URL:https://www.cronachediordinariorazzismo.org/appuntamento/nessun-confine-solo-orizzonti/
LOCATION:Pianeta Sonoro\, Via Casilina 196/A\, Roma
END:VEVENT
BEGIN:VEVENT
DTSTART;TZID=Europe/Rome:20260427T203000
DTEND;TZID=Europe/Rome:20260427T203000
DTSTAMP:20260425T154943
CREATED:20260423T145615Z
LAST-MODIFIED:20260423T145615Z
UID:84426-1777321800-1777321800@www.cronachediordinariorazzismo.org
SUMMARY:NO-CPR NE' AD AULLA NE' ALTROVE! - Presidio
DESCRIPTION:Fortemente preoccupati per le notizie riguardanti l’apertura di nuovi CPR- uno dei quali ad Aulla (in località Pallerone)- facciamo appello alla parte migliore della popolazione lunigianese\, ed alle realtà locali\, invitando tutte e tutti ad una serie di nuove iniziative contro la realizzazione di strutture aberranti nel nostro territorio\, e in ogni luogo.Organizziamoci per opporci. Rafforziamo la risposta dal basso per dire ( )\, chiedendo diritti\, umanità\, ed impegnandoci per rendere la Lunigiana un luogo accogliente\, di benessere e cura diffusi.https://www.facebook.com/share/1e75Mzqss1/Per info contattateci ai numericell 339 7888705; 3493278060
URL:https://www.cronachediordinariorazzismo.org/appuntamento/no-cpr-ne-ad-aulla-ne-altrove-presidio/
LOCATION:Piazza Gramsci\, Piazza Gramsci\, Aulla
ATTACH;FMTTYPE=image/jpeg:https://www.cronachediordinariorazzismo.org/wp-content/uploads/674388607_1394864962671459_270104925469364055_n.jpg
END:VEVENT
BEGIN:VEVENT
DTSTART;TZID=Europe/Rome:20260428T180000
DTEND;TZID=Europe/Rome:20260428T200000
DTSTAMP:20260425T154943
CREATED:20260423T151223Z
LAST-MODIFIED:20260423T151223Z
UID:84441-1777399200-1777406400@www.cronachediordinariorazzismo.org
SUMMARY:Presentazione - L'algoritmo della farfalla
DESCRIPTION:Martedì 28 aprile alle 18 alla bibliolibreria i Fiori Blu via Antonio Raimondi 35\n“L’ALGORITMO DELLA FARFALLA” LA GRAPHIC NOVEL DI LUCIO CASCAVILLA CHE DENUNCIA LA REALTÀ DEI CPR \nL’algoritmo della farfalla è il graphic novel di Lucio Cascavilla che porta alla luce una realtà fin troppo taciuta: quella dei Centri di Permanenza per il Rimpatrio (CPR) in Italia. \nL’opera segue le vicende di tre personaggi\, le cui storie si intrecciano in un contesto di detenzione amministrativa che colpisce persone che non hanno commesso reati. Pur trattandosi di personaggi non realmente esistiti\, il racconto si nutre di testimonianze reali\, restituendo con forza emotiva e autenticità le condizioni psicologiche e materiali vissute all’interno di questi luoghi. \nUn graphic novel scritto da Lucio Cascavilla\ndisegnato da Giunia C.\npostfazione della rete Mai più Lager – NO AI CPR\nintroduzione del ricercatore Pietro Cingolani \nIl libro è disponibile nelle librerie indipendenti o può essere ordinato morsieditore.com
URL:https://www.cronachediordinariorazzismo.org/appuntamento/presentazione-lalgoritmo-della-farfalla/
LOCATION:Libreria I Fiori Blu\, via Antonio Raimondi 35\, Roma
ATTACH;FMTTYPE=image/jpeg:https://www.cronachediordinariorazzismo.org/wp-content/uploads/WhatsApp-Image-2026-04-23-at-16.59.02.jpeg
END:VEVENT
BEGIN:VEVENT
DTSTART;TZID=Europe/Rome:20260509T090000
DTEND;TZID=Europe/Rome:20260509T163000
DTSTAMP:20260425T154943
CREATED:20260423T151856Z
LAST-MODIFIED:20260423T151856Z
UID:84448-1778317200-1778344200@www.cronachediordinariorazzismo.org
SUMMARY:Workshop ACT: Decostruire il pregiudizio Nuova occasione di formazione contro l’odio omolesbobitransfobico!
DESCRIPTION:Nell’ambito del progetto ACT – Alliance to Counteract Threats of Hate in Italy promosso dalla nostra Rete Nazionale contro i discorsi e i fenomeni d’odio\, Gay Center organizza il workshop “Decostruire il pregiudizio il supporto alle vittime di odio omolesbobitransfobico tra advocacy e buone prassi” \nLa partecipazione è gratuita\, basta solo registrarsi! \nQuando e dove?\nSabato 9 maggio\, ore 9.00 – 16.30.\nIn presenza al Gay Center – Rainbowall\, via Galvani 51F\, Roma. \nLa formazione offre alla società civile strumenti di rafforzamento delle azioni di contrasto all’odio omolesbobitransfobico in Italia.\nCon lə professionistə che interverranno parleremo di linguaggio e della valorizzazione delle differenze\, quadro giuridico sui crimini d’odio\, diritti di affermazione di genere nei contesti lavorativi\, costruzione di spazi più sicuri per le persone queer negli ambienti sociali. \nChe aspetti a fare la tua parte? \n Segna la data nella tua agenda e partecipa!\n✍️ Iscriviti: link in bio e nelle stories.\nInsieme possiamo contrastare i fenomeni d’odio. Unisciti a noi
URL:https://www.cronachediordinariorazzismo.org/appuntamento/workshop-act-decostruire-il-pregiudizio-nuova-occasione-di-formazione-contro-lodio-omolesbobitransfobico/
LOCATION:Rainbowall\, Via Galvani 51f\, Roma
ATTACH;FMTTYPE=image/jpeg:https://www.cronachediordinariorazzismo.org/wp-content/uploads/671030984_18036844073789474_5122261911897600269_n.jpg
END:VEVENT
END:VCALENDAR