BEGIN:VCALENDAR
VERSION:2.0
PRODID:-//Cronache di ordinario razzismo - ECPv6.15.7//NONSGML v1.0//EN
CALSCALE:GREGORIAN
METHOD:PUBLISH
X-WR-CALNAME:Cronache di ordinario razzismo
X-ORIGINAL-URL:https://www.cronachediordinariorazzismo.org
X-WR-CALDESC:Eventi per Cronache di ordinario razzismo
REFRESH-INTERVAL;VALUE=DURATION:PT1H
X-Robots-Tag:noindex
X-PUBLISHED-TTL:PT1H
BEGIN:VTIMEZONE
TZID:Europe/Rome
BEGIN:DAYLIGHT
TZOFFSETFROM:+0100
TZOFFSETTO:+0200
TZNAME:CEST
DTSTART:20240331T010000
END:DAYLIGHT
BEGIN:STANDARD
TZOFFSETFROM:+0200
TZOFFSETTO:+0100
TZNAME:CET
DTSTART:20241027T010000
END:STANDARD
BEGIN:DAYLIGHT
TZOFFSETFROM:+0100
TZOFFSETTO:+0200
TZNAME:CEST
DTSTART:20250330T010000
END:DAYLIGHT
BEGIN:STANDARD
TZOFFSETFROM:+0200
TZOFFSETTO:+0100
TZNAME:CET
DTSTART:20251026T010000
END:STANDARD
BEGIN:DAYLIGHT
TZOFFSETFROM:+0100
TZOFFSETTO:+0200
TZNAME:CEST
DTSTART:20260329T010000
END:DAYLIGHT
BEGIN:STANDARD
TZOFFSETFROM:+0200
TZOFFSETTO:+0100
TZNAME:CET
DTSTART:20261025T010000
END:STANDARD
END:VTIMEZONE
BEGIN:VEVENT
DTSTART;TZID=Europe/Rome:20251115T140000
DTEND;TZID=Europe/Rome:20251115T170000
DTSTAMP:20260419T194313
CREATED:20251111T150035Z
LAST-MODIFIED:20251111T150401Z
UID:83037-1763215200-1763226000@www.cronachediordinariorazzismo.org
SUMMARY:Climate Pride - 2025
DESCRIPTION:Il 15 novembre alle 14:00 ci uniamo alle mobilitazioni internazionali in occasione della #COP30\, scendendo in piazza a Roma in Piazzale Aldo Moro per chiedere giustizia climatica. \nUna street parade ribelle\, musicale\, artivistica. \nVogliamo: \n🦠 una transizione ecologica equa e rapida\, basata su energie rinnovabili\, economia circolare e soluzioni nature-based; \n🦠un sistema economico che faccia pagare chi inquina e non chi subisce\, includendo tasse sui super-ricchi e sui profitti del fossile; \n🦠un mondo fondato su pace\, giustizia sociale e diritti\, superando disuguaglianze di genere e Nord-Sud globale; \n🦠 giustizia climatica multispecie e tutela della biodiversità; \n🦠una giusta transizione per il lavoro\, con tutela dei diritti\, sicurezza\, dialogo sociale e nuove opportunità occupazionali sostenibili; \n🦠formazione e conoscenza liberate dai vincoli del capitalismo. \n📅 Segna la data:\n🗓️ Sabato 15 novembre\n📍 Piazzale Aldo Moro a Roma \n👉 Seguici su Instagram: presto tutte le info su percorso e iniziative del #ClimatePride
URL:https://www.cronachediordinariorazzismo.org/appuntamento/climate-pride-2025/
LOCATION:Piazzale Aldo Moro\, Piazzale Aldo Moro\, Roma
ATTACH;FMTTYPE=image/png:https://www.cronachediordinariorazzismo.org/wp-content/uploads/climate-pride.png
END:VEVENT
END:VCALENDAR