BEGIN:VCALENDAR
VERSION:2.0
PRODID:-//Cronache di ordinario razzismo - ECPv6.15.7//NONSGML v1.0//EN
CALSCALE:GREGORIAN
METHOD:PUBLISH
X-ORIGINAL-URL:https://www.cronachediordinariorazzismo.org
X-WR-CALDESC:Eventi per Cronache di ordinario razzismo
REFRESH-INTERVAL;VALUE=DURATION:PT1H
X-Robots-Tag:noindex
X-PUBLISHED-TTL:PT1H
BEGIN:VTIMEZONE
TZID:Europe/Rome
BEGIN:DAYLIGHT
TZOFFSETFROM:+0100
TZOFFSETTO:+0200
TZNAME:CEST
DTSTART:20240331T010000
END:DAYLIGHT
BEGIN:STANDARD
TZOFFSETFROM:+0200
TZOFFSETTO:+0100
TZNAME:CET
DTSTART:20241027T010000
END:STANDARD
BEGIN:DAYLIGHT
TZOFFSETFROM:+0100
TZOFFSETTO:+0200
TZNAME:CEST
DTSTART:20250330T010000
END:DAYLIGHT
BEGIN:STANDARD
TZOFFSETFROM:+0200
TZOFFSETTO:+0100
TZNAME:CET
DTSTART:20251026T010000
END:STANDARD
BEGIN:DAYLIGHT
TZOFFSETFROM:+0100
TZOFFSETTO:+0200
TZNAME:CEST
DTSTART:20260329T010000
END:DAYLIGHT
BEGIN:STANDARD
TZOFFSETFROM:+0200
TZOFFSETTO:+0100
TZNAME:CET
DTSTART:20261025T010000
END:STANDARD
END:VTIMEZONE
BEGIN:VEVENT
DTSTART;TZID=Europe/Rome:20250314T180000
DTEND;TZID=Europe/Rome:20250315T223000
DTSTAMP:20260423T135622
CREATED:20250311T154517Z
LAST-MODIFIED:20250311T154517Z
UID:81411-1741975200-1742077800@www.cronachediordinariorazzismo.org
SUMMARY:9° KIBAKA FLORENCE AFRICAN FESTIVAL
DESCRIPTION:Torna il Kibaka Film Festival: a Firenze la nona edizione il 14 e 15 marzo Firenze si prepara ad accogliere la nona edizione del Kibaka Film Festival\, rassegna dedicata al cinema afroeuropeo\, che si terrà il 14 e 15 marzo presso il Mad – Murate Art District. Un appuntamento imperdibile per gli appassionati di cinema e cultura\, con un programma che prevede 11 cortometraggi e due lungometraggi\, coinvolgendo 11 Paesi provenienti non solo dall’Africa\, ma anche dall’Europa e oltre. \nL’obiettivo del festival\, infatti\, non è solo raccontare l’Africa come continente\, ma esplorare le sue molteplici espressioni culturali nel mondo. Tra le opere in programma spiccano “A Poem for Mina” di George Adindu\, cortometraggio prodotto in Belgio\, e “Prima and Lebsi”\ndi Welket Bungué\, ambientato nella periferia di Lisbona e realizzato da un regista afro-portoghese. \nI due lungometraggi protagonisti saranno “La Gravité” di Cedric Ido (Francia\, 2022)\, un’immersione nella realtà della periferia parigina ma in genere distopico\, e “Mami Wata” di C.J. ‘Fiery’ Obasi (Nigeria\, Francia\, Gran Bretagna\, 2023)\, un’opera avventurosa e\ndrammatica ambientata in un villaggio costiero dove gli abitanti venerano una dea sirena. \nUn festival in crescita e una nuova collaborazione “Siamo assolutamente soddisfatti del riscontro sempre maggiore che ottiene il Festival\nogni anno”\, afferma Matias Mesquita\, fondatore e direttore del Kibaka Film Festival.\n“L’edizione 2025 segna anche una nuova collaborazione con il Festival Afroeuropeo di Brescia\, Afrobrix. Entrambi gli eventi condividono la stessa filosofia: mettere in evidenza lo sguardo dei registi afroeuropei su temi cruciali come la crescita personale\, le ingiustizie\nsociali\, lo sfruttamento dei lavoratori e il rapporto tra fratelli.”\nTra gli ospiti di rilievo di questa edizione ci sarà Silvia Toninelli\, regista italiana che esplora identità e aspirazioni attraverso il racconto dell’industria musicale in Senegal. Sabato 15 marzo dopo il documentario “Dare: to take that first step” la regista terrà un dibattito\ndedicato a musica afro e l’esperienza del ritorno di molti afroitaliani.\nIl Kibaka Florence African Festival è realizzato in collaborazione con l’Associazione Angolana Njinga Mbande\, Afrobrix\, Associazione Progetto Arcobaleno\, MUS.E e Mad – Murate Art District. \nA rendere possibile l’evento è di Valentina Gensini e anche del contributo fondamentale del direttore artistico Fabrizio Colombo\, direttore di AfroBrix Brescia\, e dello staff organizzativo\, tra cui Tiziana Cappelli\, Sabrina Mangani\, Erika Bernacchi\, Laura Tabegna e Filomena Aricajane e Nilsia de Sousa. \nFirenze si conferma così un punto di riferimento per il cinema afroeuropeo\, offrendo un’opportunità unica per scoprire storie\, voci e visioni che attraversano confini e culture.\nINGRESSO GRATUITO. \nProgramma completo
URL:https://www.cronachediordinariorazzismo.org/appuntamento/9-kibaka-florence-african-festival/
LOCATION:Mad – Murate Art District\, Piazza delle Murate\, snc\, Firenze
ATTACH;FMTTYPE=image/png:https://www.cronachediordinariorazzismo.org/wp-content/uploads/COPERTINA-SITO-6-2.png
END:VEVENT
BEGIN:VEVENT
DTSTART;TZID=Europe/Rome:20250315T093000
DTEND;TZID=Europe/Rome:20250316T163000
DTSTAMP:20260423T135622
CREATED:20250303T101048Z
LAST-MODIFIED:20250303T101048Z
UID:81293-1742031000-1742142600@www.cronachediordinariorazzismo.org
SUMMARY:Aboliamo i centri detentivi per migranti in Europa e altrove - Assemblea pubblica
DESCRIPTION:Aboliamo i centri detentivi per migranti in Europa e altrove!\nAbolish Migrant Detention Centers in Europe and beyond!\n\n\nL’invito del Network Against Migrant Detention ad una mobilitazione transnazionale in Europa con un’assemblea pubblica che si svolgerà a Roma presso SPIN TIME (Via di S. Croce in Gerusalemme\, 55) sabato 15 e domenica 16 marzo 2025.\n\n\nInvitation to a transnational mobilization across Europe. Open Assembly in Rome\, 15-16 March 2025\n\n\nITA: https://www.meltingpot.org/…/aboliamo-i-centri…/\nEN: https://www.meltingpot.org/…/abolish-migrant-detention…/
URL:https://www.cronachediordinariorazzismo.org/appuntamento/aboliamo-i-centri-detentivi-per-migranti-in-europa-e-altrove-assemblea-pubblica/
LOCATION:Spin Time Labs\, Roma
ATTACH;FMTTYPE=image/jpeg:https://www.cronachediordinariorazzismo.org/wp-content/uploads/480572498_1057901166369194_870709605884389431_n-1.jpg
END:VEVENT
END:VCALENDAR