BEGIN:VCALENDAR
VERSION:2.0
PRODID:-//Cronache di ordinario razzismo - ECPv6.15.7//NONSGML v1.0//EN
CALSCALE:GREGORIAN
METHOD:PUBLISH
X-WR-CALNAME:Cronache di ordinario razzismo
X-ORIGINAL-URL:https://www.cronachediordinariorazzismo.org
X-WR-CALDESC:Eventi per Cronache di ordinario razzismo
REFRESH-INTERVAL;VALUE=DURATION:PT1H
X-Robots-Tag:noindex
X-PUBLISHED-TTL:PT1H
BEGIN:VTIMEZONE
TZID:Europe/Rome
BEGIN:DAYLIGHT
TZOFFSETFROM:+0100
TZOFFSETTO:+0200
TZNAME:CEST
DTSTART:20240331T010000
END:DAYLIGHT
BEGIN:STANDARD
TZOFFSETFROM:+0200
TZOFFSETTO:+0100
TZNAME:CET
DTSTART:20241027T010000
END:STANDARD
BEGIN:DAYLIGHT
TZOFFSETFROM:+0100
TZOFFSETTO:+0200
TZNAME:CEST
DTSTART:20250330T010000
END:DAYLIGHT
BEGIN:STANDARD
TZOFFSETFROM:+0200
TZOFFSETTO:+0100
TZNAME:CET
DTSTART:20251026T010000
END:STANDARD
BEGIN:DAYLIGHT
TZOFFSETFROM:+0100
TZOFFSETTO:+0200
TZNAME:CEST
DTSTART:20260329T010000
END:DAYLIGHT
BEGIN:STANDARD
TZOFFSETFROM:+0200
TZOFFSETTO:+0100
TZNAME:CET
DTSTART:20261025T010000
END:STANDARD
END:VTIMEZONE
BEGIN:VEVENT
DTSTART;TZID=Europe/Rome:20250110T180000
DTEND;TZID=Europe/Rome:20250110T200000
DTSTAMP:20260424T220911
CREATED:20250110T105014Z
LAST-MODIFIED:20250110T105213Z
UID:80916-1736532000-1736539200@www.cronachediordinariorazzismo.org
SUMMARY:Zone rosse? Poche luci\, molte ombre
DESCRIPTION:Venerdi 10 gennaio\nOre 18.00\nPolo civico Esquilino – Via Galilei 57 \nZone rosse? \nPoche luci\, molte ombre \nUn incontro aperto per capire\, dibattere e approfondire \nCon Federica Borlizzi \, avvocata – Nonna Roma\nValentina Calderone \, Garante diritti delle persone private della libertà di Roma\nMattia Ferrari \, Mediterranea Saving Humans\nLaura Renzi \, Amnesty International\nPietro Vicari \, Comitato di quartiere Quarticciolo\nModera Sara Nunzi \, Polo civico Esquilino \nSono invitate a partecipare tutte le realtà attive sul territorio
URL:https://www.cronachediordinariorazzismo.org/appuntamento/zone-rosse-poche-luci-molte-ombre/
LOCATION:Polo Civico Esquilino\, Via Galilei 57\, Roma
ATTACH;FMTTYPE=image/jpeg:https://www.cronachediordinariorazzismo.org/wp-content/uploads/3cc9ad59-d477-4bfa-8982-953ae5f11ed7.jpg
END:VEVENT
END:VCALENDAR