BEGIN:VCALENDAR
VERSION:2.0
PRODID:-//Cronache di ordinario razzismo - ECPv6.15.7//NONSGML v1.0//EN
CALSCALE:GREGORIAN
METHOD:PUBLISH
X-ORIGINAL-URL:https://www.cronachediordinariorazzismo.org
X-WR-CALDESC:Eventi per Cronache di ordinario razzismo
REFRESH-INTERVAL;VALUE=DURATION:PT1H
X-Robots-Tag:noindex
X-PUBLISHED-TTL:PT1H
BEGIN:VTIMEZONE
TZID:Europe/Rome
BEGIN:DAYLIGHT
TZOFFSETFROM:+0100
TZOFFSETTO:+0200
TZNAME:CEST
DTSTART:20230326T010000
END:DAYLIGHT
BEGIN:STANDARD
TZOFFSETFROM:+0200
TZOFFSETTO:+0100
TZNAME:CET
DTSTART:20231029T010000
END:STANDARD
BEGIN:DAYLIGHT
TZOFFSETFROM:+0100
TZOFFSETTO:+0200
TZNAME:CEST
DTSTART:20240331T010000
END:DAYLIGHT
BEGIN:STANDARD
TZOFFSETFROM:+0200
TZOFFSETTO:+0100
TZNAME:CET
DTSTART:20241027T010000
END:STANDARD
BEGIN:DAYLIGHT
TZOFFSETFROM:+0100
TZOFFSETTO:+0200
TZNAME:CEST
DTSTART:20250330T010000
END:DAYLIGHT
BEGIN:STANDARD
TZOFFSETFROM:+0200
TZOFFSETTO:+0100
TZNAME:CET
DTSTART:20251026T010000
END:STANDARD
END:VTIMEZONE
BEGIN:VEVENT
DTSTART;TZID=Europe/Rome:20241106T100000
DTEND;TZID=Europe/Rome:20241106T130000
DTSTAMP:20260426T015301
CREATED:20241104T120723Z
LAST-MODIFIED:20241104T120827Z
UID:80617-1730887200-1730898000@www.cronachediordinariorazzismo.org
SUMMARY:Chiusi in Gabbia: Viaggio nell'inferno del CPR di Ponte Galeria - presentazione del Dossier e Tavola rotonda
DESCRIPTION:Il 6 novembre\, dalle ore 10.00\, a Roma presso la Sala Sassoli di Palazzo Valentini\, via Quattro Novembre\, 119a\, si terrà una tavola rotonda con la presentazione del Dossier “Chiusi in gabbia: viaggio nell’inferno del CPR di Ponte Galeria”\, curato da CILD. \nLa tavola rotonda e la presentazione del rapporto vogliono essere un momento di condivisione delle gravi criticità legate all’esistenza del CPR di Ponte Galeria\, in seguito alle visite ispettive effettuate negli ultimi mesi da parte di CILD\, nel quale vengono documentate le gravissime condizioni di detenzione e la violazione dei diritti fondamentali delle persone trattenute. \nLa tavola rotonda sarà seguita dalla Conferenza Stampa di presentazione dell’azione popolare promossa dal mondo accademico sulla chiusura di Ponte Galeria\, che vede Mauro Palma\, ex Garante nazionale dei diritti delle persone private della libertà personale\, come primo firmatario.\nL’iniziativa – che coinvolge decine di docenti universitari tra cui esperte ed esperti di diritto e medicina – chiede con un’istanza al sindaco di Roma Roberto Gualtieri la chiusura immediata del CPR. \n➡️per ulteriori informazioni info@cild.eu
URL:https://www.cronachediordinariorazzismo.org/appuntamento/chiusi-in-gabbia-viaggio-nellinferno-del-cpr-di-ponte-galeria-presentazione-del-dossier-e-tavola-rotonda/
LOCATION:Palazzo Valentini\, Via Quattro Novembre\, 119 a\, Roma
ATTACH;FMTTYPE=image/png:https://www.cronachediordinariorazzismo.org/wp-content/uploads/Catturacild6nov.png
END:VEVENT
BEGIN:VEVENT
DTSTART;TZID=Europe/Rome:20241106T160000
DTEND;TZID=Europe/Rome:20241106T183000
DTSTAMP:20260426T015301
CREATED:20241105T111454Z
LAST-MODIFIED:20241105T111454Z
UID:80628-1730908800-1730917800@www.cronachediordinariorazzismo.org
SUMMARY:Presentazione del report "L'accesso alla giustizia per le vittime di reato con status migratorio irregolare in Italia"
DESCRIPTION:Mercoledì 6 novembre dalle 16 alle 18.30 a Torino\, verrà presentato il report sull’accesso alla giustizia per le vittime di reato con status migratorio irregolare in Italia di ASGI. \nLeggi il report completo.
URL:https://www.cronachediordinariorazzismo.org/appuntamento/presentazione-del-report-laccesso-alla-giustizia-per-le-vittime-di-reato-con-status-migratorio-irregolare-in-italia/
LOCATION:Campus Luigi Einaudi\, Lungo Dora 100\, Torino
ATTACH;FMTTYPE=image/jpeg:https://www.cronachediordinariorazzismo.org/wp-content/uploads/465610332_976516747846404_6303363522421509403_n-1.jpg
END:VEVENT
END:VCALENDAR