BEGIN:VCALENDAR
VERSION:2.0
PRODID:-//Cronache di ordinario razzismo - ECPv6.15.7//NONSGML v1.0//EN
CALSCALE:GREGORIAN
METHOD:PUBLISH
X-WR-CALNAME:Cronache di ordinario razzismo
X-ORIGINAL-URL:https://www.cronachediordinariorazzismo.org
X-WR-CALDESC:Eventi per Cronache di ordinario razzismo
REFRESH-INTERVAL;VALUE=DURATION:PT1H
X-Robots-Tag:noindex
X-PUBLISHED-TTL:PT1H
BEGIN:VTIMEZONE
TZID:Europe/Rome
BEGIN:DAYLIGHT
TZOFFSETFROM:+0100
TZOFFSETTO:+0200
TZNAME:CEST
DTSTART:20230326T010000
END:DAYLIGHT
BEGIN:STANDARD
TZOFFSETFROM:+0200
TZOFFSETTO:+0100
TZNAME:CET
DTSTART:20231029T010000
END:STANDARD
BEGIN:DAYLIGHT
TZOFFSETFROM:+0100
TZOFFSETTO:+0200
TZNAME:CEST
DTSTART:20240331T010000
END:DAYLIGHT
BEGIN:STANDARD
TZOFFSETFROM:+0200
TZOFFSETTO:+0100
TZNAME:CET
DTSTART:20241027T010000
END:STANDARD
BEGIN:DAYLIGHT
TZOFFSETFROM:+0100
TZOFFSETTO:+0200
TZNAME:CEST
DTSTART:20250330T010000
END:DAYLIGHT
BEGIN:STANDARD
TZOFFSETFROM:+0200
TZOFFSETTO:+0100
TZNAME:CET
DTSTART:20251026T010000
END:STANDARD
END:VTIMEZONE
BEGIN:VEVENT
DTSTART;TZID=Europe/Rome:20240117T153000
DTEND;TZID=Europe/Rome:20240117T173000
DTSTAMP:20260425T200716
CREATED:20240110T114543Z
LAST-MODIFIED:20240110T114543Z
UID:79166-1705505400-1705512600@www.cronachediordinariorazzismo.org
SUMMARY:Investigare da casa - Tecniche Osint per il giornalismo d'inchiesta
DESCRIPTION:Tornano le formazioni nell’ambito del Narrative Lab di CILD\, iniziamo il 17 gennaio 2024 con “Ricerca avanzata e verifica delle informazioni”\, con @gab_cruciata\, giornalista e Google News Lab Teaching Fellow. \nCon questo corso impareremo a cercare informazioni online in modo approfondito\, rapido e preciso\, acquisendo tecniche valide anche per il fact-checking. Verranno proposti esercizi per imparare in tempo reale a utilizzare gli strumenti proposti. \nMercoledì\, 17 gennaio 2024;\nore 15.30-17.30 (CEST);\nLingua Italiana;\nFormato online\, interattivo. \nPer partecipare all’evento è necessario iscriversi a questo link.
URL:https://www.cronachediordinariorazzismo.org/appuntamento/investigare-da-casa-tecniche-osint-per-il-giornalismo-dinchiesta/
LOCATION:Virtuale Via Zoom
ATTACH;FMTTYPE=image/png:https://www.cronachediordinariorazzismo.org/wp-content/uploads/cild17gennaio.png
END:VEVENT
END:VCALENDAR