BEGIN:VCALENDAR
VERSION:2.0
PRODID:-//Cronache di ordinario razzismo - ECPv6.15.7//NONSGML v1.0//EN
CALSCALE:GREGORIAN
METHOD:PUBLISH
X-WR-CALNAME:Cronache di ordinario razzismo
X-ORIGINAL-URL:https://www.cronachediordinariorazzismo.org
X-WR-CALDESC:Eventi per Cronache di ordinario razzismo
REFRESH-INTERVAL;VALUE=DURATION:PT1H
X-Robots-Tag:noindex
X-PUBLISHED-TTL:PT1H
BEGIN:VTIMEZONE
TZID:Europe/Rome
BEGIN:DAYLIGHT
TZOFFSETFROM:+0100
TZOFFSETTO:+0200
TZNAME:CEST
DTSTART:20220327T010000
END:DAYLIGHT
BEGIN:STANDARD
TZOFFSETFROM:+0200
TZOFFSETTO:+0100
TZNAME:CET
DTSTART:20221030T010000
END:STANDARD
BEGIN:DAYLIGHT
TZOFFSETFROM:+0100
TZOFFSETTO:+0200
TZNAME:CEST
DTSTART:20230326T010000
END:DAYLIGHT
BEGIN:STANDARD
TZOFFSETFROM:+0200
TZOFFSETTO:+0100
TZNAME:CET
DTSTART:20231029T010000
END:STANDARD
BEGIN:DAYLIGHT
TZOFFSETFROM:+0100
TZOFFSETTO:+0200
TZNAME:CEST
DTSTART:20240331T010000
END:DAYLIGHT
BEGIN:STANDARD
TZOFFSETFROM:+0200
TZOFFSETTO:+0100
TZNAME:CET
DTSTART:20241027T010000
END:STANDARD
END:VTIMEZONE
BEGIN:VEVENT
DTSTART;TZID=Europe/Rome:20231207T100000
DTEND;TZID=Europe/Rome:20231207T110000
DTSTAMP:20260425T045640
CREATED:20231206T104909Z
LAST-MODIFIED:20231206T104909Z
UID:78955-1701943200-1701946800@www.cronachediordinariorazzismo.org
SUMMARY:Corellino d’oro alla città di Milano? No grazie! Chiudiamo il CPR di via Corelli
DESCRIPTION:Flash mob giovedì 7 dicembre h 10 davanti al teatro Dal Verme dove si tiene la premiazione degli Ambrogini d’oro per chiedere la chiusura del CPR\n\n \n\nIl 7 dicembre la rete Mai più lager – No ai CPR assegna il “Corellino d’oro” alla città dove ha sede il lager di Stato che in questi giorni tutta Italia ha imparato a conoscere.\n\n \n\nIl Corellino verrà consegnato simbolicamente in un flash mob davanti al teatro Dal Verme alle ore 10.00\, in contemporanea con la premiazione degli Ambrogini d’Oro con la speranza che sia la prima e l’ultima volta. Il CPR di via Corelli deve essere chiuso per sempre\, così come tutti gli altri in Italia e quelli che si vorrebbero aprire in Albania.\n\n \n\nNon esistono lager dal volto umano\, perciò rigettiamo l’idea del commissariamento\, che non produrrebbe altro che nuova violenza di Stato. Il 1° dicembre la perquisizione compiuta dalla Guardia di Finanza nel CPR di via Corelli ha reso manifesto l’orrore che si nasconde tra le sue mura: violenze\, maltrattamenti\, mancato rispetto di qualunque diritto essenziale. Tutto quello che la Rete negli anni ha denunciato con ostinazione.\n\n \n\nIstituzioni\, politici\, grandi media sembravano alleati nell’impedire che si facesse luce su quanto accadeva nel segreto del lager; non solo ogni tentativo di entrare nel CPR e di ottenere documentazione sul suo funzionamento ha richiesto estenuanti battaglie legali\, ma manifestazioni e denunce pubbliche cadevano nel silenzio.\n\n \n\nOggi è divenuto finalmente chiaro il perché di tanto accanimento nel difendere il mistero\, e non si potrà mai più dire “Io non sapevo”.\n\n \n\nChiudere il CPR di Milano\, chiudere tutti i CPR\, mai più lager né in Italia né in Libia né altrove: per questo vi chiamiamo a manifestare il 7 dicembre alle ore 10.00 davanti al Teatro dal Verme in via San Giovanni Sul Muro 2.\n\n \n\nRete Mai Più Lager – No ai CPR\n\n \n\n \n\n \n\nImage by Falkenpost from Pixabay
URL:https://www.cronachediordinariorazzismo.org/appuntamento/corellino-doro-alla-citta-di-milano-no-grazie-chiudiamo-il-cpr-di-via-corelli/
LOCATION:Teatro Dal Verme\, Via S. Giovanni Sul Muro\, 2\, Milano
ATTACH;FMTTYPE=image/jpeg:https://www.cronachediordinariorazzismo.org/wp-content/uploads/jail-1652896_1280.jpg
END:VEVENT
END:VCALENDAR