BEGIN:VCALENDAR
VERSION:2.0
PRODID:-//Cronache di ordinario razzismo - ECPv6.15.7//NONSGML v1.0//EN
CALSCALE:GREGORIAN
METHOD:PUBLISH
X-WR-CALNAME:Cronache di ordinario razzismo
X-ORIGINAL-URL:https://www.cronachediordinariorazzismo.org
X-WR-CALDESC:Eventi per Cronache di ordinario razzismo
REFRESH-INTERVAL;VALUE=DURATION:PT1H
X-Robots-Tag:noindex
X-PUBLISHED-TTL:PT1H
BEGIN:VTIMEZONE
TZID:Europe/Rome
BEGIN:DAYLIGHT
TZOFFSETFROM:+0100
TZOFFSETTO:+0200
TZNAME:CEST
DTSTART:20220327T010000
END:DAYLIGHT
BEGIN:STANDARD
TZOFFSETFROM:+0200
TZOFFSETTO:+0100
TZNAME:CET
DTSTART:20221030T010000
END:STANDARD
BEGIN:DAYLIGHT
TZOFFSETFROM:+0100
TZOFFSETTO:+0200
TZNAME:CEST
DTSTART:20230326T010000
END:DAYLIGHT
BEGIN:STANDARD
TZOFFSETFROM:+0200
TZOFFSETTO:+0100
TZNAME:CET
DTSTART:20231029T010000
END:STANDARD
BEGIN:DAYLIGHT
TZOFFSETFROM:+0100
TZOFFSETTO:+0200
TZNAME:CEST
DTSTART:20240331T010000
END:DAYLIGHT
BEGIN:STANDARD
TZOFFSETFROM:+0200
TZOFFSETTO:+0100
TZNAME:CET
DTSTART:20241027T010000
END:STANDARD
END:VTIMEZONE
BEGIN:VEVENT
DTSTART;TZID=Europe/Rome:20230524T210000
DTEND;TZID=Europe/Rome:20230524T230000
DTSTAMP:20260419T211116
CREATED:20230518T103352Z
LAST-MODIFIED:20230518T103352Z
UID:77775-1684962000-1684969200@www.cronachediordinariorazzismo.org
SUMMARY:Ri-narrare la storia. Il valore di diversità e inclusione il 24 maggio a Roma
DESCRIPTION:Mercoledì 24 maggio dalle ore 21 il Cinema Troisi ospiterà la proiezione de “Il Moro” di Daphne Di Cinto\, già vincitore di diversi premi e nominato in occasione di rassegne internazionali. L’iniziativa porrà al centro del confronto la narrazione\, la storia\, il valore e il significato di diversità e inclusione davanti e dietro la telecamera. Tematiche ancora al centro dell’attuale dibattito pubblico e politico. \n  \nInterverranno Daphne Di Cinto\, Luca Lucini\, Gaja Aurora Embere IkeaGwuana\, Pif\, Cinzia Adanna Ebonine\, Edafe e Paolo Sassanelli \n  \nIngresso libero fino a esaurimento posti. \nLink al sito per registrazione.
URL:https://www.cronachediordinariorazzismo.org/appuntamento/ri-narrare-la-storia-il-valore-di-diversita-e-inclusione-il-24-maggio-a-roma/
LOCATION:Cinema Troisi\, Roma
ATTACH;FMTTYPE=image/png:https://www.cronachediordinariorazzismo.org/wp-content/uploads/1-Card-Apertura.png
END:VEVENT
END:VCALENDAR