BEGIN:VCALENDAR
VERSION:2.0
PRODID:-//Cronache di ordinario razzismo - ECPv6.15.7//NONSGML v1.0//EN
CALSCALE:GREGORIAN
METHOD:PUBLISH
X-ORIGINAL-URL:https://www.cronachediordinariorazzismo.org
X-WR-CALDESC:Eventi per Cronache di ordinario razzismo
REFRESH-INTERVAL;VALUE=DURATION:PT1H
X-Robots-Tag:noindex
X-PUBLISHED-TTL:PT1H
BEGIN:VTIMEZONE
TZID:Europe/Rome
BEGIN:DAYLIGHT
TZOFFSETFROM:+0100
TZOFFSETTO:+0200
TZNAME:CEST
DTSTART:20220327T010000
END:DAYLIGHT
BEGIN:STANDARD
TZOFFSETFROM:+0200
TZOFFSETTO:+0100
TZNAME:CET
DTSTART:20221030T010000
END:STANDARD
BEGIN:DAYLIGHT
TZOFFSETFROM:+0100
TZOFFSETTO:+0200
TZNAME:CEST
DTSTART:20230326T010000
END:DAYLIGHT
BEGIN:STANDARD
TZOFFSETFROM:+0200
TZOFFSETTO:+0100
TZNAME:CET
DTSTART:20231029T010000
END:STANDARD
BEGIN:DAYLIGHT
TZOFFSETFROM:+0100
TZOFFSETTO:+0200
TZNAME:CEST
DTSTART:20240331T010000
END:DAYLIGHT
BEGIN:STANDARD
TZOFFSETFROM:+0200
TZOFFSETTO:+0100
TZNAME:CET
DTSTART:20241027T010000
END:STANDARD
END:VTIMEZONE
BEGIN:VEVENT
DTSTART;TZID=Europe/Rome:20230422T103000
DTEND;TZID=Europe/Rome:20230422T180000
DTSTAMP:20260424T135448
CREATED:20230412T112941Z
LAST-MODIFIED:20230412T112941Z
UID:77588-1682159400-1682186400@www.cronachediordinariorazzismo.org
SUMMARY:MIGRANTICIDIO: UN CRIMINE CONTRO L'UMANITA'\, Diritto di migrare\, diritti dei migranti
DESCRIPTION:Il convegno si propone da un lato un approfondimento giuridico tra norme interne\, internazionali e attività giurisdizionali per giungere a più corrette formulazioni intorno al fenomeno\, a partire dal “migranticidio” quale crimine contro l’umanità e alla sua perseguibilità in riferimento all’art. 7 del Trattato di Roma istitutivo della Corte Penale Internazionale\, convinti che destinatari di questa attività siano innanzi tutto le classi politiche dei Paesi membri dell’UE e della NATO; dall’altro coinvolgere le associazioni\, le ong e quanti da anni operano nella difesa dei migranti per condividere le esperienze ad arricchire le opportunità di scambio di informazioni quale elemento utile per le sorti dei migranti e per costituire un segnale unitario di coesione sociale che porti ad una inversione di tendenza. \nPROGRAMMA: \n10.30-13.30: \nSaluti di Enrico Calamal – Contributo di Luigi Ferrajoll- Presentazione: Luigi Galloni – Modera: Barbara Ferretti \nRelatori: \nAlessandra Algostino: \nDiritto del migrante e diritto di asilo: tutela costituzionale e applicazione dell’art. 10. \nAntonello Ciervo: \nLuca Masera: \nConfigurabilità di una giurisdizione universale. Le esperienze europe Il diritto penale-interno e internazionale quale strumento di tutela dei diritti del migranti? \nChantal Meloni: \nCrimini contro migranti e accesso alla Corte Penale Internazionale. Abbandono in mare e detenzione in Libia\, la strategia italiana ed \nFulvio Vassallo Paleologo: \neuropea della dissuasione. Diritti dei migranti e obblighi di tutela degli stati e delle istituzioni \ninternazionali. \nConclusioni \nFabio Marcelli: \n14.30-18.00: \nAssemblea \nContributi e interventi di associazioni\, O.N.G. e rappresentanti politici e sindacali \nModera: Francesca Fornario \nIntervento di apertura: Annamaria Rivera Conclude: Michela Arricale
URL:https://www.cronachediordinariorazzismo.org/appuntamento/migranticidio-un-crimine-contro-lumanita-diritto-di-migrare-diritti-dei-migranti/
LOCATION:Spazio Espositivo MACRO\, piazza Orazio Giustiniani\, 4\, Roma
ATTACH;FMTTYPE=image/png:https://www.cronachediordinariorazzismo.org/wp-content/uploads/migranticidio.png
END:VEVENT
END:VCALENDAR