BEGIN:VCALENDAR
VERSION:2.0
PRODID:-//Cronache di ordinario razzismo - ECPv6.15.7//NONSGML v1.0//EN
CALSCALE:GREGORIAN
METHOD:PUBLISH
X-ORIGINAL-URL:https://www.cronachediordinariorazzismo.org
X-WR-CALDESC:Eventi per Cronache di ordinario razzismo
REFRESH-INTERVAL;VALUE=DURATION:PT1H
X-Robots-Tag:noindex
X-PUBLISHED-TTL:PT1H
BEGIN:VTIMEZONE
TZID:Europe/Rome
BEGIN:DAYLIGHT
TZOFFSETFROM:+0100
TZOFFSETTO:+0200
TZNAME:CEST
DTSTART:20200329T010000
END:DAYLIGHT
BEGIN:STANDARD
TZOFFSETFROM:+0200
TZOFFSETTO:+0100
TZNAME:CET
DTSTART:20201025T010000
END:STANDARD
BEGIN:DAYLIGHT
TZOFFSETFROM:+0100
TZOFFSETTO:+0200
TZNAME:CEST
DTSTART:20210328T010000
END:DAYLIGHT
BEGIN:STANDARD
TZOFFSETFROM:+0200
TZOFFSETTO:+0100
TZNAME:CET
DTSTART:20211031T010000
END:STANDARD
BEGIN:DAYLIGHT
TZOFFSETFROM:+0100
TZOFFSETTO:+0200
TZNAME:CEST
DTSTART:20220327T010000
END:DAYLIGHT
BEGIN:STANDARD
TZOFFSETFROM:+0200
TZOFFSETTO:+0100
TZNAME:CET
DTSTART:20221030T010000
END:STANDARD
END:VTIMEZONE
BEGIN:VEVENT
DTSTART;TZID=Europe/Rome:20211001T093000
DTEND;TZID=Europe/Rome:20211001T170000
DTSTAMP:20260425T124127
CREATED:20210924T084725Z
LAST-MODIFIED:20210924T084725Z
UID:72458-1633080600-1633107600@www.cronachediordinariorazzismo.org
SUMMARY:150 anni di immigrazioni a Roma capitale: il periodo dal 1945 a oggi
DESCRIPTION:CNR – Istituto di studi sul Mediterraneo e Biblioteche di Roma presentano 150 anni di immigrazioni a Roma capitale: il periodo dal 1945 a oggi. L’evento sarà in presenza presso la Sala della Protomoteca in Campidoglio e in diretta streaming. Dopo il convegno di apertura dello scorso novembre e il ciclo di incontri territoriali in sei biblioteche di quartiere\, il progetto sui 150 anni di immigrazioni a Roma giunge al secondo convegno\, dedicato al periodo tra il 1945 e oggi. Verranno analizzati gli anni della ricostruzione e delle consulte popolari di quartiere\, della grande immigrazione dal Meridione\, della speculazione edilizia e dello sviluppo della Roma odierna\, delle borgate e dei complessi residenziali\, dell’intreccio tra mestieri tradizionali e nuove figure della mobilità\, della crescita e del consolidamento dell’immigrazione straniera. I temi specifici della mobilità nella Capitale saranno letti alla luce di questioni più ampie\, fondamentali per la comprensione della storia dell’Italia contemporanea: il processo di decolonizzazione\, il ruolo del ceto medio e dei lavoratori manuali\, l’evoluzione dei servizi alla persona\, le mobilitazioni di quartiere\, l’aspetto generazionale\, la presenza territoriale delle religioni\, i riflessi dei processi sociali nella letteratura. \nL’accesso alla sala è previsto solo previa prenotazione: scrivere a urtroma@ismed.cnr.it. \nL’evento si svolgerà nel rispetto delle normative anti-covid vigenti e verrà trasmesso in streaming sulle pagine Facebook di Biblioteche di Roma\, Roma Multietnica e Cnr – ISMed \nProgetto:\n150 anni di immigrazioni a Roma Capitale. Storia\, memoria\, territori \nCoordinamento scientifico:\nMichele Colucci\, Francesco Di Filippo\, Stefano Gallo (Cnr – ISMed) \nEnti organizzatori:\nCnr – ISMed\nBiblioteche di Roma \nPer il programma completo: \nhttp://www.romamultietnica.it\nhttps://roma150immigrazioni.it/\nwww.bibliotechediroma.it
URL:https://www.cronachediordinariorazzismo.org/appuntamento/150-anni-di-immigrazioni-a-roma-capitale-il-periodo-dal-1945-a-oggi/
LOCATION:pin Sala della Protomoteca in Campidoglio\, Roma
ATTACH;FMTTYPE=image/jpeg:https://www.cronachediordinariorazzismo.org/wp-content/uploads/150-scaled.jpg
END:VEVENT
BEGIN:VEVENT
DTSTART;TZID=Europe/Rome:20211001T160000
DTEND;TZID=Europe/Rome:20211001T180000
DTSTAMP:20260425T124127
CREATED:20210924T094059Z
LAST-MODIFIED:20210924T094059Z
UID:72468-1633104000-1633111200@www.cronachediordinariorazzismo.org
SUMMARY:Preventing Hate Against Refugees and Migrants
DESCRIPTION:Le Università di Salamanca\, Milano e Salonicco condurranno un workshop sul Data Journalism rivolto ai professionisti dell’informazione e della comunicazione. Questo workshop fa parte del progetto PHARM (Preventing Hate Against Refugees and Migrants)\, finanziato dalla Commissione Europea nell’ambito del programma Rights\, Equality and Citizenship. L’obiettivo di questo workshop è quello di formare i giornalisti su come raccontare storie per affrontare l’odio verso migranti e rifugiati sfruttando il potenziale dei dati. Il workshop permetterà di scoprire la capacità dei dati e delle visualizzazioni come strumenti per comunicare di più e meglio\, migliorando la comprensione del pubblico e ottenendo storie migliori. \nIl workshop si terrà online il 1 ottobre\, e durerà 2 ore (dalle 16 alle 18). La sessione sarà tenuta in inglese da Juan Pablo Marín\, di Datasketch.co\, un riferimento nell’offrire soluzioni tecniche per la visualizzazione dei dati. \nLa partecipazione al workshop sarà gratuita per i giornalisti. I partecipanti si impegnano a produrre una notizia che includa la visualizzazione dei dati come parte dei compiti pratici del workshop. \nPer partecipare a questo workshop\, è sufficiente compilare il seguente modulo. \nLink al modulo di registrazione: https://forms.gle/KEGQ1Cw8XMR7BA4C9 \nPer qualsiasi domanda\, contattare martin.oller@unimi.it
URL:https://www.cronachediordinariorazzismo.org/appuntamento/preventing-hate-against-refugees-and-migrants/
LOCATION:evento online
ATTACH;FMTTYPE=image/jpeg:https://www.cronachediordinariorazzismo.org/wp-content/uploads/PHARM_Workshop_ENG_page-0001.jpg
END:VEVENT
END:VCALENDAR