BEGIN:VCALENDAR
VERSION:2.0
PRODID:-//Cronache di ordinario razzismo - ECPv6.15.7//NONSGML v1.0//EN
CALSCALE:GREGORIAN
METHOD:PUBLISH
X-WR-CALNAME:Cronache di ordinario razzismo
X-ORIGINAL-URL:https://www.cronachediordinariorazzismo.org
X-WR-CALDESC:Eventi per Cronache di ordinario razzismo
REFRESH-INTERVAL;VALUE=DURATION:PT1H
X-Robots-Tag:noindex
X-PUBLISHED-TTL:PT1H
BEGIN:VTIMEZONE
TZID:Europe/Rome
BEGIN:DAYLIGHT
TZOFFSETFROM:+0100
TZOFFSETTO:+0200
TZNAME:CEST
DTSTART:20200329T010000
END:DAYLIGHT
BEGIN:STANDARD
TZOFFSETFROM:+0200
TZOFFSETTO:+0100
TZNAME:CET
DTSTART:20201025T010000
END:STANDARD
BEGIN:DAYLIGHT
TZOFFSETFROM:+0100
TZOFFSETTO:+0200
TZNAME:CEST
DTSTART:20210328T010000
END:DAYLIGHT
BEGIN:STANDARD
TZOFFSETFROM:+0200
TZOFFSETTO:+0100
TZNAME:CET
DTSTART:20211031T010000
END:STANDARD
BEGIN:DAYLIGHT
TZOFFSETFROM:+0100
TZOFFSETTO:+0200
TZNAME:CEST
DTSTART:20220327T010000
END:DAYLIGHT
BEGIN:STANDARD
TZOFFSETFROM:+0200
TZOFFSETTO:+0100
TZNAME:CET
DTSTART:20221030T010000
END:STANDARD
END:VTIMEZONE
BEGIN:VEVENT
DTSTART;TZID=Europe/Rome:20210223T110000
DTEND;TZID=Europe/Rome:20210223T140000
DTSTAMP:20260419T192553
CREATED:20210218T091428Z
LAST-MODIFIED:20210218T091428Z
UID:71223-1614078000-1614088800@www.cronachediordinariorazzismo.org
SUMMARY:XXVI Rapporto ISMU sulle migrazioni 2020
DESCRIPTION:11.00 Saluti istituzionali\n– Mariella Enoc\, Presidente Fondazione ISMU\n– Giovanni Fosti\, Presidente Fondazione Cariplo\n– Massimo Gaudina\, Capo della Rappresentanza a Milano della Commissione europea\n \nCoordina Nicola Pasini – Fondazione ISMU\n \n11.15 Il XXVI Rapporto ISMU sulle migrazioni 2020\n2020: un anno diverso anche per le migrazioni – Vincenzo Cesareo\, Segretario Generale Fondazione ISMU\nGli aspetti statistici – Livia Ortensi\, Fondazione ISMU\n \n11.35\n– Dobbiamo arrenderci all’irregolarità? – Laura Zanfrini\, Fondazione ISMU\n– Migrazioni e informazione ai tempi del COVID-19 – Paola Barretta\, Osservatorio di Pavia e Giovanni Giulio Valtolina\, Fondazione ISMU ne discutono con\nVenanzio Postiglione\, Vicedirettore Corriere della Sera\n– Africa e migrazioni: testimonianze da un continente in movimento – Luca Merotta\, Fondazione ISMU intervista Piero Sunzini\, Direttore di Tamat Ong\n \n12.30 Conclusioni\n——————-\nL’evento è visibile sui canali social @ISMU: Youtube\, Facebook
URL:https://www.cronachediordinariorazzismo.org/appuntamento/xxvi-rapporto-ismu-sulle-migrazioni-2020/
LOCATION:evento online
ATTACH;FMTTYPE=image/jpeg:https://www.cronachediordinariorazzismo.org/wp-content/uploads/2-10.jpg
END:VEVENT
BEGIN:VEVENT
DTSTART;TZID=Europe/Rome:20210223T150000
DTEND;TZID=Europe/Rome:20210223T170000
DTSTAMP:20260419T192553
CREATED:20210218T093739Z
LAST-MODIFIED:20210218T093739Z
UID:71226-1614092400-1614099600@www.cronachediordinariorazzismo.org
SUMMARY:Violenza di genere e permesso di soggiorno. Art 18 bis
DESCRIPTION:“Violenza di genere e permesso di soggiorno: art 18 bis” promosso dall’associazione Giraffa Onlus e dall’Asgi – Associazione per gli studi giuridici sull’immigrazione\, in collaborazione con la rete REAMA di Fondazione Pangea. L’incontro è aperto a chi vorrà iscriversi entro e non oltre sabato 22 febbraio inviando una mail all’indirizzo info@giraffaonlus.it e potrà essere seguito on line tramite piattaforma Meet al seguente link meet.google.com/mke-mvdp-yca
URL:https://www.cronachediordinariorazzismo.org/appuntamento/violenza-di-genere-e-permesso-di-soggiorno-art-18-bis/
LOCATION:evento online
ATTACH;FMTTYPE=image/jpeg:https://www.cronachediordinariorazzismo.org/wp-content/uploads/3-6.jpg
END:VEVENT
BEGIN:VEVENT
DTSTART;TZID=Europe/Rome:20210223T170000
DTEND;TZID=Europe/Rome:20210223T190000
DTSTAMP:20260419T192553
CREATED:20210222T111252Z
LAST-MODIFIED:20210222T111319Z
UID:71254-1614099600-1614106800@www.cronachediordinariorazzismo.org
SUMMARY:Prevenzione e contrasto del razzismo e crimini d’odio nelle città
DESCRIPTION:All’interno della cornice del Decennio internazionale per le persone di origine africana\, il Comune di Bologna\, in collaborazione con la Città Metropolitana di Bologna\, ECCAR\, Rete territoriale antidiscriminazioni di Bologna\, WeWorld-GVC\, CEFA ONLUS\, Discriminazioni alla Porta\, coop. Lai-momo\, Istituto Storico Parri organizza “Costruire futuro rievocando tracce: riconoscimento\, partecipazione e nuove narrazioni”\, una rassegna di 7 eventi online tra febbraio e marzo 2021\n Il 23 febbraio il secondo appuntamento: “Prevenzione e contrasto del razzismo e crimini d’odio nelle città”\nModera: Udo Enwereuzor – Responsabile COSPE su Migrazioni\, Minoranze e Diritti di cittadinanza\n Per seguire l’evento:\n\nFB -Centro Interculturale Zonarelli \nhttps://www.facebook.com/centrointerculturale.zonarellibologna\n\nLive streaming Lai-momo: https://www.laimomo.it/live-streaming/\n|| Programma ||\n \n Susanna Zaccaria – Assessora al contrasto alle discriminazioni del Comune di Bologna\nIntroduzione e saluti di benvenuto\n Federica Zito – Ufficio progetti Mediterraneo\, Migrazioni e Italia di CEFA ONLUS\n“Il progetto PINOCCHIO: Il ruolo dell’educazione allo sviluppo nel contrasto al razzismo “\n Tommaso Chiamparino – Coordinator on combating anti-Muslim hatred\, European Commission\, DG Justice and Consumers\, Fundamental Rights Policy\n“Il contrasto ai delitti d’odio nell’ambito del nuovo Piano d’azione dell’Unione Europea contro il razzismo: il ruolo delle città”\n Claudio Tocchi – Staff di Marco Giusta\, Assessore ai diritti del Comune di Torino\n“Sostenere la lotta quotidiana contro il razzismo: l’esperienza del Comune di Torino”\n Piergiorgio NassisI – Polizia Locale\, Ispettore Superiore Sostituto Commissario\n“Dalla Polizia locale alla Polizia di comunità: orientare l’operare di polizia a Bologna per essere più rispondenti ai bisogni delle persone e delle comunità”\n Jean Blaise Nguimfack -vicepresidente dell’associazione Black History Month Bologna\n” Il ruolo della cultura nel contrasto al razzismo”\n Grazia Naletto – Responsabile Migrazioni e lotta al razzismo\, Associazione Lunaria\n“L’esperienza di formazione di Pinocchio e il ruolo delle associazioni di promozione sociale nel contrasto al razzismo”\n Anthony Chima – Black Lives Matter Bologna\n Elena Monicelli – Coordinatrice Fondazione Scuola di Pace di Monte Sole\n“A chi parla Monte Sole? Lavoro di memoria in una società plurale”\n Triantafillos Loukarelis – Direttore Generale UNAR\n \n Questo il link per vedere il video Contro ogni discriminazione: #sonofattituoi\, realizzato da Fanpage.it nell’ambito del progetto PINOCCHIO:\nhttps://www.youtube.com/watch?v=V-Esm-etsAs&t=12s\n \n Per informazioni:\nSara Rouibi e Kedrit Shalari (Comune di Bologna)\nSara.rouibi@comune.bologna.it\nKedrit.shalari@comune.bologna.it\n0512196326 / 7426\n****************************\nRealizzata con il contributo di Unione europea\, AICS e Regione Emilia-Romagna\, la rassegna “Costruire futuro rievocando tracce: riconoscimento\, partecipazione e nuove narrazioni” è pensata per offrire momenti di confronto e approfondimento sulla storia coloniale italiana e i luoghi che a Bologna ricordano quel passato\, sulla valorizzazione di esperienze negli ambiti del riconoscimento (comunicazione pubblica\, memoria dei luoghi\, educazione)\, della giustizia (empowerment vittime e associazionismo\, delitti dell’odio) e dello sviluppo (Rete antidiscriminazioni\, accesso alla casa\, nuove generazioni).
URL:https://www.cronachediordinariorazzismo.org/appuntamento/prevenzione-e-contrasto-del-razzismo-e-crimini-dodio-nelle-citta/
LOCATION:evento online
ATTACH;FMTTYPE=image/png:https://www.cronachediordinariorazzismo.org/wp-content/uploads/02_PINOCCHIO_CARTOLINA-e-POST-SOCIAL.png
END:VEVENT
END:VCALENDAR