BEGIN:VCALENDAR
VERSION:2.0
PRODID:-//Cronache di ordinario razzismo - ECPv6.15.7//NONSGML v1.0//EN
CALSCALE:GREGORIAN
METHOD:PUBLISH
X-ORIGINAL-URL:https://www.cronachediordinariorazzismo.org
X-WR-CALDESC:Eventi per Cronache di ordinario razzismo
REFRESH-INTERVAL;VALUE=DURATION:PT1H
X-Robots-Tag:noindex
X-PUBLISHED-TTL:PT1H
BEGIN:VTIMEZONE
TZID:Europe/Rome
BEGIN:DAYLIGHT
TZOFFSETFROM:+0100
TZOFFSETTO:+0200
TZNAME:CEST
DTSTART:20190331T010000
END:DAYLIGHT
BEGIN:STANDARD
TZOFFSETFROM:+0200
TZOFFSETTO:+0100
TZNAME:CET
DTSTART:20191027T010000
END:STANDARD
BEGIN:DAYLIGHT
TZOFFSETFROM:+0100
TZOFFSETTO:+0200
TZNAME:CEST
DTSTART:20200329T010000
END:DAYLIGHT
BEGIN:STANDARD
TZOFFSETFROM:+0200
TZOFFSETTO:+0100
TZNAME:CET
DTSTART:20201025T010000
END:STANDARD
BEGIN:DAYLIGHT
TZOFFSETFROM:+0100
TZOFFSETTO:+0200
TZNAME:CEST
DTSTART:20210328T010000
END:DAYLIGHT
BEGIN:STANDARD
TZOFFSETFROM:+0200
TZOFFSETTO:+0100
TZNAME:CET
DTSTART:20211031T010000
END:STANDARD
END:VTIMEZONE
BEGIN:VEVENT
DTSTART;VALUE=DATE:20201015
DTEND;VALUE=DATE:20201016
DTSTAMP:20260426T015308
CREATED:20201008T122242Z
LAST-MODIFIED:20201008T122242Z
UID:70083-1602720000-1602806399@www.cronachediordinariorazzismo.org
SUMMARY:Formazione Stranieri e lavoro in Italia - Terza Edizione
DESCRIPTION:Il percorso di aggiornamento dal titolo “Gli stranieri e il lavoro in Italia” è una delle attività previste da progetto “LIFE: Lavoro\, Integrazione\, Formazione\, Empowerment ” della Regione Umbria in partenariato con ANCI Umbria\, Frontiera Lavoro\, Cidis Onlus e Consorzio ABN A&B network sociale\, a valere sull’avviso pubblico n. 2/2018 per la presentazione di piani di rafforzamento dell’integrazione lavorativa dei migranti\, finanziato attraverso il Fondo Asilo\, Migrazione e Integrazione 2014-2020 – OS2 Integrazione/Migrazione legale – ON2 Integrazione PRIMA: Progetto Integrazione lavorativa dei MigrAnti. \nL’obiettivo formativo del percorso proposto è quello di rafforzare le competenze degli operatori del settore pubblico e del privato sociale nell’approccio interculturale al fine di migliorare la relazione con l’utenza nell’erogazione dei servizi predisposti all’inserimento lavorativo e facilitare così l’inserimento lavorativo della popolazione migrante. Il percorso di formazione è strutturato in nove incontri durante i quali verranno trattati argomenti\nriguardanti i contesti di provenienza dei migranti new arrivals\, i permessi di soggiorno che permettono la candidabilità alle politiche attive per il lavoro\, i sistemi di accoglienza e gli strumenti operativi per effettuare la ricognizione delle competenze dell’utente straniero\, insieme ad elementirivolti all’utilizzo della mediazione culturale con l’utenza migrante. A seguito delle nuove norme emanate al fine di contenere i contagi da Covid-19\, inaccordo con il capofila e i partner di progetto\, Cidis onlus ha riformulato la forma dell’erogazione del presente corso trasformandolo da un percorso di aggiornamento in presenza\, ad un aggiornamento a distanza attraverso l’utilizzo della piattaforma di videoconferenza Zoom in modalità FAD. La riformulazione del programma prevede delle ore di formazione interattiva e delle ore di studio/lavoro su materiale disponibile in download e/o lavori di gruppo.\nPartecipanti:\nIl percorso è rivolto agli operatori del terzo settore\, dei servizi sociali comunali\, agli assistenti sociali e ai servizi di accompagnamento al lavoro (SAL) nonché agli operatori del privato sociale interessati (operatori SIPROIMI\, CAS\, mediatori interculturali\, operatori interculturali ecc…). L’iscrizione al percorso di aggiornamento potrà essere effettuata compilando il seguente link: https://forms.gle/kwTQjD9RRVqAeoqAA entro il 15/10/2020\nNon è possibile iscriversi alle singole lezioni e la frequenza è consigliata per tutta la durata del corso ma non è obbligatoria. Alla fine del percorso è previsto il rilascio di un attestato di partecipazione per gli iscritti che avranno partecipato ad almeno 18 ore di lezione. La verifica della presenza sarà effettuata sulla base della reportistica di connessione fornita dalla piattaforma Zoom. \nPer qualsiasi ulteriore informazione e possibile contattare telefonicamente CIDIS al 0755720895 o 3494449074 o scrivere una email a gpinca@cidisonlus.org o imasci@cidisonlus.org
URL:https://www.cronachediordinariorazzismo.org/appuntamento/formazione-stranieri-e-lavoro-in-italia-terza-edizione/
LOCATION:Piattaforma Zoom
ATTACH;FMTTYPE=image/jpeg:https://www.cronachediordinariorazzismo.org/wp-content/uploads/prog-LIFE-2.jpg
END:VEVENT
BEGIN:VEVENT
DTSTART;TZID=Europe/Rome:20201015T160000
DTEND;TZID=Europe/Rome:20201015T210000
DTSTAMP:20260426T015308
CREATED:20200924T202745Z
LAST-MODIFIED:20200924T202745Z
UID:69764-1602777600-1602795600@www.cronachediordinariorazzismo.org
SUMMARY:Ti porterò dall'Africa un bel fiore. Convegno di studi on-line
DESCRIPTION:Ti porterò dall’Africa un bel fior. Storie e scorie dell’Italia coloniale\nConvegno di studi on-line sull’esperienza coloniale italiana e le sue conseguenze\na cura di Centro Studi Movimenti Parma\, Istituto nazionale Ferruccio Parri e Zapruder – Storie in movimento\nLa storia dell’Italia come paese coloniale è una storia poco nota\, spesso messa in ombra da esperienze coloniali di più ampia portata; è anche una storia spesso edulcorata\, dove le retoriche del “colonialismo straccione” all’italiana o degli “italiani brava gente” mistificano la portata di disumanità e le conseguenze traumatiche che il colonialismo porta con sé.\nIl Centro studi movimenti di Parma\, l’Istituto nazionale Ferruccio Parri e Zapruder – Storie in movimento organizzano perciò un convegno di studi multidisciplinari che indaghi il tema del rimosso coloniale italiano secondo quattro direttrici principali: il razzismo sottopelle e l’eredità coloniale nell’Italia democratica; l’occupazione della Libia e dell’Eritrea nelle fotografie di soldati\, volontari e nativi; l’impatto del colonialismo sui corpi sessuati\, tra analisi post-coloniale e decolonialità; le diverse esperienze della narrazione postcoloniale e gli impatti del colonialismo sulla nostra quotidianità.\nProgramma\nGiovedì 15 ottobre\, ore 17\,30-19\,30\nIl razzismo sottopelle. L’eredità coloniale nell’Italia repubblicana\na cura di Andrea Bui\ninterventi di\nValeria Deplano (Storie in Movimento – Università di Cagliari)\nAlessandro Pes (Storie in Movimento – Università di Cagliari)\nGiovedì 22 ottobre\, ore 17\,30-19\,30\nLe fotografie raccontano l’esperienza coloniale\na cura di Latino Taddei\ninterventi di\nCostantino Di Sante (Isml Ascoli Piceno)\nDomenico Vitale (Isrec Parma)\nMercoledì 28 ottobre\, ore 17\,30-19\,30\nRazza\, genere e colonialità\na cura di Anna Giulia Della Puppa\ninterventi di\nRachele Borghi (Università Sorbona – Parigi)\nAngelica Pesarini (New York University – Firenze)\nIgiaba Scego\, scrittrice\nGiovedì 5 novembre\, ore 17\,30-19\,30\nLa colonia e noi: le forme della narrazione postcoloniale oggi\na cura di Sofia Bacchini\ninterventi di\nGiulia Grechi (Accademia di Belle Arti – Napoli)\nWissal Houbabi\, scrittrice\nNicola Labanca (Istituto nazionale Ferruccio Parri – Università di Siena)\nTutti gli incontri si svolgeranno on-line sul canale youtube del Centro studi movimenti: https://www.youtube.com/channel/UC3W06a_FC2YSsi9602sldCw\na cura del Centro studi movimenti Parma\, Istituto nazionale Ferruccio Parri e Zapruder – Storie in movimento\ncon il contributo della Regione Emilia Romagna\nInfo: centrostudimovimenti@gmail.com
URL:https://www.cronachediordinariorazzismo.org/appuntamento/ti-portero-dallafrica-un-bel-fiore-convegno-di-studi-on-line/
LOCATION:Online
ATTACH;FMTTYPE=image/jpeg:https://www.cronachediordinariorazzismo.org/wp-content/uploads/120047620_3346257262135445_6588054237781406016_o.jpg
END:VEVENT
END:VCALENDAR