BEGIN:VCALENDAR
VERSION:2.0
PRODID:-//Cronache di ordinario razzismo - ECPv6.15.7//NONSGML v1.0//EN
CALSCALE:GREGORIAN
METHOD:PUBLISH
X-ORIGINAL-URL:https://www.cronachediordinariorazzismo.org
X-WR-CALDESC:Eventi per Cronache di ordinario razzismo
REFRESH-INTERVAL;VALUE=DURATION:PT1H
X-Robots-Tag:noindex
X-PUBLISHED-TTL:PT1H
BEGIN:VTIMEZONE
TZID:Europe/Rome
BEGIN:DAYLIGHT
TZOFFSETFROM:+0100
TZOFFSETTO:+0200
TZNAME:CEST
DTSTART:20190331T010000
END:DAYLIGHT
BEGIN:STANDARD
TZOFFSETFROM:+0200
TZOFFSETTO:+0100
TZNAME:CET
DTSTART:20191027T010000
END:STANDARD
BEGIN:DAYLIGHT
TZOFFSETFROM:+0100
TZOFFSETTO:+0200
TZNAME:CEST
DTSTART:20200329T010000
END:DAYLIGHT
BEGIN:STANDARD
TZOFFSETFROM:+0200
TZOFFSETTO:+0100
TZNAME:CET
DTSTART:20201025T010000
END:STANDARD
BEGIN:DAYLIGHT
TZOFFSETFROM:+0100
TZOFFSETTO:+0200
TZNAME:CEST
DTSTART:20210328T010000
END:DAYLIGHT
BEGIN:STANDARD
TZOFFSETFROM:+0200
TZOFFSETTO:+0100
TZNAME:CET
DTSTART:20211031T010000
END:STANDARD
END:VTIMEZONE
BEGIN:VEVENT
DTSTART;TZID=Europe/Rome:20201013T080000
DTEND;TZID=Europe/Rome:20201013T170000
DTSTAMP:20260422T112252
CREATED:20201006T063339Z
LAST-MODIFIED:20201006T063339Z
UID:69997-1602576000-1602608400@www.cronachediordinariorazzismo.org
SUMMARY:Fondazione ISMU lancia una campagna contro il razzismo nel Municipio 4 di Milano
DESCRIPTION:Combattere il razzismo e la discriminazione coinvolgendo le associazioni di quartiere e attivando processi di cittadinanza attiva a cui possano prendere parte direttamente gli abitanti. E’ questo l’obiettivo di “DIRITTIPER – Periferie attive contro l’odio\, il razzismo e le discriminazioni”\, il progetto realizzato da Fondazione ISMU grazie al contributo dell’Ufficio Nazionale Antidiscriminazioni Razziali (UNAR) e nato in occasione della XVI settimana d’azione contro il razzismo per sensibilizzare gli abitati del quartiere Molise/Calvairate di Milano nella lotta ai comportamenti discriminatori. \nI due quartieri del Municipio Milano 4 sono considerati\, per le loro condizioni strutturali e per la loro complessità sociale\, tra i più sensibili della città. Il progetto\, che coinvolge anche l’Associazione Luisa Berardi e O.d.v. Associazione Comitato Quartieri case popolari Calvairate-Molise-Ponti\, punta ad attivare direttamente i residenti\, soprattutto donne e giovani\, nell’organizzazione e implementazione delle iniziative antidiscriminatorie. \nIl programma delle attività prevede:\n1) L’organizzazione di 2 laboratori formativo/creativi che coinvolgeranno i giovani del quartiere. I laboratori verteranno sulla creazione di prodotti digitali audio-video e di testi sul tema del razzismo per favorire la diffusione dei contenuti antidiscriminatori. I laboratori\, che si terranno dal 13 al 28 ottobre\, saranno tenuti da esperti della Fondazione ISMU e da esperti nella produzione di materiali multimediali. \n2) Una campagna informativa rivolta alle potenziali vittime\, che prevede la preparazione e la distribuzione presso gli sportelli delle associazioni di quartiere di materiale informativo sugli strumenti di segnalazione e sugli organismi di tutela a difesa delle vittime. Verrà coinvolto lo sportello legale del Comitato Molise/Calvairate. \n3) La proiezione gratuita in programma il 25 ottobre alle 11.00 di un film presso il Cinemino\, con l’obiettivo di sensibilizzare gli abitanti sui temi antidiscriminatori. Per ulteriori dettagli sull’accesso alla sala (è necessaria la prenotazione) contattare l’Associazione Luisa Berardi e O.d.v. Associazione Comitato Quartieri case popolari Calvairate-Molise-Ponti. \n4) Un seminario-webinar in programma il 29 ottobre\, dalle 16 alle 18.30\, rivolto agli operatori dei servizi territoriali sul tema: “servizi nel sostegno ai gruppi di popolazione immigrata; l’adozione di buone prassi per prevenire e contrastare discriminazioni dirette/indirette\, istituzionali e sistemiche”.
URL:https://www.cronachediordinariorazzismo.org/appuntamento/fondazione-ismu-lancia-una-campagna-contro-il-razzismo-nel-municipio-4-di-milano/
LOCATION:quartiere Molise/Calvairate di Milano\, Milano
ATTACH;FMTTYPE=image/jpeg:https://www.cronachediordinariorazzismo.org/wp-content/uploads/fondazione-ismu-razzismo-milano.jpg
END:VEVENT
END:VCALENDAR