BEGIN:VCALENDAR
VERSION:2.0
PRODID:-//Cronache di ordinario razzismo - ECPv6.15.7//NONSGML v1.0//EN
CALSCALE:GREGORIAN
METHOD:PUBLISH
X-ORIGINAL-URL:https://www.cronachediordinariorazzismo.org
X-WR-CALDESC:Eventi per Cronache di ordinario razzismo
REFRESH-INTERVAL;VALUE=DURATION:PT1H
X-Robots-Tag:noindex
X-PUBLISHED-TTL:PT1H
BEGIN:VTIMEZONE
TZID:Europe/Rome
BEGIN:DAYLIGHT
TZOFFSETFROM:+0100
TZOFFSETTO:+0200
TZNAME:CEST
DTSTART:20190331T010000
END:DAYLIGHT
BEGIN:STANDARD
TZOFFSETFROM:+0200
TZOFFSETTO:+0100
TZNAME:CET
DTSTART:20191027T010000
END:STANDARD
BEGIN:DAYLIGHT
TZOFFSETFROM:+0100
TZOFFSETTO:+0200
TZNAME:CEST
DTSTART:20200329T010000
END:DAYLIGHT
BEGIN:STANDARD
TZOFFSETFROM:+0200
TZOFFSETTO:+0100
TZNAME:CET
DTSTART:20201025T010000
END:STANDARD
BEGIN:DAYLIGHT
TZOFFSETFROM:+0100
TZOFFSETTO:+0200
TZNAME:CEST
DTSTART:20210328T010000
END:DAYLIGHT
BEGIN:STANDARD
TZOFFSETFROM:+0200
TZOFFSETTO:+0100
TZNAME:CET
DTSTART:20211031T010000
END:STANDARD
END:VTIMEZONE
BEGIN:VEVENT
DTSTART;TZID=Europe/Rome:20200911T080000
DTEND;TZID=Europe/Rome:20200913T230000
DTSTAMP:20260424T204514
CREATED:20200908T073229Z
LAST-MODIFIED:20200908T073229Z
UID:69334-1599811200-1600038000@www.cronachediordinariorazzismo.org
SUMMARY:"Abba Cup" Festival Antirazzista || Decolonize the city
DESCRIPTION:L’Abba Cup – Festival Antirazzista giunge alla sua dodicesima edizione. Dall’11 al 13 settembre 2020 all’Arco della Pace\, a Parco Sempione. Qui di seguito il programma: \nPROGRAMMA DEL FESTIVAL:\nVENERDI 11 Settembre\nOre 18.00 al via la 12° edizione dell’ABBA CUP con aperitivo e musica lounge\nOre 19.30 spettacolo teatrale “La Ballata di Soumaila Sacko” con la Compagnia Woodstock Teatro\nOre 21.00 proiezione del film “BLACK PANTHER”\, diretto e co-scritto da Ryan Coogler con Chadwick Boseman\, Michael B. Jordan\, Lupita Nyong’o. \nSABATO 12 Settembre\nDalle 10.00 alle 11.00: riscaldamento muscolare mattutino\, a partecipazione libera.\nAlle 11.00: torneo di calcetto a 5\, allenamento aperto di touch rugby a cura della Stella Rossa Rugby\, campo libero di volley 3 vs 3\nDalle 15.00 per tutto il pomeriggio MILANO REGGAE SOUND X ABBA con Missin Red\, ZizzaPawaPosse\, General Palma Sound\, Good Vibes Sound\, Massi Lester\, Lion Pow.\nAlle 16.00: torneo di basket 3 vs 3\nAlle 18.00: dimostrazione e allenamento aperto di boxe popolare a cura della Palestra Popolare Hurricane\nAlle 19.00: premiazione delle squadre\, con il Comitato per non dimenticare Abba e per fermare il razzismo\nAlle 19:30 “DO THE RIGHT THING” laboratorio HipHop organizzato da Nomama Against Racism.\nDalle 21.00: HIP HOP meticcio e Afrobeat con: Big P\, Blackout\, King Calash\, Barry Black\, Vinkee\, Stoma\, EQUIPE54.\nEQUIPE54 6 ragazzi\, amici e colleghi\, con diverse origini del continente africano\,\nconfluiscono in un unico flow\, nuovo ed #AFROITALIANO.\nTommy Kuti\, F.U.L.A.\, Slim Gong\, Roy Raheem\, Yank Real e Yves (Prod e Direzione Artistica). \nDOMENICA 13 Settembre:\nDalle 10.00: torneo di calcio per bambine/i\nAlle 17.00: Install-azione artistica “Decolonize the city”\nAlle 18.00: incontro pubblico “Decolonize the world” con\n♦ Federico Rahola e Luca Queirolo\, autori di “Undergound Europe”\, Mimesis\, in uscita a Settembre 2020\n♦Michael Hardt\, Duke University\, autore di Impero\, Comune\, Moltitudine\, Assemblaggi (con Toni Negri)\n♦ Marie Moïse\, ricercatrice e redattrice di Jacobin Italia\nEquipaggi\, attivisti\, marinai e piloti della Flotta Civile:\n♦ Mediterranea Saving Humans\, in collegamento dalla Mare Ionio\n♦ Marta Bellingreri di Alarm Phone\n♦ Francesco Piobbichi di Mediterranean Hope \nL’Abba Cup è un festival autogestito e autofinanziato se vuoi contribuire con idee e proposte o dando una mano agli stand scrivi a abbavive@gmail.com\, con questa e-mail è possibile douna mano agli stand scrivi a abbavive@gmail.com\, con questa e-mail è possibile donare tramite PayPal e sostenere la realizzazione del Festival! Mostra meno
URL:https://www.cronachediordinariorazzismo.org/appuntamento/abba-cup-festival-antirazzista-decolonize-the-city/
LOCATION:parco Sempione\, Milano
ATTACH;FMTTYPE=image/jpeg:https://www.cronachediordinariorazzismo.org/wp-content/uploads/abba.jpg
END:VEVENT
END:VCALENDAR