BEGIN:VCALENDAR
VERSION:2.0
PRODID:-//Cronache di ordinario razzismo - ECPv6.15.7//NONSGML v1.0//EN
CALSCALE:GREGORIAN
METHOD:PUBLISH
X-ORIGINAL-URL:https://www.cronachediordinariorazzismo.org
X-WR-CALDESC:Eventi per Cronache di ordinario razzismo
REFRESH-INTERVAL;VALUE=DURATION:PT1H
X-Robots-Tag:noindex
X-PUBLISHED-TTL:PT1H
BEGIN:VTIMEZONE
TZID:Europe/Rome
BEGIN:DAYLIGHT
TZOFFSETFROM:+0100
TZOFFSETTO:+0200
TZNAME:CEST
DTSTART:20190331T010000
END:DAYLIGHT
BEGIN:STANDARD
TZOFFSETFROM:+0200
TZOFFSETTO:+0100
TZNAME:CET
DTSTART:20191027T010000
END:STANDARD
BEGIN:DAYLIGHT
TZOFFSETFROM:+0100
TZOFFSETTO:+0200
TZNAME:CEST
DTSTART:20200329T010000
END:DAYLIGHT
BEGIN:STANDARD
TZOFFSETFROM:+0200
TZOFFSETTO:+0100
TZNAME:CET
DTSTART:20201025T010000
END:STANDARD
BEGIN:DAYLIGHT
TZOFFSETFROM:+0100
TZOFFSETTO:+0200
TZNAME:CEST
DTSTART:20210328T010000
END:DAYLIGHT
BEGIN:STANDARD
TZOFFSETFROM:+0200
TZOFFSETTO:+0100
TZNAME:CET
DTSTART:20211031T010000
END:STANDARD
END:VTIMEZONE
BEGIN:VEVENT
DTSTART;TZID=Europe/Rome:20200615T203000
DTEND;TZID=Europe/Rome:20200615T230000
DTSTAMP:20260423T124903
CREATED:20200608T203220Z
LAST-MODIFIED:20200608T203220Z
UID:68236-1592253000-1592262000@www.cronachediordinariorazzismo.org
SUMMARY:Crisi libica tra politica e migrazioni
DESCRIPTION:CEFA organizza un momento d’incontro come ospiti di Bologna Estate\, il cartellone estivo promosso e coordinato dal Comune di Bologna all’interno della manifestazione “Dammi il tiro”.\nQuest’anno\, all’interno della splendida cornice della La Fattoria di Masaniello\,  si parlerà di Libia con l’intento di ricostruire l’importanza strategica rivestita dal paese senza perdere di vista lo scacchiere geopolitico mondiale. Attraverso testimonianze dal campo verrà presentato non solo un paese logorato dalla guerra civile ma uno scenario di guerra profondamente mutato\, segnato dalle potenze straniere in lizza\, dal crollo del petrolio sui mercati e dall’ingovernabilità. \nPartecipano:\nNello Scavo – Giornalista di Avvenire\nCard. Matteo Zuppi – Arcidiocesi Di Bologna\nFrancesca Mannocchi – Giornalista Freelance\nPaolo Chesani– Direttore Cefa- Il seme della solidarietà- Onlus\nMohamed Abdunaser – Cefa- Il seme della solidarietà- Onlus Libia\nAndrea Tolomelli – Responsabile progetti area Mediterraneo Cefa- Il seme della solidarietà- Onlus\nFlavio Lovisolo –Direttore Agenzia Italiana alla Cooperazione e Sviluppo Tunisia-Libia Aics Tunisia \nL’evento sarà trasmesso in diretta web sulla pagina ufficiale Facebook Cefa- Il seme della solidarietà- Onlus \nIn linea con la normativa nazionale La Fattoria di Masaniello potrà ospitare massimo 70 persone all’interno del locale per cui la prenotazione è obbligatoria. \nPer prenotazioni e cena chiamare il numero 0514128885
URL:https://www.cronachediordinariorazzismo.org/appuntamento/crisi-libica-tra-politica-e-migrazioni-2/
LOCATION:Bologna
ATTACH;FMTTYPE=image/jpeg:https://www.cronachediordinariorazzismo.org/wp-content/uploads/102712621_3286649761354429_6604941277773430784_o.jpg
END:VEVENT
END:VCALENDAR