BEGIN:VCALENDAR
VERSION:2.0
PRODID:-//Cronache di ordinario razzismo - ECPv6.15.7//NONSGML v1.0//EN
CALSCALE:GREGORIAN
METHOD:PUBLISH
X-ORIGINAL-URL:https://www.cronachediordinariorazzismo.org
X-WR-CALDESC:Eventi per Cronache di ordinario razzismo
REFRESH-INTERVAL;VALUE=DURATION:PT1H
X-Robots-Tag:noindex
X-PUBLISHED-TTL:PT1H
BEGIN:VTIMEZONE
TZID:Europe/Rome
BEGIN:DAYLIGHT
TZOFFSETFROM:+0100
TZOFFSETTO:+0200
TZNAME:CEST
DTSTART:20190331T010000
END:DAYLIGHT
BEGIN:STANDARD
TZOFFSETFROM:+0200
TZOFFSETTO:+0100
TZNAME:CET
DTSTART:20191027T010000
END:STANDARD
BEGIN:DAYLIGHT
TZOFFSETFROM:+0100
TZOFFSETTO:+0200
TZNAME:CEST
DTSTART:20200329T010000
END:DAYLIGHT
BEGIN:STANDARD
TZOFFSETFROM:+0200
TZOFFSETTO:+0100
TZNAME:CET
DTSTART:20201025T010000
END:STANDARD
BEGIN:DAYLIGHT
TZOFFSETFROM:+0100
TZOFFSETTO:+0200
TZNAME:CEST
DTSTART:20210328T010000
END:DAYLIGHT
BEGIN:STANDARD
TZOFFSETFROM:+0200
TZOFFSETTO:+0100
TZNAME:CET
DTSTART:20211031T010000
END:STANDARD
END:VTIMEZONE
BEGIN:VEVENT
DTSTART;TZID=Europe/Rome:20200114T080000
DTEND;TZID=Europe/Rome:20200114T130000
DTSTAMP:20260423T011827
CREATED:20200108T132743Z
LAST-MODIFIED:20200108T134041Z
UID:65946-1578988800-1579006800@www.cronachediordinariorazzismo.org
SUMMARY:“Dove restano le briciole”
DESCRIPTION:Martedì 14 gennaio\, ore 13.00\, presso la Sala stampa Camera dei Deputati\, in Via della Missione\, 4 a Roma\, verrà presentato il report di Associazione 21 luglio a due anni e mezzo dal Piano rom della città di Roma.\n«Possiamo annunciare in maniera molto netta che finalmente a Roma saranno superati i campi rom. Abbiamo approvato un Piano che consente di riportare Roma in Europa\, abbiamo appreso le migliori prassi che hanno funzionato e le portiamo a Roma per superare i campi». Era il 31 maggio 2017 quando la sindaca di Roma Virginia Raggi presentava con queste parole il “Piano di Indirizzo di Roma Capitale per l’inclusione delle Popolazioni Rom\, Sinti e Caminanti”. Il giorno dopo Beppe Grillo\, allora capo del Movimento 5 Stelle\, sul suo blog commentava il documento affermando: «Da adesso si iniziano a chiudere i campi rom. Per sempre. Un capolavoro da appalusi».A 30 mesi da quel giorno\, Associazione 21 luglio presenta il report “Dove restano le briciole” con l’obiettivo di restituire alla città di Roma un primo bilancio sull’operato dell’Amministrazione Comunale e sull’impatto del Piano rom.\nIl report nel rendere pubblici dati inediti\, numeri e incongruenze sui quattro assi intorno cui è strutturato il Piano rom quali: l’abitare\, l’occupazione\, la scolarizzazione e la salute\, svela anche come si va esprimendo la volontà dell’Amministrazione Capitolina di realizzare nuovi insediamenti monoetnici\, in contraddizione con quanto previsto dal Piano rom stesso.La “questione rom” – come riportato nel report – è stata gestita con un’azione definita “a imbuto” dove\, a fronte di importanti propositi\, ampiamente enfatizzati nel corso della presentazione del Piano rom\, gli stessi sono andati ridimensionandosi negli atti e nei bandi\, per poi ridursi sensibilmente nelle azioni svolte all’interno degli insediamenti con un impatto trascurabile se misurato alle intenzioni iniziali. Il “campo rom” ha finito così per diventare lo spazio “dove restano le briciole” di quanto annunciato e promesso il 31 maggio 2017. Trovano così una spiegazione: l’aumento delle presenze all’interno degli insediamenti informali del 66%; la contrazione dei minori iscritti alla scuola dell’obbligo del 56% in due anni; il mancato decollo dei progetti di inclusione lavorativa e scolastica. \nPresentano la ricerca Carlo Stasolla e Aurora Sordini di Associazione 21 luglio. Saluti di Riccardo Magi\, parlamentare. All’evento sono stati invitati ad intervenire presidenti dei gruppi consiliari di Roma Capitale.\n \nI giornalisti interessati sono pregati di accreditarsi scrivendo a stampa@21luglio.org oppure all’ufficio stampa della Camera: sg_ufficiostampa@camera.it. Si pregano i giornalisti che porteranno attrezzature tecniche di segnalarlo contestualmente alla richiesta di accredito indicando luogo e data di nascita.\nPer gli uomini è obbligatorio indossare la giacca. \nPer informazioni: stampa@21luglio.org
URL:https://www.cronachediordinariorazzismo.org/appuntamento/dove-restano-le-briciole/
LOCATION:Sala stampa Camera dei Deputati\, Roma
ATTACH;FMTTYPE=image/jpeg:https://www.cronachediordinariorazzismo.org/wp-content/uploads/unnamed-21.jpg
END:VEVENT
END:VCALENDAR