BEGIN:VCALENDAR
VERSION:2.0
PRODID:-//Cronache di ordinario razzismo - ECPv6.15.7//NONSGML v1.0//EN
CALSCALE:GREGORIAN
METHOD:PUBLISH
X-ORIGINAL-URL:https://www.cronachediordinariorazzismo.org
X-WR-CALDESC:Eventi per Cronache di ordinario razzismo
REFRESH-INTERVAL;VALUE=DURATION:PT1H
X-Robots-Tag:noindex
X-PUBLISHED-TTL:PT1H
BEGIN:VTIMEZONE
TZID:Europe/Rome
BEGIN:DAYLIGHT
TZOFFSETFROM:+0100
TZOFFSETTO:+0200
TZNAME:CEST
DTSTART:20180325T010000
END:DAYLIGHT
BEGIN:STANDARD
TZOFFSETFROM:+0200
TZOFFSETTO:+0100
TZNAME:CET
DTSTART:20181028T010000
END:STANDARD
BEGIN:DAYLIGHT
TZOFFSETFROM:+0100
TZOFFSETTO:+0200
TZNAME:CEST
DTSTART:20190331T010000
END:DAYLIGHT
BEGIN:STANDARD
TZOFFSETFROM:+0200
TZOFFSETTO:+0100
TZNAME:CET
DTSTART:20191027T010000
END:STANDARD
BEGIN:DAYLIGHT
TZOFFSETFROM:+0100
TZOFFSETTO:+0200
TZNAME:CEST
DTSTART:20200329T010000
END:DAYLIGHT
BEGIN:STANDARD
TZOFFSETFROM:+0200
TZOFFSETTO:+0100
TZNAME:CET
DTSTART:20201025T010000
END:STANDARD
END:VTIMEZONE
BEGIN:VEVENT
DTSTART;TZID=Europe/Rome:20191214T110000
DTEND;TZID=Europe/Rome:20191214T140000
DTSTAMP:20260420T020130
CREATED:20191212T111543Z
LAST-MODIFIED:20191212T111543Z
UID:65684-1576321200-1576332000@www.cronachediordinariorazzismo.org
SUMMARY:Presentazione ufficiale della Comunità Slow Food AfricaNA per l’integrazione dei migranti e lo sviluppo dei Paesi di origine
DESCRIPTION:Sabato 14 dicembre alle ore 11\,00 a Napoli presso Senaso\, spazio di socializzazione e hub per le tematiche legate all’immigrazione\, avrà luogo la presentazione ufficiale della Comunità Slow Food AfricaNA per l’integrazione dei migranti e lo sviluppo dei Paesi di origine. All’appuntamento\, che sarà concluso da un aperitivo italo-africano\, interverranno il Console generale del Senegal a Napoli\, Idrissa Sene; Laura Marmorale\, già Assessore ai Diritti di Cittadinanza del Comune di Napoli; Giacomo Miola\, Componente Comitato Esecutivo Regionale Slow Food Campania; il Fiduciario Slow Food Napoli\, Giosuè Silvestro; la Fiduciaria Slow Food Vesuvio\, Maria Lionelli; Ndemba Dieng\, referente della nascente Comunità e l’attivista Fatou Diako. \nEsattamente trent’anni fa Slow Food si costituiva a Parigi come associazione internazionale con l’obiettivo di difendere il diritto a un cibo buono\, pulito e giusto per tutti. Nel corso del suo ultimo Congresso internazionale svoltosi a Chengdu in Cina nel 2017 si è stabilito di dare vita a Comunità Slow Food in tutto il mondo per ampliare la diffusione degli obiettivi perseguiti dall’Associazione. Sempre a Chengdu si è altresì votata una mozione con cui Slow Food si impegna ad assumere azioni importanti a sostegno dell’Africa. Una prima importante risposta a questa mozione è proprio la nascita della Comunità AfricaNA. \nTra gli obiettivi della Comunità Slow Food AfricaNA vi sono la diffusione della conoscenza del cibo africano\, la creazione di un ristorante etnico gestito da donne italiane e africane\, favorire l’accesso alla terra e la creazione di orti in Italia ed Europa gestiti da immigrati\, studiare nuovi progetti insieme agli Europei per realizzare un modello di filiera alimentare ed estenderlo ai propri Paesi di origine\, creare progetti di scambio di conoscenze tra giovani europei ed africani\, sostenere i leader africani a introdurre e implementare progetti innovativi sull’agricoltura attraverso i quali promuovere\, la formazione\, la produzione\, la trasformazione e la distribuzione dei prodotti agroalimentari. \n\n\n 
URL:https://www.cronachediordinariorazzismo.org/appuntamento/presentazione-ufficiale-della-comunita-slow-food-africana-per-lintegrazione-dei-migranti-e-lo-sviluppo-dei-paesi-di-origine/
LOCATION:Senaso\, Napoli
ATTACH;FMTTYPE=image/jpeg:https://www.cronachediordinariorazzismo.org/wp-content/uploads/PHOTO-2019-09-17-17-48-45.jpg
END:VEVENT
END:VCALENDAR