BEGIN:VCALENDAR
VERSION:2.0
PRODID:-//Cronache di ordinario razzismo - ECPv6.15.7//NONSGML v1.0//EN
CALSCALE:GREGORIAN
METHOD:PUBLISH
X-ORIGINAL-URL:https://www.cronachediordinariorazzismo.org
X-WR-CALDESC:Eventi per Cronache di ordinario razzismo
REFRESH-INTERVAL;VALUE=DURATION:PT1H
X-Robots-Tag:noindex
X-PUBLISHED-TTL:PT1H
BEGIN:VTIMEZONE
TZID:Europe/Rome
BEGIN:DAYLIGHT
TZOFFSETFROM:+0100
TZOFFSETTO:+0200
TZNAME:CEST
DTSTART:20180325T010000
END:DAYLIGHT
BEGIN:STANDARD
TZOFFSETFROM:+0200
TZOFFSETTO:+0100
TZNAME:CET
DTSTART:20181028T010000
END:STANDARD
BEGIN:DAYLIGHT
TZOFFSETFROM:+0100
TZOFFSETTO:+0200
TZNAME:CEST
DTSTART:20190331T010000
END:DAYLIGHT
BEGIN:STANDARD
TZOFFSETFROM:+0200
TZOFFSETTO:+0100
TZNAME:CET
DTSTART:20191027T010000
END:STANDARD
BEGIN:DAYLIGHT
TZOFFSETFROM:+0100
TZOFFSETTO:+0200
TZNAME:CEST
DTSTART:20200329T010000
END:DAYLIGHT
BEGIN:STANDARD
TZOFFSETFROM:+0200
TZOFFSETTO:+0100
TZNAME:CET
DTSTART:20201025T010000
END:STANDARD
END:VTIMEZONE
BEGIN:VEVENT
DTSTART;TZID=Europe/Rome:20191017T150000
DTEND;TZID=Europe/Rome:20191017T183000
DTSTAMP:20260419T164642
CREATED:20190923T171107Z
LAST-MODIFIED:20190923T171107Z
UID:64559-1571324400-1571337000@www.cronachediordinariorazzismo.org
SUMMARY:Words4link | Scritture migranti per l’integrazione
DESCRIPTION:Giovedì 17 ottobre 2019\, dalle ore 15:00 alle 18:00\, presso il MACRO – Museo d’Arte Contemporanea Roma\, in via Nizza\, 138\, a Roma\, si terrà il convegno europeo di scambio buone pratiche “Words4link. Scritture migranti per l’integrazione”. “Words4link” è un progetto\, co-finanziato dal Fondo asilo migrazione e integrazione 2014 – 2020\, pensato per valorizzare la complessa produzione letteraria nota come “scrittura migrante”; per promuovere gli autori/rici di origine immigrata; diffondere le loro opere e valorizzare le specificità dei loro punti di vista.\nIl convegno europeo al MACRO Asilo è pensato come un momento di scambio e confronto su progetti e buone pratiche di scritture migranti\, finalizzato alla possibile individuazione di linee guida per la loro valorizzazione. Il progetto Words4link vede come capofila la cooperativa sociale Lai-momo Cooperativa Sociale e come partner IDOS – Centro Studi e Ricerche sull’immigrazione e l’Associazione Culturale Mediterraneo (ACM). Aderiscono al progetto la Biennale des Jeunes Créateurs de l’Europe et de la Méditerranée (BJCEM) e le associazioni Eks&Tra\, Razzismo Brutta Storia\, Le Réseau. \nIn apertura\, video screening de La ville ouverte\, a cura di Marco Trulli\, selezione di opere di giovani artisti sul paesaggio mediterraneo.\nA seguire\, i relatori e le relatrici converseranno sui seguenti temi:\n• Progetti e buone pratiche di scritture migranti\, tra narrativa\, teatro e poesia\n• Il contributo degli scrittori della migrazione al dialogo culturale dei Paesi di accoglienza\n• Confronto sull’individuazione di possibili linee guida per la valorizzazione delle scritture migranti \nIntroducono\n• Mercedes Giovinazzo\, Presidente BJCEM\n• Elisabetta Degli Esposti Merli\, Coordinatrice di progetto Lai-momo Cooperativa Sociale\nModerano\n• Sandra Federici\, Direttrice Africa e Mediterraneo\n• Roberta Sangiorgi\, Presidente Eks&Tra \nIntervengono i seguenti autori e autrici:\n• Hanan Kassab-Hassan\n• Mia Lecomte\n• Ingy Mubiayi\n• Walid Nabhan\n• Candelaria Romero \nAl termine dell’evento verrà offerto un aperitivo a buffet.\nÈ prevista la traduzione simultanea inglese/italiano. \nQui di seguito i prossimi appuntamenti del progetto:  \n8 novembre ore 16.00-19.00\nSala Conferenze della Biblioteca Salaborsa\, piazza Nettuno\, 3 – Bologna\n“Le scritture migranti e la rappresentazione dell’“altro” nell’immaginario collettivo” \n19 novembre ore 10.30-13.30\nSala Stampa Estera\, via dell’Umiltà\, 83 – Roma\n“Il ruolo (reale e potenziale) dei giornalisti con background migratorio nel dibattito pubblico italiano” \n10 dicembre\nPalermo\n“L’interazione tra l’Italia mediterranea e la produzione letteraria degli scrittori di origine straniera”. 
URL:https://www.cronachediordinariorazzismo.org/appuntamento/words4link-scritture-migranti-per-lintegrazione/
LOCATION:Macro Asilo\, Roma\, Italia
ATTACH;FMTTYPE=image/jpeg:https://www.cronachediordinariorazzismo.org/wp-content/uploads/70789554_2300693523390443_7288359695138422784_o.jpg
END:VEVENT
END:VCALENDAR