BEGIN:VCALENDAR
VERSION:2.0
PRODID:-//Cronache di ordinario razzismo - ECPv6.15.7//NONSGML v1.0//EN
CALSCALE:GREGORIAN
METHOD:PUBLISH
X-ORIGINAL-URL:https://www.cronachediordinariorazzismo.org
X-WR-CALDESC:Eventi per Cronache di ordinario razzismo
REFRESH-INTERVAL;VALUE=DURATION:PT1H
X-Robots-Tag:noindex
X-PUBLISHED-TTL:PT1H
BEGIN:VTIMEZONE
TZID:Europe/Rome
BEGIN:DAYLIGHT
TZOFFSETFROM:+0100
TZOFFSETTO:+0200
TZNAME:CEST
DTSTART:20180325T010000
END:DAYLIGHT
BEGIN:STANDARD
TZOFFSETFROM:+0200
TZOFFSETTO:+0100
TZNAME:CET
DTSTART:20181028T010000
END:STANDARD
BEGIN:DAYLIGHT
TZOFFSETFROM:+0100
TZOFFSETTO:+0200
TZNAME:CEST
DTSTART:20190331T010000
END:DAYLIGHT
BEGIN:STANDARD
TZOFFSETFROM:+0200
TZOFFSETTO:+0100
TZNAME:CET
DTSTART:20191027T010000
END:STANDARD
BEGIN:DAYLIGHT
TZOFFSETFROM:+0100
TZOFFSETTO:+0200
TZNAME:CEST
DTSTART:20200329T010000
END:DAYLIGHT
BEGIN:STANDARD
TZOFFSETFROM:+0200
TZOFFSETTO:+0100
TZNAME:CET
DTSTART:20201025T010000
END:STANDARD
END:VTIMEZONE
BEGIN:VEVENT
DTSTART;TZID=Europe/Rome:20190925T080000
DTEND;TZID=Europe/Rome:20190927T170000
DTSTAMP:20260420T033621
CREATED:20190903T080241Z
LAST-MODIFIED:20190903T081109Z
UID:64067-1569398400-1569603600@www.cronachediordinariorazzismo.org
SUMMARY:In autunno due nuovi appuntamenti formativi sul contrasto all’odio a Arezzo e Pisa
DESCRIPTION:Dopo il successo del corso di Firenze\, sono in arrivo altre due formazioni curate dal Cospe sul contrasto al discorso d’odio\, a Arezzo dal 25 al 27 settembre e a Pisa dal 7 al 9 ottobre. Gli appuntamenti formativi\, rivolti alle docenti delle scuole secondarie di primo e secondo grado\, mirano a fornire ai partecipanti idee\, approcci e strumenti adatti per affrontare questo fenomeno con i propri studenti\, attraverso spunti giuridici sul fenomeno\, un lavoro di sensibilizzazione sulle percezioni e sulla creazione di stereotipi\, l’approccio interculturale e il coinvolgimento attivo dei giovani. \nTra i relatori: Emanuela Nesci della Tavola della Pace e della Cooperazione\, che affronterà i meccanismi psico – sociali dello stereotipo\, del pregiudizio e della discriminazione\, Federico Oliveri del Centro Interdisciplinare Scienze per la Pace\, che farà un’introduzione al fenomeno e ai principi normativi esistenti\, Margherita Longo di COSPE che parlerà di un approccio interculturale ai discorsi d’odio e come costruire in modo partecipata i percorsi educativi. L’ultima giornata sarà dedicata agli interventi di esperti che da anni lavorano su questo tema\, come Beniamino Sidoti che farà una riflessione sulle strategie di comunicazione in rete per contrastare l’odio on line e che chiuderà la tre giorni. \nI corsi sono gratuiti e sono organizzati nell’ambito del progetto “Voci– Visioni e azioni intercOnnesse contro le intolleranze e il discorso d’odio”\, un progetto finanziato dalla Regione Toscana che coinvolge tredici realtà del territorio toscano tra ong\, associazioni culturali\, cooperative sociali e istituzioni locali\, in tre capoluoghi della regione (Firenze\, Pisa e Arezzo) e le città di Livorno e Pontedera. Il progetto mira a prevenire il discorso di odio online e offline attraverso formazione rivolta agli operatori delle organizzazioni coinvolte e una formazione specifica che coinvolga docenti e studenti\, perché è la scuola che si trova in prima linea di fronte al difficile compito di affrontare questo fenomeno. \nClicca qui per prendere visione del programma del corso di Arezzo e qui per le iscrizioni. \nClicca qui per prendere visione del programma del corso di Pisa e qui per le iscrizioni.
URL:https://www.cronachediordinariorazzismo.org/appuntamento/in-autunno-due-nuovi-appuntamenti-formativi-sul-contrasto-allodio-a-arezzo-e-pisa/
LOCATION:Doposcuola Ciak Arezzo\, Arezzo
ATTACH;FMTTYPE=image/jpeg:https://www.cronachediordinariorazzismo.org/wp-content/uploads/corsi_arezzo_pisa.jpg
END:VEVENT
BEGIN:VEVENT
DTSTART;TZID=Europe/Rome:20190926T080000
DTEND;TZID=Europe/Rome:20190927T170000
DTSTAMP:20260420T033621
CREATED:20190725T125314Z
LAST-MODIFIED:20190725T125314Z
UID:63801-1569484800-1569603600@www.cronachediordinariorazzismo.org
SUMMARY:“Si può fare!”\, il corso di formazione per amministratori pubblici sul superamento dei campi rom in Italia
DESCRIPTION:Associazione 21 luglio\, organizzazione indipendente impegnata nella tutela e nella promozione dei diritti di gruppi e individui che nelle città italiane vivono la segregazione e la discriminazione\, organizza “Si può fare!”\, un corso formativo volto ad offrire strumenti di approfondimento e di aggiornamento sul tema del superamento dei campi rom in Italia. \nDal 2000 l’Italia è denominata in Europa il “Paese dei campi”\, la nazione che più di tutte impiega ingenti risorse umane ed economiche per la progettazione\, la costruzione e la gestione di spazi di segregazione e marginalità\, denominati “campi nomadi”. Malgrado la Strategia Nazionale per l’inclusione dei rom\, raccomandi il loro superamento\, sono pochissime le Amministrazioni locali che negli ultimi anni hanno intrapreso questo virtuoso percorso\, incontrando spesso difficoltà e scontrandosi con problematiche talvolta giudicate insuperabili. La mancata conoscenza della questione in seno alla macchina amministrativa\, l’assenza di fondi adeguati\, le problematiche legate allo status giuridico o alla scolarizzazione\, hanno negli anni generato difficoltà ad individuare soluzioni vincenti e sostenibili nel tempo. \nIl corso è rivolto ad esponenti delle istituzioni regionali e locali\, dirigenti e funzionari pubblici\, personale di uffici comunali che perseguono in Italia l’obiettivo dell’inclusione delle comunità rom e sinte. E avrà luogo il 26 e 27 settembre 2019 a Roma al Polo ex Fienile di largo Mengaroni a Tor Bella Monaca. \n“Si può fare!” vuole offrire uno spazio di studio e di analisi del “sistema campi” e delle sue conseguenze\, offrendo altresì ai partecipanti la possibilità di approfondire\, con il contributo di esperti e professionisti in materia\, le principali problematiche e di analizzare soluzioni virtuose realizzate in altri contesti. \nModalità e requisiti per l’iscrizione\nIl corso è a numero chiuso\, per un massimo di 12 iscritti. L’iscrizione avverrà sulla base dell’ordine cronologico d’iscrizione. Il corso non sarà avviato se non verrà raggiunto il numero minimo di 8 iscritti. La data ultima per l’iscrizione è il 31 agosto 2019. Le iscrizioni potranno essere chiuse anticipatamente in caso di raggiungimento dei posti disponibili.\nL’iscrizione si perfeziona inviando l’apposito modulo di iscrizione on line\, compilato e corredato da un curriculum vitae. \n***\nQui è possibile accedere al programma del corso.
URL:https://www.cronachediordinariorazzismo.org/appuntamento/si-puo-fare-il-corso-di-formazione-per-amministratori-pubblici-sul-superamento-dei-campi-rom-in-italia/
LOCATION:Polo ex Fienile\, Roma
ATTACH;FMTTYPE=image/jpeg:https://www.cronachediordinariorazzismo.org/wp-content/uploads/copertinaFB_REV2-1030x579.jpg
END:VEVENT
BEGIN:VEVENT
DTSTART;TZID=Europe/Rome:20190927T100000
DTEND;TZID=Europe/Rome:20190927T133000
DTSTAMP:20260420T033621
CREATED:20190918T085513Z
LAST-MODIFIED:20190918T090812Z
UID:64423-1569578400-1569591000@www.cronachediordinariorazzismo.org
SUMMARY:Imprese di migranti a Napoli: una risorsa per la città\, un’opportunità di sistema
DESCRIPTION:Il 27 Settembre 2019\, dalle  10:00 alle 13:00\, a Napoli\, presso l’Università degli Studi di Napoli\, Palazzo Giusso\, Sala Riunioni\, Dipartimento di Scienze Umane\, 2° piano\, Largo San Giovanni Maggiore\, 30\, si terrà l’incontro\, organizzato dal Cespi\, sul tema dell’impresa a titolarità migrante a Napoli\, sulla base delle esperienze del Laboratorio Territoriale sull’Inclusione Finanziaria dei Migranti già sviluppate a Roma e Milano. Verranno condivisi i risultati di una recente ricerca sul tema curata dal CeSPI (grazie al sostegno di JPMorgan Chase Foundation): “Le imprese di migranti a Napoli”.\n\n\n\n\n\n\n\n\nL’impresa di migranti è un importante strumento e trampolino a sostegno di processi integrazione socio-economica e mobilità sociale nel tessuto locale\, tuttavia esistono ancora ambiti di debolezza e fragilità. \nSe ne discuterà con organizzazioni del terzo settore\, esperti\, enti pubblici e privati. \n\n\n\n\n\n\n\nPROGRAMMA\n\n\n\n\n 
URL:https://www.cronachediordinariorazzismo.org/appuntamento/imprese-di-migranti-a-napoli-una-risorsa-per-la-citta-unopportunita-di-sistema/
LOCATION:Università degli Studi di Napoli\, Palazzo Giusso\, Napoli
ATTACH;FMTTYPE=image/jpeg:https://www.cronachediordinariorazzismo.org/wp-content/uploads/https___cdn.evbuc_.com_images_71317441_212171060309_1_original.jpg
END:VEVENT
END:VCALENDAR