BEGIN:VCALENDAR
VERSION:2.0
PRODID:-//Cronache di ordinario razzismo - ECPv6.15.7//NONSGML v1.0//EN
CALSCALE:GREGORIAN
METHOD:PUBLISH
X-WR-CALNAME:Cronache di ordinario razzismo
X-ORIGINAL-URL:https://www.cronachediordinariorazzismo.org
X-WR-CALDESC:Eventi per Cronache di ordinario razzismo
REFRESH-INTERVAL;VALUE=DURATION:PT1H
X-Robots-Tag:noindex
X-PUBLISHED-TTL:PT1H
BEGIN:VTIMEZONE
TZID:Europe/Rome
BEGIN:DAYLIGHT
TZOFFSETFROM:+0100
TZOFFSETTO:+0200
TZNAME:CEST
DTSTART:20180325T010000
END:DAYLIGHT
BEGIN:STANDARD
TZOFFSETFROM:+0200
TZOFFSETTO:+0100
TZNAME:CET
DTSTART:20181028T010000
END:STANDARD
BEGIN:DAYLIGHT
TZOFFSETFROM:+0100
TZOFFSETTO:+0200
TZNAME:CEST
DTSTART:20190331T010000
END:DAYLIGHT
BEGIN:STANDARD
TZOFFSETFROM:+0200
TZOFFSETTO:+0100
TZNAME:CET
DTSTART:20191027T010000
END:STANDARD
BEGIN:DAYLIGHT
TZOFFSETFROM:+0100
TZOFFSETTO:+0200
TZNAME:CEST
DTSTART:20200329T010000
END:DAYLIGHT
BEGIN:STANDARD
TZOFFSETFROM:+0200
TZOFFSETTO:+0100
TZNAME:CET
DTSTART:20201025T010000
END:STANDARD
END:VTIMEZONE
BEGIN:VEVENT
DTSTART;TZID=Europe/Rome:20190712T180000
DTEND;TZID=Europe/Rome:20190712T230000
DTSTAMP:20260423T111825
CREATED:20190709T171230Z
LAST-MODIFIED:20190709T171230Z
UID:63428-1562954400-1562972400@www.cronachediordinariorazzismo.org
SUMMARY:Ti PORTO con me - Umanità dal Mondo
DESCRIPTION:“Ti PORTO con me – Umanità dal Mondo” è una serata estiva\, nei Giardini di Castel Sant’Angelo\, dedicata ad Arte e Solidarietà.\nArte e Solidarietà\, che si uniscono per creare bellezza ed allegria\, ma – soprattutto – per rilanciare un messaggio importante: “i diritti sono un bene prezioso per l’Umanità\, da difendere e tutelare…insieme”.  “Ti PORTO con me” è musica\, danza\, poesia e\, tante\, tante storie da condividere. Storie di coraggio e rinascita.\nL’evento è ospitato da “Letture d’Estate” ed è promosso dalla Rete locale per i diritti\, l’accoglienza e l’integrazione dei rifugiati e migranti\, che comprende varie organizzazioni non-profit attive sul territorio:\nAmnesty Lazio\, ASCS – Agenzia Scalabriniana per la Cooperazione allo Sviluppo\, Baobab Experience\, CivicoZero\, Comunità di Sant’Egidio\, EMERGENCY\, Gustamundo\, Ius & Nomos\, Libera Contro le Mafie\, Liberi Nantes\, Medici Senza Frontiere – Gruppo di Roma\, Piuculture\, Prime Italia\, Refugees Welcome Italia\, Rete Scuolemigranti \nAREA FOOD 17.00 – 23.00 – Ristorante multietnico Gustamundo | «Scopri il mondo mangiando solidale!»\nIl progetto Gustamundo nasce con l’idea di proporre l’integrazione sociale tramite l’arte culinaria. Gli Chef Gustamundo sono uomini e donne provenienti dalle zone piu’ disagiate del mondo\, che hanno saputo trasformare la loro tradizione gastronomica in un’attività professionale. Per questo evento\, proporranno alcune delle specialità multietniche che caratterizzano l’offerta del Ristorante Gustamundo.\nGustamundo ha ricevuto il “Certificato di Eccellenza 2019” di TripAdvisor! \nPROGRAMMA\n17.00 – 18.30:\nLettura animata + laboratorio creativo per i più piccoli (< 6 anni) sui diritti dei migranti\, rifugiati e richiedenti asilo.\nLaboratorio esperienziale per giovani (dai 13 anni) e adulti sui diritti dei migranti\, rifugiati e richiedenti asilo.\n“Le percussioni di CivicoZero” e “I rapper di CivicoZero“. \n18.30 – 19.00:\n“Storie di coraggio: viaggio e rinascita raccontati dalle voci dei migranti”. Sessione introdotta e moderata da Francesca Lagorio\, giornalista del TG3. \n19.10 – 19.30:\n“Lindy Hop Performance” (a cura di Spirit Of St. Louis Roma- Lindy Hop) \n19.30 – 19.50:\n“Storie di coraggio: viaggio e rinascita raccontati dalle voci dei migranti”. Sessione introdotta e moderata da Francesca Lagorio\, giornalista del TG3. \n19.50 – 20.20:\nIsmaila Mbaye\, “Canti e musiche dal Senegal”. \n20.20 – 21.20:\nReading di poesie (con violino)\nPaola Minaccioni\, Chiara de Bonis\, Daniele Paoloni\, Andrea Vasone\, ed altri attori interpreteranno le traduzioni dei testi scritti da ragazze e ragazzi migranti\, accompagnati da Manuel de Petris al violino. \n21.20 – 21.40: \nIncursioni di Bussoletti\, cantautore e speaker di Radio Rock. \n21.40 – 21.55\nConversazione con Dawood Yousefi (la sua storia ed il suo viaggio in Afghanistan) e presentazione del film “Sembra mio figlio” (proiezione trailer). \n21.55 – 22.15:\nVideomessaggio per gli ospiti di “Ti PORTO con me” da parte del dott. Pietro Bartolo di Lampedusa\, “Storie di coraggio: viaggio e rinascita raccontati dalla voce di chi accoglie”. \n22.15 (fino a chiusura):\nIncursioni di Filippo Gatti\, cantautore\n«Songs for two» ( Awa Ly – voce e Valerio Guaraldi – chitarra). \nIngresso nei Giardini di Castel S. Angelo\, lato Palazzaccio – Corte di Cassazione.\nGli eventi non si terranno in caso di pioggia\nwww.letturedestate.it
URL:https://www.cronachediordinariorazzismo.org/appuntamento/ti-porto-con-me-umanita-dal-mondo/
LOCATION:Giardini di Castel S. Angelo\, Roma
ATTACH;FMTTYPE=image/jpeg:https://www.cronachediordinariorazzismo.org/wp-content/uploads/64607819_191181311872040_8108191926001336320_o.jpg
END:VEVENT
BEGIN:VEVENT
DTSTART;TZID=Europe/Rome:20190712T210000
DTEND;TZID=Europe/Rome:20190712T233000
DTSTAMP:20260423T111825
CREATED:20190703T095908Z
LAST-MODIFIED:20190703T095908Z
UID:63365-1562965200-1562974200@www.cronachediordinariorazzismo.org
SUMMARY:Roberto Saviano ed Emanuele Crialese presentano "Terraferma"
DESCRIPTION:A sorpresa in Piazza San Cosimato\, a Roma\, venerdi 12 luglio\, i ragazzi del Cinema America‎ presentano una serata con Roberto Saviano ed Emanuele Crialese\, per parlare del tema dell’accoglienza\, della tolleranza e del confronto con l’altro\, in tempi in cui l’altro viene spesso dal mare. L’evento  stato realizzato con il sostegno Regione Lazio\, Osservatorio per la Sicurezza\, Ente Regionale RomaNatura\, Camera di Commercio di Roma\, Opera Pia IPAB Asilo Savoia\, Fondazione Terzo Pilastro – Internazionale e i main sponsor SIAE\, BNL BNP Paribas e Alitalia. Un ulteriore ringraziamento va a Roma Capitale per aver patrocinato la manifestazione. Verrà proiettato il film “Terraferma” di Emanuele Crialese\, uscito nel 2011 ma ancora attualissimo\, come dimostrano le vicende che hanno riempito le pagine dei giornali nelle scorse settimane. La proiezione inizia alle 21.15\nIngresso gratuito.\nQui il programma: Cinema sotto le stelle a San Cosimato \nQui l’evento Facebook \n\n\n 
URL:https://www.cronachediordinariorazzismo.org/appuntamento/roberto-saviano-ed-emanuele-crialese-presentano-terraferma/
LOCATION:Piazza San Cosimato\, Roma
ATTACH;FMTTYPE=image/jpeg:https://www.cronachediordinariorazzismo.org/wp-content/uploads/66279307_1311366862351117_3600888464863657984_o.jpg
END:VEVENT
BEGIN:VEVENT
DTSTART;TZID=Europe/Rome:20190712T213000
DTEND;TZID=Europe/Rome:20190714T213000
DTSTAMP:20260423T111825
CREATED:20190702T082428Z
LAST-MODIFIED:20190702T082428Z
UID:63338-1562967000-1563139800@www.cronachediordinariorazzismo.org
SUMMARY:Marcia "Restiamo Umani" a Torino
DESCRIPTION:Giovedì 20 giugno 2019\, Giornata Mondiale del Rifugiato\, è partita da Trento la Marcia “Restiamo Umani”\, ideata e promossa dall’attivista per i diritti umani e camminatore per la pace John Mpaliza. Questa marcia\, che nasce come protesta nonviolenta e proposta di resistenza attiva contro il clima di paura e di odio che stiamo vivendo nel nostro Paese\, arriverà a Torino venerdì 12 luglio. Molte associazioni della società civile hanno aderito e parteciperanno alle iniziative di questo weekend estivo. \nProgramma: \n\nVenerdì 12 luglio ore 20.45 presso Centro Studi Sereno Regis\, via Garibaldi 13\, Torino\nProiezione del film documentario “Iuventa”\, che narra le vicende dell’omonima nave\, tedesca\, tra quelle erano schierate nel Mediterraneo. Con la straordinaria partecipazione del regista Michele Cinque.\nSabato 13 luglio ore 14.30 ritrovo presso Ufficio Pastorale Migranti\, via Cottolengo 24\, Torino\nCamminata “Restiamo umani” per le vie della città: tante associazioni della società civile coinvolte\, cinque tappe che ci porteranno a conoscere la storia e l’impegno attuale di tante persone che\, a Torino\, hanno fatto e stanno facendo tanto per la pace\, la nonviolenza\, l’inclusione sociale\, l’accoglienza dei migranti\, l’educazione alla differenze\, la convivenza. Storie\, incontri\, musica\, balli\, buon cibo per divertirsi\, conoscere e approfondire insieme toccando i punti più significativi della città “migrante”.\nPercorso:\n– Via Cottolengo 24: PARTENZA – Camminare come gesto di resistenza\, pace e giustizia contro l’odio e le discriminazioni\n– Via Garibaldi 13: in marcia per i diritti umani\, la nonviolenza e la disobbedienza civile\n– Galleria Umberto I: in marcia per l’intercultura e l’apertura agli altri\n– Sermig: ARRIVO – Una festa di accoglienza e convivialità tra i popoli\nDomenica 14 luglio ore 9.00 partenza della marcia “Restiamo umani” da Piazza Montale (quartiere Vallette)\, accompagnando a piedi John verso la tappa successiva: Ciriè. Dopo aver toccato quasi tutta l’Italia\, si concluderà 4 mesi dopo\, domenica 20 ottobre in Piazza San Pietro a Roma.\nLa tappa di Torino vede la collaborazione delle seguenti realtà territoriali: ACMOS\, A San Mauro Restando Umani\, ASAI\, Associazione Arteria\, Camminare Insieme\, Carovane Migranti\, Centro Studi Sereno Regis\, CISV\, Gruppo Abele\, L’Italia che resiste\, Missio Torino\, Peace Walking Man Foundation\, Opinione sinistra\, Refugees Welcome Italia\, Rete Radié Resch Rete Welcoming Asti\, Sermig Arsenale della pace\, Triciclo Associazione\, Ufficio Pastorale Migranti\, Viaggi Solidali – Migrantour\, Yepp Porta Palazzo. \n> Per adesioni alla tappa torinese: Sara Colombo CISV\, tel. 0118993823\, info@cisvto.org \n> Per info generali: John Mpaliza\, marciarestiamoumani@gmail.com
URL:https://www.cronachediordinariorazzismo.org/appuntamento/marcia-restiamo-umani-a-torino/
LOCATION:Torino
ATTACH;FMTTYPE=image/jpeg:https://www.cronachediordinariorazzismo.org/wp-content/uploads/64640492_10219533082907441_3749807230262706176_o.jpg
END:VEVENT
END:VCALENDAR