BEGIN:VCALENDAR
VERSION:2.0
PRODID:-//Cronache di ordinario razzismo - ECPv6.15.7//NONSGML v1.0//EN
CALSCALE:GREGORIAN
METHOD:PUBLISH
X-WR-CALNAME:Cronache di ordinario razzismo
X-ORIGINAL-URL:https://www.cronachediordinariorazzismo.org
X-WR-CALDESC:Eventi per Cronache di ordinario razzismo
REFRESH-INTERVAL;VALUE=DURATION:PT1H
X-Robots-Tag:noindex
X-PUBLISHED-TTL:PT1H
BEGIN:VTIMEZONE
TZID:Europe/Rome
BEGIN:DAYLIGHT
TZOFFSETFROM:+0100
TZOFFSETTO:+0200
TZNAME:CEST
DTSTART:20180325T010000
END:DAYLIGHT
BEGIN:STANDARD
TZOFFSETFROM:+0200
TZOFFSETTO:+0100
TZNAME:CET
DTSTART:20181028T010000
END:STANDARD
BEGIN:DAYLIGHT
TZOFFSETFROM:+0100
TZOFFSETTO:+0200
TZNAME:CEST
DTSTART:20190331T010000
END:DAYLIGHT
BEGIN:STANDARD
TZOFFSETFROM:+0200
TZOFFSETTO:+0100
TZNAME:CET
DTSTART:20191027T010000
END:STANDARD
BEGIN:DAYLIGHT
TZOFFSETFROM:+0100
TZOFFSETTO:+0200
TZNAME:CEST
DTSTART:20200329T010000
END:DAYLIGHT
BEGIN:STANDARD
TZOFFSETFROM:+0200
TZOFFSETTO:+0100
TZNAME:CET
DTSTART:20201025T010000
END:STANDARD
END:VTIMEZONE
BEGIN:VEVENT
DTSTART;TZID=Europe/Rome:20190707T200000
DTEND;TZID=Europe/Rome:20190707T223000
DTSTAMP:20260425T230803
CREATED:20190704T204833Z
LAST-MODIFIED:20190704T204833Z
UID:63401-1562529600-1562538600@www.cronachediordinariorazzismo.org
SUMMARY:No al Decreto Sicurezza Bis! Mobilitazione Permanente - Atto III
DESCRIPTION:A seguito delle 5 giornate consecutive di mobilitazione permanente\, promosse dalla Rete Restiamo Umani per la liberazione dei 42 migranti tratti in salvo dalla Sea Watch 3 e per la liberazione della Comandante Carola Rackete\, viene rivolto un appello a tutt* coloro che non si arrendono a una realtà fatta di divieti\, minacce di stupro e continue violenze\, mancanza di libertà e di diritti. Si invita tutta la società civile\, le singole persone\, le associazioni\, le realtà sociali e le reti\, le forze politiche e sindacali della città a partecipare alla consueta assemblea pubblica di domenica 7 luglio alle ore 20 a piazza dell’Esquilino\, per immaginare e costruire insieme un’opposizione larga al Decreto Sicurezza Bis.\nLunedì 15 Luglio\, infatti\, entrerà in discussione alla Camera dei Deputati questo provvedimento autoritario che limita fortemente le libertà democratiche nel nostro Paese condannando con pene assurde chiunque pratichi solidarietà\, chiunque manifesti per i propri diritti e chiunque provi ad esprimere il proprio dissenso nei confronti del governo Lega-5Stelle. Se le politiche razziste e reazionarie del governo sembrano opprimerci\, noi ci riprendiamo tutto lo spazio che ci serve\, liberando una piazza\, ri-conoscendoci e scambiandoci idee e proposte.\nCarola ci ha insegnato che se una legge è ingiusta\, disobbedire è un dovere\, per questo è necessario costruire tutt* insieme nuove pratiche di disobbedienza civile\, di solidarietà e di liberazione di spazi e tempi per tutt*. \nRete Restiamo Umani\nreterestiamoumani@gmail.com\nFB @ReteRestiamoUmani
URL:https://www.cronachediordinariorazzismo.org/appuntamento/no-al-decreto-sicurezza-bis-mobilitazione-permanente-atto-iii/
LOCATION:Piazza dell’Esquilino\, Roma
ATTACH;FMTTYPE=image/jpeg:https://www.cronachediordinariorazzismo.org/wp-content/uploads/65311286_392276018061831_3348091547429109760_o.jpg
END:VEVENT
END:VCALENDAR