BEGIN:VCALENDAR
VERSION:2.0
PRODID:-//Cronache di ordinario razzismo - ECPv6.15.7//NONSGML v1.0//EN
CALSCALE:GREGORIAN
METHOD:PUBLISH
X-ORIGINAL-URL:https://www.cronachediordinariorazzismo.org
X-WR-CALDESC:Eventi per Cronache di ordinario razzismo
REFRESH-INTERVAL;VALUE=DURATION:PT1H
X-Robots-Tag:noindex
X-PUBLISHED-TTL:PT1H
BEGIN:VTIMEZONE
TZID:Europe/Rome
BEGIN:DAYLIGHT
TZOFFSETFROM:+0100
TZOFFSETTO:+0200
TZNAME:CEST
DTSTART:20180325T010000
END:DAYLIGHT
BEGIN:STANDARD
TZOFFSETFROM:+0200
TZOFFSETTO:+0100
TZNAME:CET
DTSTART:20181028T010000
END:STANDARD
BEGIN:DAYLIGHT
TZOFFSETFROM:+0100
TZOFFSETTO:+0200
TZNAME:CEST
DTSTART:20190331T010000
END:DAYLIGHT
BEGIN:STANDARD
TZOFFSETFROM:+0200
TZOFFSETTO:+0100
TZNAME:CET
DTSTART:20191027T010000
END:STANDARD
BEGIN:DAYLIGHT
TZOFFSETFROM:+0100
TZOFFSETTO:+0200
TZNAME:CEST
DTSTART:20200329T010000
END:DAYLIGHT
BEGIN:STANDARD
TZOFFSETFROM:+0200
TZOFFSETTO:+0100
TZNAME:CET
DTSTART:20201025T010000
END:STANDARD
END:VTIMEZONE
BEGIN:VEVENT
DTSTART;TZID=Europe/Rome:20190607T090000
DTEND;TZID=Europe/Rome:20190619T190000
DTSTAMP:20260420T063114
CREATED:20190604T160916Z
LAST-MODIFIED:20190618T135636Z
UID:62915-1559898000-1560970800@www.cronachediordinariorazzismo.org
SUMMARY:Roma non si ferma!
DESCRIPTION:Il percorso Sei1dinoi\, nato lo scorso autunno\, lanciando un appello che ha unito centinaia di persone\, organizza una festa che si terrà dal 7 al 23 giugno\, presso il parco del Caravaggio a Roma\, con lo scopo di analizzare e criticare i diversi settori d’intervento che hanno caratterizzato il percorso stesso\, già dalla manifestazione del 1 dicembre 2018: dalle lotta alla povertà e alle disuguaglianze sociali\, economiche ed ambientali\, al diritto all’abitare\, passando per il sostegno all’accoglienza ai migranti\, alla cooperazione sociale\, alla lotta al lavoro povero e precario\, senza mai dimenticare la lotta a tutte le mafie. Di questo e altro parleremo alla nostra festa\, individuando proposte e piattaforme rivendicative da far vivere durante il prossimo autunno\, nei confronti del Comune di Roma e della Regione Lazio\, per provare a modificare lo stato di cose attuale e alimentare una vera e propria opposizione sociale. In particolare\, segnaliamo l’evento dell’11 giugno\, ore 19\, “RIGENERAZIONE PER UN FUTURO POSSIBILE: PER UNA NUOVA COMUNITÀ\, APERTA\, ACCOGLIENTE E FONDATA SULLA GIUSTIZIA SOCIALE”. \nTra gli altri interverranno durante la festa: Don Luigi Ciotti\, Maurizio Landini e Carla Nespolo. \nQui il programma (in aggiornamento) \nPer info vai sul sito www.sei1dinoi.org
URL:https://www.cronachediordinariorazzismo.org/appuntamento/roma-non-si-ferma-sei-1-di-noi/
LOCATION:Parco del Caravaggio\, Roma
ATTACH;FMTTYPE=image/jpeg:https://www.cronachediordinariorazzismo.org/wp-content/uploads/60319233_824519627924852_2806116071092781056_n.jpg
END:VEVENT
BEGIN:VEVENT
DTSTART;TZID=Europe/Rome:20190607T173000
DTEND;TZID=Europe/Rome:20190619T213000
DTSTAMP:20260420T063114
CREATED:20190606T101556Z
LAST-MODIFIED:20190606T103248Z
UID:62969-1559928600-1560979800@www.cronachediordinariorazzismo.org
SUMMARY:Ai confini del rifugio. 3 incontri per ripensare migrazione e asilo
DESCRIPTION:Nel mese di giugno lo Sportello Migranti e Antidiscriminazione Arci Ms vi invita alla rassegna “Ai confini del rifugio” . Tre incontri per ripensare la migrazione\, l’asilo e ciò che sopravvive oltre l’accoglienza\, alla luce di un presente sempre più difficile e ostile. Tre incontri per approfondire tre macro-temi (lavoro\, integrazione e asilo)\, per dotarsi di nuovi strumenti per pensare e per organizzare una risposta comunitaria forte ed inclusiva\, contro ogni forma di discriminazione ed emarginazione.\nGli incontri saranno guidati da esperti e studiosi del settore\, con libri\, ricerche e statistiche:\n\n\nIL LAVORO è SPARITO…SIAMO SICURI CHE QUALCUNO LO ABBIA RUBATO? con Federico Oliveri\, centro interdisciplinare scienze per la pace – Università di Pisa\, e con CGIL Ms\, venerdì 7 giugno h 17.30\, camera del lavoro Carrara.\nIL SOGNO DELL’INTEGRAZIONE GENERA MOSTRI\, con Giuseppe Faso\, ass. Straniamenti\, tra gli autori de “I confini dell’esclusione\, mercoledì 12 giugno h 18 Biblioteca civica di Carrara.\nIl DIRITTO DI ASILO. LA STORIA LA SITUAZIONE ATTUALE\, con Sergio Bontempelli\, autore di “Un rifugio precario. Breve storia del diritto di asilo in Europa”\, mercoledì 19 giugno h 18 Parco della Rinchiostra Massa\, in collaborazione con MurAperte.\n\n\nTutte le iniziative sono organizzate in collaborazione con l’ Accademia Apuana Della Pace. 
URL:https://www.cronachediordinariorazzismo.org/appuntamento/ai-confini-del-rifugio-3-incontri-per-ripensare-migrazione-e-asilo/
LOCATION:Massa Carrara
ATTACH;FMTTYPE=image/jpeg:https://www.cronachediordinariorazzismo.org/wp-content/uploads/ai-confini-del-rifugio.jpg
END:VEVENT
END:VCALENDAR