BEGIN:VCALENDAR
VERSION:2.0
PRODID:-//Cronache di ordinario razzismo - ECPv6.15.7//NONSGML v1.0//EN
CALSCALE:GREGORIAN
METHOD:PUBLISH
X-ORIGINAL-URL:https://www.cronachediordinariorazzismo.org
X-WR-CALDESC:Eventi per Cronache di ordinario razzismo
REFRESH-INTERVAL;VALUE=DURATION:PT1H
X-Robots-Tag:noindex
X-PUBLISHED-TTL:PT1H
BEGIN:VTIMEZONE
TZID:Europe/Rome
BEGIN:DAYLIGHT
TZOFFSETFROM:+0100
TZOFFSETTO:+0200
TZNAME:CEST
DTSTART:20180325T010000
END:DAYLIGHT
BEGIN:STANDARD
TZOFFSETFROM:+0200
TZOFFSETTO:+0100
TZNAME:CET
DTSTART:20181028T010000
END:STANDARD
BEGIN:DAYLIGHT
TZOFFSETFROM:+0100
TZOFFSETTO:+0200
TZNAME:CEST
DTSTART:20190331T010000
END:DAYLIGHT
BEGIN:STANDARD
TZOFFSETFROM:+0200
TZOFFSETTO:+0100
TZNAME:CET
DTSTART:20191027T010000
END:STANDARD
BEGIN:DAYLIGHT
TZOFFSETFROM:+0100
TZOFFSETTO:+0200
TZNAME:CEST
DTSTART:20200329T010000
END:DAYLIGHT
BEGIN:STANDARD
TZOFFSETFROM:+0200
TZOFFSETTO:+0100
TZNAME:CET
DTSTART:20201025T010000
END:STANDARD
END:VTIMEZONE
BEGIN:VEVENT
DTSTART;TZID=Europe/Rome:20190604T090000
DTEND;TZID=Europe/Rome:20190606T170000
DTSTAMP:20260420T134219
CREATED:20190523T093853Z
LAST-MODIFIED:20190523T093853Z
UID:62537-1559638800-1559840400@www.cronachediordinariorazzismo.org
SUMMARY:Giornate di studio sul razzismo
DESCRIPTION:L’idea guida delle Giornate di studio sul razzismo è mostrare l’impegno della comunità accademica dell’Università del Salento nei confronti di un fenomeno che\, a causa di ignoranza e paura\, sta dilagando e che è possibile combattere solo attraverso la conoscenza e la cultura. Il seminario si rivolge a tutta la cittadinanza e\, in particolare\, agli Studenti. Ha natura eminentemente scientifica e intende sottrarsi a ogni forma di riduzione e semplificazione politica\, con l’obiettivo di offrire ad ogni Studente gli strumenti intellettuali che gli permettano di formarsi un giudizio critico autonomo\, di comprendere il fenomeno del razzismo e di contrastarlo con le armi della ragione e della scienza. La finalità generale è l’analisi scientifica\, condotta in maniera prismatica e interdisciplinare\, dell’idea di razza e delle nuove forme di razzismo\, passate e attuali\, esplicite o mimetiche. Chiunque comunicherà la propria partecipazione prima del 4 giugno 2019 (via email\, a fabio.ciraci@unisalento.it) potrà richiedere un attestato digitale di partecipazione\, ad esclusione dei docenti che si iscriveranno su piattaforma MIUR SOFIA (Iniziativa formativa ID.29332)\, perché verrà loro rilasciato direttamente dal sito del ministero.\nLa frequenza di tutte le giornate attribuisce CFU per i corsi di laurea in Filosofia\, Lettere\, Comunicazione\, Sociologia\, Psicologia e Scienze Politiche.
URL:https://www.cronachediordinariorazzismo.org/appuntamento/giornate-di-studio-sul-razzismo/
LOCATION:Università del Salento\, Studium 2000 II Piano stanza n. 6\, Lecce\, Italia
ATTACH;FMTTYPE=image/jpeg:https://www.cronachediordinariorazzismo.org/wp-content/uploads/60351339_2190877211033080_3195798200455790592_o.jpg
END:VEVENT
END:VCALENDAR