BEGIN:VCALENDAR
VERSION:2.0
PRODID:-//Cronache di ordinario razzismo - ECPv6.15.7//NONSGML v1.0//EN
CALSCALE:GREGORIAN
METHOD:PUBLISH
X-ORIGINAL-URL:https://www.cronachediordinariorazzismo.org
X-WR-CALDESC:Eventi per Cronache di ordinario razzismo
REFRESH-INTERVAL;VALUE=DURATION:PT1H
X-Robots-Tag:noindex
X-PUBLISHED-TTL:PT1H
BEGIN:VTIMEZONE
TZID:Europe/Rome
BEGIN:DAYLIGHT
TZOFFSETFROM:+0100
TZOFFSETTO:+0200
TZNAME:CEST
DTSTART:20180325T010000
END:DAYLIGHT
BEGIN:STANDARD
TZOFFSETFROM:+0200
TZOFFSETTO:+0100
TZNAME:CET
DTSTART:20181028T010000
END:STANDARD
BEGIN:DAYLIGHT
TZOFFSETFROM:+0100
TZOFFSETTO:+0200
TZNAME:CEST
DTSTART:20190331T010000
END:DAYLIGHT
BEGIN:STANDARD
TZOFFSETFROM:+0200
TZOFFSETTO:+0100
TZNAME:CET
DTSTART:20191027T010000
END:STANDARD
BEGIN:DAYLIGHT
TZOFFSETFROM:+0100
TZOFFSETTO:+0200
TZNAME:CEST
DTSTART:20200329T010000
END:DAYLIGHT
BEGIN:STANDARD
TZOFFSETFROM:+0200
TZOFFSETTO:+0100
TZNAME:CET
DTSTART:20201025T010000
END:STANDARD
END:VTIMEZONE
BEGIN:VEVENT
DTSTART;TZID=Europe/Rome:20190518T143000
DTEND;TZID=Europe/Rome:20190518T180000
DTSTAMP:20260419T211648
CREATED:20190515T142713Z
LAST-MODIFIED:20190515T142713Z
UID:62353-1558189800-1558202400@www.cronachediordinariorazzismo.org
SUMMARY:PONTI tra Senegal e Italia
DESCRIPTION:Sabato 18 maggio\, dalle ore 14:30 alle 17:30\, presso il Convitto Palmieri\, in Piazzetta Carducci a Lecce\, si terrà il dibattito tra operatori ed esperti della cooperazione e del volontariato internazionale\, docenti universitari\, ingegneri e professionisti\, organizzato da Arcs Culture Solidali nell’ambito del Festival Sabir. L’evento sarà l’occasione per raccontare le attività già realizzate attraverso il progetto PONTI: un ricco partenariato\, formato da 20 ONG italiane e internazionali\, associazioni delle diaspore\, organizzazioni di base e istituzioni locali\, cooperative e GIE impegnato nella promozione dell’occupazione delle donne e delle giovani generazioni e la valorizzazione del ruolo delle diaspore nella promozione dello sviluppo nei Paesi d’origine. \nIl racconto sarà accompagnato da una mostra fotografica dal titolo “Costruire Resilienza” realizzata dal fotografo Giulio Di Meo\, visitabile gratuitamente per tutta la durata del Festival proprio presso l’Ex Convitto Palmieri a Lecce. Un momento specifico infine sarà dedicato infine al workshop Migrazione e cooperazione internazionale. \nDisponibile traduzione in italiano\, francese e inglese.
URL:https://www.cronachediordinariorazzismo.org/appuntamento/ponti-tra-senegal-e-italia/
LOCATION:Convitto Palmieri\, Piazzetta Carducci \, Lecce\, Italia
ATTACH;FMTTYPE=image/jpeg:https://www.cronachediordinariorazzismo.org/wp-content/uploads/59356717_1178575472301929_4076726414118748160_o.jpg
END:VEVENT
END:VCALENDAR