BEGIN:VCALENDAR
VERSION:2.0
PRODID:-//Cronache di ordinario razzismo - ECPv6.15.7//NONSGML v1.0//EN
CALSCALE:GREGORIAN
METHOD:PUBLISH
X-ORIGINAL-URL:https://www.cronachediordinariorazzismo.org
X-WR-CALDESC:Eventi per Cronache di ordinario razzismo
REFRESH-INTERVAL;VALUE=DURATION:PT1H
X-Robots-Tag:noindex
X-PUBLISHED-TTL:PT1H
BEGIN:VTIMEZONE
TZID:Europe/Rome
BEGIN:DAYLIGHT
TZOFFSETFROM:+0100
TZOFFSETTO:+0200
TZNAME:CEST
DTSTART:20180325T010000
END:DAYLIGHT
BEGIN:STANDARD
TZOFFSETFROM:+0200
TZOFFSETTO:+0100
TZNAME:CET
DTSTART:20181028T010000
END:STANDARD
BEGIN:DAYLIGHT
TZOFFSETFROM:+0100
TZOFFSETTO:+0200
TZNAME:CEST
DTSTART:20190331T010000
END:DAYLIGHT
BEGIN:STANDARD
TZOFFSETFROM:+0200
TZOFFSETTO:+0100
TZNAME:CET
DTSTART:20191027T010000
END:STANDARD
BEGIN:DAYLIGHT
TZOFFSETFROM:+0100
TZOFFSETTO:+0200
TZNAME:CEST
DTSTART:20200329T010000
END:DAYLIGHT
BEGIN:STANDARD
TZOFFSETFROM:+0200
TZOFFSETTO:+0100
TZNAME:CET
DTSTART:20201025T010000
END:STANDARD
END:VTIMEZONE
BEGIN:VEVENT
DTSTART;TZID=Europe/Rome:20190508T093000
DTEND;TZID=Europe/Rome:20190510T170000
DTSTAMP:20260419T182015
CREATED:20190411T073756Z
LAST-MODIFIED:20190411T073756Z
UID:61590-1557307800-1557507600@www.cronachediordinariorazzismo.org
SUMMARY:Il c.d decreto Legge Salvini: prime interpretazioni giurisprudenziali e prassi applicative
DESCRIPTION:Da mercoledì 8 Maggio 2019 a venerdì 10 Maggio 2019 (24 ore di lezione in aula)\, presso la Città dell’Altra Economia\, in Largo Dino Frisullo a Roma\, Asgi organizza un corso intensivo per operatori legali ed avvocati specializzati in protezione internazionale sulle prime interpretazioni giurisprudenziali e prassi applicative a seguito dell’entrata in vigore della legge 132/2018 (c.d.Decreto Legge Salvini). La durata complessiva sarà dunque di 3 giorni\, per 8 ore quotidiane\, con inizio alle 9.30 e fine alle 18.30. Il percorso formativo mira ad approfondire le principali novità normative introdotte dal c.d. Decreto legge Salvini 113/2018 (convertito con la l. 132/2018) in tema di protezione internazionale e le correlative prime applicazioni amministrative e giurisprudenziali. Il corso intende adottare una metodologia improntata su una comunicazione non formale e altamente partecipativa\, con un largo spazio dedicato all’esame dei casi pratici più emblematici e delle problematiche di maggiore interesse.\nTutte le lezioni saranno svolte in co-docenza.
URL:https://www.cronachediordinariorazzismo.org/appuntamento/il-c-d-decreto-legge-salvini-prime-interpretazioni-giurisprudenziali-e-prassi-applicative/
LOCATION:Città dell’Altra Economia\, Largo Dino Frisullo\, Roma\, Italia
ATTACH;FMTTYPE=image/jpeg:https://www.cronachediordinariorazzismo.org/wp-content/uploads/europa-immigrazione.jpg
END:VEVENT
BEGIN:VEVENT
DTSTART;TZID=Europe/Rome:20190509T160000
DTEND;TZID=Europe/Rome:20190509T180000
DTSTAMP:20260419T182015
CREATED:20190506T112818Z
LAST-MODIFIED:20190506T124638Z
UID:61930-1557417600-1557424800@www.cronachediordinariorazzismo.org
SUMMARY:Legge di cittadinanza. Marcia dei diritti 9 maggio a Roma
DESCRIPTION:Il movimento ‘Attivismo\, italiani di origine diversa\, discriminazioni‘ – a cui aderiscono immigrati\, figli di migranti nati in Italia e italiani – annuncia per il 9 maggio\, dalle ore 16 alle 18\, presso Palazzo Montecitorio a Roma\, una marcia dei diritti\, a cui seguiranno fino al 2 giugno una serie di iniziative che riportino in Parlamento il tema della riforma dello Ius Culturae. Come scrivono gli organizzatori in una nota\, attraverso manifestazioni\, flashmob\, dibattiti\, cineforum e interviste\, si vuole costruire un percorso che per venti giorni riporti il tema della cittadinanza al centro dell’attenzione. \nCoordinamento per orari\, info\, percorso o mail di adesione: marcia9maggio@gmail.com
URL:https://www.cronachediordinariorazzismo.org/appuntamento/legge-di-cittadinanza-marcia-dei-diritti-9-maggio-roma/
LOCATION:Palazzo di Montecitorio\, Roma\, Italia
ATTACH;FMTTYPE=image/jpeg:https://www.cronachediordinariorazzismo.org/wp-content/uploads/57577059_2205128702875732_4200372093004546048_o.jpg
END:VEVENT
END:VCALENDAR