BEGIN:VCALENDAR
VERSION:2.0
PRODID:-//Cronache di ordinario razzismo - ECPv6.15.7//NONSGML v1.0//EN
CALSCALE:GREGORIAN
METHOD:PUBLISH
X-ORIGINAL-URL:https://www.cronachediordinariorazzismo.org
X-WR-CALDESC:Eventi per Cronache di ordinario razzismo
REFRESH-INTERVAL;VALUE=DURATION:PT1H
X-Robots-Tag:noindex
X-PUBLISHED-TTL:PT1H
BEGIN:VTIMEZONE
TZID:Europe/Rome
BEGIN:DAYLIGHT
TZOFFSETFROM:+0100
TZOFFSETTO:+0200
TZNAME:CEST
DTSTART:20180325T010000
END:DAYLIGHT
BEGIN:STANDARD
TZOFFSETFROM:+0200
TZOFFSETTO:+0100
TZNAME:CET
DTSTART:20181028T010000
END:STANDARD
BEGIN:DAYLIGHT
TZOFFSETFROM:+0100
TZOFFSETTO:+0200
TZNAME:CEST
DTSTART:20190331T010000
END:DAYLIGHT
BEGIN:STANDARD
TZOFFSETFROM:+0200
TZOFFSETTO:+0100
TZNAME:CET
DTSTART:20191027T010000
END:STANDARD
BEGIN:DAYLIGHT
TZOFFSETFROM:+0100
TZOFFSETTO:+0200
TZNAME:CEST
DTSTART:20200329T010000
END:DAYLIGHT
BEGIN:STANDARD
TZOFFSETFROM:+0200
TZOFFSETTO:+0100
TZNAME:CET
DTSTART:20201025T010000
END:STANDARD
END:VTIMEZONE
BEGIN:VEVENT
DTSTART;TZID=Europe/Rome:20190318T150000
DTEND;TZID=Europe/Rome:20190324T170000
DTSTAMP:20260423T121648
CREATED:20190318T095742Z
LAST-MODIFIED:20190318T125612Z
UID:60736-1552921200-1553446800@www.cronachediordinariorazzismo.org
SUMMARY:Settimana di azione contro il razzismo
DESCRIPTION:Come ogni anno\, in occasione della “Giornata mondiale per l’eliminazione delle discriminazioni razziali” che si celebra il 21 marzo\, l’Ufficio Nazionale Antidiscriminazioni Razziali (UNAR) promuove la “Settimana di azione contro il razzismo”\, campagna di sensibilizzazione e animazione territoriale giunta alla sua quindicesima edizione\, in programma dal 18 al 24 marzo 2019.\nQui il calendario degli eventi a Roma \nQui la locandina
URL:https://www.cronachediordinariorazzismo.org/appuntamento/settimana-di-azione-contro-il-razzismo/
LOCATION:Palazzo Chigi\, Piazza Colonna 370\, Roma\, Italia
END:VEVENT
BEGIN:VEVENT
DTSTART;TZID=Europe/Rome:20190321T200000
DTEND;TZID=Europe/Rome:20190321T220000
DTSTAMP:20260423T121648
CREATED:20190318T130044Z
LAST-MODIFIED:20190318T131233Z
UID:60744-1553198400-1553205600@www.cronachediordinariorazzismo.org
SUMMARY:Immigrazione\, criminalità\, carcere
DESCRIPTION:Un incontro pubblico di informazione e riflessione sulla (non) correlazione tra immigrazione e criminalità per sfatare luoghi comuni e restituire una fotografia reale dell’esistente. \nQui il programma
URL:https://www.cronachediordinariorazzismo.org/appuntamento/immigrazione-criminalita-carcere/
LOCATION:Naga Onlus\, Via Zamenhof 7A\, Milano\, Italia
END:VEVENT
END:VCALENDAR